BEGIN:VCALENDAR
VERSION:2.0
PRODID:-//English Springer Spaniel Field Trials - ECPv6.15.20//NONSGML v1.0//EN
CALSCALE:GREGORIAN
METHOD:PUBLISH
X-WR-CALNAME:English Springer Spaniel Field Trials
X-ORIGINAL-URL:https://essft.com
X-WR-CALDESC:Events for English Springer Spaniel Field Trials
REFRESH-INTERVAL;VALUE=DURATION:PT1H
X-Robots-Tag:noindex
X-PUBLISHED-TTL:PT1H
BEGIN:VTIMEZONE
TZID:America/Chicago
BEGIN:DAYLIGHT
TZOFFSETFROM:-0600
TZOFFSETTO:-0500
TZNAME:CDT
DTSTART:20150308T080000
END:DAYLIGHT
BEGIN:STANDARD
TZOFFSETFROM:-0500
TZOFFSETTO:-0600
TZNAME:CST
DTSTART:20151101T070000
END:STANDARD
BEGIN:DAYLIGHT
TZOFFSETFROM:-0600
TZOFFSETTO:-0500
TZNAME:CDT
DTSTART:20160313T080000
END:DAYLIGHT
BEGIN:STANDARD
TZOFFSETFROM:-0500
TZOFFSETTO:-0600
TZNAME:CST
DTSTART:20161106T070000
END:STANDARD
BEGIN:DAYLIGHT
TZOFFSETFROM:-0600
TZOFFSETTO:-0500
TZNAME:CDT
DTSTART:20170312T080000
END:DAYLIGHT
BEGIN:STANDARD
TZOFFSETFROM:-0500
TZOFFSETTO:-0600
TZNAME:CST
DTSTART:20171105T070000
END:STANDARD
END:VTIMEZONE
BEGIN:VEVENT
DTSTART;TZID=America/Chicago:20160924T000000
DTEND;TZID=America/Chicago:20160925T000000
DTSTAMP:20260424T034602
CREATED:20250611T053738Z
LAST-MODIFIED:20250611T053738Z
UID:10009370-1474675200-1474761600@essft.com
SUMMARY:NE Wisconsin SC
DESCRIPTION:Judges- Joe Coady\, Steve Beyer \nApprentice- Josh Davis
URL:https://essft.com/event/ne-wisconsin-sc/
CATEGORIES:Field Trials - Mid West
END:VEVENT
BEGIN:VEVENT
DTSTART;TZID=America/Chicago:20160924T000000
DTEND;TZID=America/Chicago:20160925T000000
DTSTAMP:20260424T034602
CREATED:20250611T053738Z
LAST-MODIFIED:20250611T053738Z
UID:10009371-1474675200-1474761600@essft.com
SUMMARY:Pittsburgh ESSFTC
DESCRIPTION:Judges- Bob Iversen\, Terry Sworsky
URL:https://essft.com/event/pittsburgh-essftc-2/
CATEGORIES:Field Trials - Mid East
END:VEVENT
BEGIN:VEVENT
DTSTART;TZID=America/Chicago:20160924T000000
DTEND;TZID=America/Chicago:20160925T000000
DTSTAMP:20260424T034602
CREATED:20250611T053738Z
LAST-MODIFIED:20250611T053738Z
UID:10009369-1474675200-1474761600@essft.com
SUMMARY:N Dakota SSC
DESCRIPTION:Judges- Tom Radde\, Kevin Rutherford
URL:https://essft.com/event/n-dakota-ssc/
CATEGORIES:Field Trials - Rocky Mountain
END:VEVENT
BEGIN:VEVENT
DTSTART;TZID=America/Chicago:20160923T000000
DTEND;TZID=America/Chicago:20160923T000000
DTSTAMP:20260424T034602
CREATED:20250611T053738Z
LAST-MODIFIED:20250611T053738Z
UID:10009368-1474588800-1474588800@essft.com
SUMMARY:North Dakota SSC
DESCRIPTION:Judges- Bill Boeckman\, Skip Smith
URL:https://essft.com/event/north-dakota-ssc-3/
CATEGORIES:Field Trials - Rocky Mountain
END:VEVENT
BEGIN:VEVENT
DTSTART;TZID=America/Chicago:20160917T000000
DTEND;TZID=America/Chicago:20160918T000000
DTSTAMP:20260424T034602
CREATED:20250611T053738Z
LAST-MODIFIED:20250611T053738Z
UID:10009367-1474070400-1474156800@essft.com
SUMMARY:Patriot SSC Alternating Stakes
DESCRIPTION:Judges- Cathy Lewis\, Piere Asselin
URL:https://essft.com/event/patriot-ssc-alternating-stakes/
CATEGORIES:Field Trials - East
END:VEVENT
BEGIN:VEVENT
DTSTART;TZID=America/Chicago:20160917T000000
DTEND;TZID=America/Chicago:20160918T000000
DTSTAMP:20260424T034602
CREATED:20250611T053554Z
LAST-MODIFIED:20250611T053554Z
UID:10009365-1474070400-1474156800@essft.com
SUMMARY:Tilden Valley ESSC
DESCRIPTION:Judges- Jerry Barrett\, Bill McCaffrey
URL:https://essft.com/event/tilden-valley-essc-2/
CATEGORIES:Field Trials - Mid West
END:VEVENT
BEGIN:VEVENT
DTSTART;TZID=America/Chicago:20160917T000000
DTEND;TZID=America/Chicago:20160918T000000
DTSTAMP:20260424T034602
CREATED:20250611T053554Z
LAST-MODIFIED:20250611T053554Z
UID:10009366-1474070400-1474156800@essft.com
SUMMARY:Susquehanna Valley ESSC
DESCRIPTION:Judges- Bob Child\, Curtis Watson
URL:https://essft.com/event/susquehanna-valley-essc-2/
CATEGORIES:Field Trials - Mid East
END:VEVENT
BEGIN:VEVENT
DTSTART;TZID=America/Chicago:20160916T000000
DTEND;TZID=America/Chicago:20160916T000000
DTSTAMP:20260424T034602
CREATED:20250611T053554Z
LAST-MODIFIED:20250611T053554Z
UID:10009364-1473984000-1473984000@essft.com
SUMMARY:Central VA ESSC
DESCRIPTION:Judges- Vern Knapp\, Aaron Wendel
URL:https://essft.com/event/central-va-essc/
CATEGORIES:Field Trials - East
END:VEVENT
BEGIN:VEVENT
DTSTART;TZID=America/Chicago:20160910T000000
DTEND;TZID=America/Chicago:20160911T000000
DTSTAMP:20260424T034602
CREATED:20250611T053554Z
LAST-MODIFIED:20250611T053554Z
UID:10009362-1473465600-1473552000@essft.com
SUMMARY:Maine SFTC
DESCRIPTION:Judges- John Halpin\, Bob MacDonald
URL:https://essft.com/event/maine-sftc-2/
CATEGORIES:Field Trials - East
END:VEVENT
BEGIN:VEVENT
DTSTART;TZID=America/Chicago:20160910T000000
DTEND;TZID=America/Chicago:20160911T000000
DTSTAMP:20260424T034602
CREATED:20250611T053554Z
LAST-MODIFIED:20250611T053554Z
UID:10009363-1473465600-1473552000@essft.com
SUMMARY:Eastern Slopes Spaniel Association
DESCRIPTION:Sep 10- Amateur All Age and Puppy \nSep 11- Open All Age and Puppy
URL:https://essft.com/event/eastern-slopes-spaniel-association/
CATEGORIES:Canadian FT
END:VEVENT
BEGIN:VEVENT
DTSTART;TZID=America/Chicago:20160910T000000
DTEND;TZID=America/Chicago:20160911T000000
DTSTAMP:20260424T034602
CREATED:20250611T053539Z
LAST-MODIFIED:20250611T053539Z
UID:10009359-1473465600-1473552000@essft.com
SUMMARY:SSC of Central Kansas Water Test
DESCRIPTION:
URL:https://essft.com/event/ssc-of-central-kansas-water-test/
CATEGORIES:Field Trials - Rocky Mountain
END:VEVENT
BEGIN:VEVENT
DTSTART;TZID=America/Chicago:20160910T000000
DTEND;TZID=America/Chicago:20160911T000000
DTSTAMP:20260424T034602
CREATED:20250611T053539Z
LAST-MODIFIED:20250611T053539Z
UID:10009360-1473465600-1473552000@essft.com
SUMMARY:N Minnesota ESSC
DESCRIPTION:Judges- Jeff Johnson\, John Meyer \nApprentice- John Smith
URL:https://essft.com/event/n-minnesota-essc/
CATEGORIES:Field Trials - Mid West
END:VEVENT
BEGIN:VEVENT
DTSTART;TZID=America/Chicago:20160910T000000
DTEND;TZID=America/Chicago:20160911T000000
DTSTAMP:20260424T034602
CREATED:20250611T053539Z
LAST-MODIFIED:20250611T053539Z
UID:10009361-1473465600-1473552000@essft.com
SUMMARY:Spaniel Association of Western New York
DESCRIPTION:Judges- Charles Urland\, John Bruggeman
URL:https://essft.com/event/spaniel-association-of-western-new-york/
CATEGORIES:Field Trials - Mid East
END:VEVENT
BEGIN:VEVENT
DTSTART;TZID=America/Chicago:20160909T000000
DTEND;TZID=America/Chicago:20160910T000000
DTSTAMP:20260424T034602
CREATED:20250611T053539Z
LAST-MODIFIED:20250611T053539Z
UID:10009358-1473379200-1473465600@essft.com
SUMMARY:Timpanogos HSC
DESCRIPTION:Judges- Kathy Nestor\, Steve Gorrell
URL:https://essft.com/event/timpanogos-hsc-3/
CATEGORIES:Field Trials - West
END:VEVENT
BEGIN:VEVENT
DTSTART;TZID=America/Chicago:20160901T000000
DTEND;TZID=America/Chicago:20160903T000000
DTSTAMP:20260424T034602
CREATED:20250611T053539Z
LAST-MODIFIED:20250611T053539Z
UID:10009357-1472688000-1472860800@essft.com
SUMMARY:Prairie Spaniel Club
DESCRIPTION:2016 Amateur and Puppy \nSep 1-Judges- Mark Hairfield\, Tim Bashforth \n2016 Open and Puppy \nSep 2-Judges- Mark Hairfield\, Renee Shannon \n2016 Open and Puppy \nSep 3- Judges-Mark Hairfield\, Greg Johnson
URL:https://essft.com/event/prairie-spaniel-club/
CATEGORIES:Canadian FT
END:VEVENT
BEGIN:VEVENT
DTSTART;TZID=America/Chicago:20160827T000000
DTEND;TZID=America/Chicago:20160828T000000
DTSTAMP:20260424T034602
CREATED:20250611T053357Z
LAST-MODIFIED:20250611T053357Z
UID:10009356-1472256000-1472342400@essft.com
SUMMARY:Central Connecticut SC
DESCRIPTION:Judges- Jim Cappelli\, Justin Smith
URL:https://essft.com/event/central-connecticut-sc-2/
CATEGORIES:Field Trials - East
END:VEVENT
BEGIN:VEVENT
DTSTART;TZID=America/Chicago:20160820T000000
DTEND;TZID=America/Chicago:20160820T000000
DTSTAMP:20260424T034602
CREATED:20250611T053357Z
LAST-MODIFIED:20250611T053357Z
UID:10009355-1471651200-1471651200@essft.com
SUMMARY:St. Croix Valley Spaniel Club
DESCRIPTION:Gunning Seminar and Mock Trial
URL:https://essft.com/event/st-croix-valley-spaniel-club-2/
CATEGORIES:Field Trials - Mid West
END:VEVENT
BEGIN:VEVENT
DTSTART;TZID=America/Chicago:20160819T000000
DTEND;TZID=America/Chicago:20160819T000000
DTSTAMP:20260424T034602
CREATED:20250611T053357Z
LAST-MODIFIED:20250611T053357Z
UID:10009354-1471564800-1471564800@essft.com
SUMMARY:Fox Valley Field Trial
DESCRIPTION:Judging seminar with Tom Meyer\, Paul McGagh\, Jason Givens
URL:https://essft.com/event/fox-valley-field-trial/
CATEGORIES:Field Trials - Mid West
END:VEVENT
BEGIN:VEVENT
DTSTART;TZID=America/Chicago:20160813T000000
DTEND;TZID=America/Chicago:20160814T000000
DTSTAMP:20260424T034602
CREATED:20250611T053357Z
LAST-MODIFIED:20250611T053357Z
UID:10009352-1471046400-1471132800@essft.com
SUMMARY:Stillwater Valley ESS Club
DESCRIPTION:Mock Trial\, Water Test
URL:https://essft.com/event/stillwater-valley-ess-club-2/
CATEGORIES:Field Trials - Mid East
END:VEVENT
BEGIN:VEVENT
DTSTART;TZID=America/Chicago:20160813T000000
DTEND;TZID=America/Chicago:20160814T000000
DTSTAMP:20260424T034602
CREATED:20250611T053357Z
LAST-MODIFIED:20250611T053357Z
UID:10009353-1471046400-1471132800@essft.com
SUMMARY:Southern Tier Water Test
DESCRIPTION:
URL:https://essft.com/event/southern-tier-water-test/
CATEGORIES:Field Trials - East
END:VEVENT
BEGIN:VEVENT
DTSTART;TZID=America/Chicago:20160813T000000
DTEND;TZID=America/Chicago:20160814T000000
DTSTAMP:20260424T034602
CREATED:20250611T053158Z
LAST-MODIFIED:20250611T154817Z
UID:10009351-1471046400-1471132800@essft.com
SUMMARY:ESSC of Central States
DESCRIPTION:Water Test\, Premium Water Test\, Training Bird Pricing
URL:https://essft.com/event/essc-of-central-states/
CATEGORIES:Field Trials - Mid West
END:VEVENT
BEGIN:VEVENT
DTSTART;TZID=America/Chicago:20160618T000000
DTEND;TZID=America/Chicago:20160619T000000
DTSTAMP:20260424T034602
CREATED:20250611T053158Z
LAST-MODIFIED:20250611T154816Z
UID:10009349-1466208000-1466294400@essft.com
SUMMARY:Central Ontario SC- Amateur All Age
DESCRIPTION:
URL:https://essft.com/event/central-ontario-sc-amateur-all-age/
CATEGORIES:Canadian FT
END:VEVENT
BEGIN:VEVENT
DTSTART;TZID=America/Chicago:20160618T000000
DTEND;TZID=America/Chicago:20160619T000000
DTSTAMP:20260424T034602
CREATED:20250611T053158Z
LAST-MODIFIED:20250611T154817Z
UID:10009350-1466208000-1466294400@essft.com
SUMMARY:Easton Slopes SA- All Age and Puppy
DESCRIPTION:jun 18- All Age and Puppy \njun 19- Open\, All Age and Puppy
URL:https://essft.com/event/easton-slopes-sa-all-age-and-puppy/
CATEGORIES:Canadian FT
END:VEVENT
BEGIN:VEVENT
DTSTART;TZID=America/Chicago:20160611T000000
DTEND;TZID=America/Chicago:20160612T000000
DTSTAMP:20260424T034602
CREATED:20250611T053158Z
LAST-MODIFIED:20250611T154816Z
UID:10009347-1465603200-1465689600@essft.com
SUMMARY:Central Maine SC
DESCRIPTION:Judges- Paul McGagh\, Richard Whelan
URL:https://essft.com/event/central-maine-sc/
CATEGORIES:Field Trials - East
END:VEVENT
BEGIN:VEVENT
DTSTART;TZID=America/Chicago:20160611T000000
DTEND;TZID=America/Chicago:20160612T000000
DTSTAMP:20260424T034602
CREATED:20250611T053158Z
LAST-MODIFIED:20250611T154816Z
UID:10009348-1465603200-1465689600@essft.com
SUMMARY:Sudbury Ontario
DESCRIPTION:Judges- Bill Cosgrove\, Bill McCaffrey\, Mike Noland\, Gary Wilson\, Cindy Goode-Wilson
URL:https://essft.com/event/sudbury-ontario/
CATEGORIES:Canadian FT
END:VEVENT
BEGIN:VEVENT
DTSTART;TZID=America/Chicago:20160604T000000
DTEND;TZID=America/Chicago:20160605T000000
DTSTAMP:20260424T034602
CREATED:20250611T052957Z
LAST-MODIFIED:20250611T154617Z
UID:10009346-1464998400-1465084800@essft.com
SUMMARY:Club de CHiens de Chasse de Quebec
DESCRIPTION:Judges- Paul Van Houten\, John Filler\, Pierre Asselin\, Daniel Beriemont\, Denis Samson
URL:https://essft.com/event/club-de-chiens-de-chasse-de-quebec/
CATEGORIES:Canadian FT
END:VEVENT
BEGIN:VEVENT
DTSTART;TZID=America/Chicago:20160521T000000
DTEND;TZID=America/Chicago:20160522T000000
DTSTAMP:20260424T034602
CREATED:20250611T052957Z
LAST-MODIFIED:20250611T154616Z
UID:10009343-1463788800-1463875200@essft.com
SUMMARY:Todd Agnew Spaniel Training Clinic
DESCRIPTION:
URL:https://essft.com/event/todd-agnew-spaniel-training-clinic/
CATEGORIES:Field Trials - Mid East
END:VEVENT
BEGIN:VEVENT
DTSTART;TZID=America/Chicago:20160521T000000
DTEND;TZID=America/Chicago:20160522T000000
DTSTAMP:20260424T034602
CREATED:20250611T052957Z
LAST-MODIFIED:20250611T154617Z
UID:10009344-1463788800-1463875200@essft.com
SUMMARY:Central Connecticut SC
DESCRIPTION:Canceled
URL:https://essft.com/event/central-connecticut-sc/
CATEGORIES:Field Trials - East
END:VEVENT
BEGIN:VEVENT
DTSTART;TZID=America/Chicago:20160521T000000
DTEND;TZID=America/Chicago:20160522T000000
DTSTAMP:20260424T034602
CREATED:20250611T052957Z
LAST-MODIFIED:20250611T154617Z
UID:10009345-1463788800-1463875200@essft.com
SUMMARY:Central Ontario SC- Open All Age
DESCRIPTION:
URL:https://essft.com/event/central-ontario-sc-open-all-age/
CATEGORIES:Canadian FT
END:VEVENT
BEGIN:VEVENT
DTSTART;TZID=America/Chicago:20160515T000000
DTEND;TZID=America/Chicago:20160515T000000
DTSTAMP:20260424T034602
CREATED:20250611T052956Z
LAST-MODIFIED:20250611T154616Z
UID:10009342-1463270400-1463270400@essft.com
SUMMARY:Pittsburgh Water Test
DESCRIPTION:
URL:https://essft.com/event/pittsburgh-water-test/
CATEGORIES:Field Trials - Mid East
END:VEVENT
END:VCALENDAR