BEGIN:VCALENDAR
VERSION:2.0
PRODID:-//English Springer Spaniel Field Trials - ECPv6.15.20//NONSGML v1.0//EN
CALSCALE:GREGORIAN
METHOD:PUBLISH
X-WR-CALNAME:English Springer Spaniel Field Trials
X-ORIGINAL-URL:https://essft.com
X-WR-CALDESC:Events for English Springer Spaniel Field Trials
REFRESH-INTERVAL;VALUE=DURATION:PT1H
X-Robots-Tag:noindex
X-PUBLISHED-TTL:PT1H
BEGIN:VTIMEZONE
TZID:America/Chicago
BEGIN:DAYLIGHT
TZOFFSETFROM:-0600
TZOFFSETTO:-0500
TZNAME:CDT
DTSTART:20150308T080000
END:DAYLIGHT
BEGIN:STANDARD
TZOFFSETFROM:-0500
TZOFFSETTO:-0600
TZNAME:CST
DTSTART:20151101T070000
END:STANDARD
BEGIN:DAYLIGHT
TZOFFSETFROM:-0600
TZOFFSETTO:-0500
TZNAME:CDT
DTSTART:20160313T080000
END:DAYLIGHT
BEGIN:STANDARD
TZOFFSETFROM:-0500
TZOFFSETTO:-0600
TZNAME:CST
DTSTART:20161106T070000
END:STANDARD
BEGIN:DAYLIGHT
TZOFFSETFROM:-0600
TZOFFSETTO:-0500
TZNAME:CDT
DTSTART:20170312T080000
END:DAYLIGHT
BEGIN:STANDARD
TZOFFSETFROM:-0500
TZOFFSETTO:-0600
TZNAME:CST
DTSTART:20171105T070000
END:STANDARD
END:VTIMEZONE
BEGIN:VEVENT
DTSTART;TZID=America/Chicago:20160820T000000
DTEND;TZID=America/Chicago:20160820T000000
DTSTAMP:20260424T084904
CREATED:20250611T053357Z
LAST-MODIFIED:20250611T053357Z
UID:10009355-1471651200-1471651200@essft.com
SUMMARY:St. Croix Valley Spaniel Club
DESCRIPTION:Gunning Seminar and Mock Trial
URL:https://essft.com/event/st-croix-valley-spaniel-club-2/
CATEGORIES:Field Trials - Mid West
END:VEVENT
BEGIN:VEVENT
DTSTART;TZID=America/Chicago:20160819T000000
DTEND;TZID=America/Chicago:20160819T000000
DTSTAMP:20260424T084904
CREATED:20250611T053357Z
LAST-MODIFIED:20250611T053357Z
UID:10009354-1471564800-1471564800@essft.com
SUMMARY:Fox Valley Field Trial
DESCRIPTION:Judging seminar with Tom Meyer\, Paul McGagh\, Jason Givens
URL:https://essft.com/event/fox-valley-field-trial/
CATEGORIES:Field Trials - Mid West
END:VEVENT
BEGIN:VEVENT
DTSTART;TZID=America/Chicago:20160813T000000
DTEND;TZID=America/Chicago:20160814T000000
DTSTAMP:20260424T084904
CREATED:20250611T053357Z
LAST-MODIFIED:20250611T053357Z
UID:10009352-1471046400-1471132800@essft.com
SUMMARY:Stillwater Valley ESS Club
DESCRIPTION:Mock Trial\, Water Test
URL:https://essft.com/event/stillwater-valley-ess-club-2/
CATEGORIES:Field Trials - Mid East
END:VEVENT
BEGIN:VEVENT
DTSTART;TZID=America/Chicago:20160813T000000
DTEND;TZID=America/Chicago:20160814T000000
DTSTAMP:20260424T084904
CREATED:20250611T053357Z
LAST-MODIFIED:20250611T053357Z
UID:10009353-1471046400-1471132800@essft.com
SUMMARY:Southern Tier Water Test
DESCRIPTION:
URL:https://essft.com/event/southern-tier-water-test/
CATEGORIES:Field Trials - East
END:VEVENT
BEGIN:VEVENT
DTSTART;TZID=America/Chicago:20160813T000000
DTEND;TZID=America/Chicago:20160814T000000
DTSTAMP:20260424T084904
CREATED:20250611T053158Z
LAST-MODIFIED:20250611T154817Z
UID:10009351-1471046400-1471132800@essft.com
SUMMARY:ESSC of Central States
DESCRIPTION:Water Test\, Premium Water Test\, Training Bird Pricing
URL:https://essft.com/event/essc-of-central-states/
CATEGORIES:Field Trials - Mid West
END:VEVENT
BEGIN:VEVENT
DTSTART;TZID=America/Chicago:20160618T000000
DTEND;TZID=America/Chicago:20160619T000000
DTSTAMP:20260424T084904
CREATED:20250611T053158Z
LAST-MODIFIED:20250611T154816Z
UID:10009349-1466208000-1466294400@essft.com
SUMMARY:Central Ontario SC- Amateur All Age
DESCRIPTION:
URL:https://essft.com/event/central-ontario-sc-amateur-all-age/
CATEGORIES:Canadian FT
END:VEVENT
BEGIN:VEVENT
DTSTART;TZID=America/Chicago:20160618T000000
DTEND;TZID=America/Chicago:20160619T000000
DTSTAMP:20260424T084904
CREATED:20250611T053158Z
LAST-MODIFIED:20250611T154817Z
UID:10009350-1466208000-1466294400@essft.com
SUMMARY:Easton Slopes SA- All Age and Puppy
DESCRIPTION:jun 18- All Age and Puppy \njun 19- Open\, All Age and Puppy
URL:https://essft.com/event/easton-slopes-sa-all-age-and-puppy/
CATEGORIES:Canadian FT
END:VEVENT
BEGIN:VEVENT
DTSTART;TZID=America/Chicago:20160611T000000
DTEND;TZID=America/Chicago:20160612T000000
DTSTAMP:20260424T084904
CREATED:20250611T053158Z
LAST-MODIFIED:20250611T154816Z
UID:10009348-1465603200-1465689600@essft.com
SUMMARY:Sudbury Ontario
DESCRIPTION:Judges- Bill Cosgrove\, Bill McCaffrey\, Mike Noland\, Gary Wilson\, Cindy Goode-Wilson
URL:https://essft.com/event/sudbury-ontario/
CATEGORIES:Canadian FT
END:VEVENT
BEGIN:VEVENT
DTSTART;TZID=America/Chicago:20160611T000000
DTEND;TZID=America/Chicago:20160612T000000
DTSTAMP:20260424T084904
CREATED:20250611T053158Z
LAST-MODIFIED:20250611T154816Z
UID:10009347-1465603200-1465689600@essft.com
SUMMARY:Central Maine SC
DESCRIPTION:Judges- Paul McGagh\, Richard Whelan
URL:https://essft.com/event/central-maine-sc/
CATEGORIES:Field Trials - East
END:VEVENT
BEGIN:VEVENT
DTSTART;TZID=America/Chicago:20160604T000000
DTEND;TZID=America/Chicago:20160605T000000
DTSTAMP:20260424T084904
CREATED:20250611T052957Z
LAST-MODIFIED:20250611T154617Z
UID:10009346-1464998400-1465084800@essft.com
SUMMARY:Club de CHiens de Chasse de Quebec
DESCRIPTION:Judges- Paul Van Houten\, John Filler\, Pierre Asselin\, Daniel Beriemont\, Denis Samson
URL:https://essft.com/event/club-de-chiens-de-chasse-de-quebec/
CATEGORIES:Canadian FT
END:VEVENT
BEGIN:VEVENT
DTSTART;TZID=America/Chicago:20160521T000000
DTEND;TZID=America/Chicago:20160522T000000
DTSTAMP:20260424T084904
CREATED:20250611T052957Z
LAST-MODIFIED:20250611T154616Z
UID:10009343-1463788800-1463875200@essft.com
SUMMARY:Todd Agnew Spaniel Training Clinic
DESCRIPTION:
URL:https://essft.com/event/todd-agnew-spaniel-training-clinic/
CATEGORIES:Field Trials - Mid East
END:VEVENT
BEGIN:VEVENT
DTSTART;TZID=America/Chicago:20160521T000000
DTEND;TZID=America/Chicago:20160522T000000
DTSTAMP:20260424T084904
CREATED:20250611T052957Z
LAST-MODIFIED:20250611T154617Z
UID:10009344-1463788800-1463875200@essft.com
SUMMARY:Central Connecticut SC
DESCRIPTION:Canceled
URL:https://essft.com/event/central-connecticut-sc/
CATEGORIES:Field Trials - East
END:VEVENT
BEGIN:VEVENT
DTSTART;TZID=America/Chicago:20160521T000000
DTEND;TZID=America/Chicago:20160522T000000
DTSTAMP:20260424T084904
CREATED:20250611T052957Z
LAST-MODIFIED:20250611T154617Z
UID:10009345-1463788800-1463875200@essft.com
SUMMARY:Central Ontario SC- Open All Age
DESCRIPTION:
URL:https://essft.com/event/central-ontario-sc-open-all-age/
CATEGORIES:Canadian FT
END:VEVENT
BEGIN:VEVENT
DTSTART;TZID=America/Chicago:20160515T000000
DTEND;TZID=America/Chicago:20160515T000000
DTSTAMP:20260424T084904
CREATED:20250611T052956Z
LAST-MODIFIED:20250611T154616Z
UID:10009342-1463270400-1463270400@essft.com
SUMMARY:Pittsburgh Water Test
DESCRIPTION:
URL:https://essft.com/event/pittsburgh-water-test/
CATEGORIES:Field Trials - Mid East
END:VEVENT
BEGIN:VEVENT
DTSTART;TZID=America/Chicago:20160514T000000
DTEND;TZID=America/Chicago:20160515T000000
DTSTAMP:20260424T084904
CREATED:20250611T052942Z
LAST-MODIFIED:20250611T154417Z
UID:10009340-1463184000-1463270400@essft.com
SUMMARY:North Dakota SSC
DESCRIPTION:Judges- Bob Montler\, Kathy Sleavin
URL:https://essft.com/event/north-dakota-ssc-2/
CATEGORIES:Field Trials - Rocky Mountain
END:VEVENT
BEGIN:VEVENT
DTSTART;TZID=America/Chicago:20160514T000000
DTEND;TZID=America/Chicago:20160515T000000
DTSTAMP:20260424T084904
CREATED:20250611T052942Z
LAST-MODIFIED:20250611T154417Z
UID:10009341-1463184000-1463270400@essft.com
SUMMARY:SW Ontario SC- Open All Age
DESCRIPTION:
URL:https://essft.com/event/sw-ontario-sc-open-all-age/
CATEGORIES:Canadian FT
END:VEVENT
BEGIN:VEVENT
DTSTART;TZID=America/Chicago:20160507T000000
DTEND;TZID=America/Chicago:20160508T000000
DTSTAMP:20260424T084904
CREATED:20250611T052942Z
LAST-MODIFIED:20250611T154417Z
UID:10009339-1462579200-1462665600@essft.com
SUMMARY:Keystone Water Certification
DESCRIPTION:
URL:https://essft.com/event/keystone-water-certification/
CATEGORIES:Field Trials - East
END:VEVENT
BEGIN:VEVENT
DTSTART;TZID=America/Chicago:20160423T000000
DTEND;TZID=America/Chicago:20160424T000000
DTSTAMP:20260424T084904
CREATED:20250611T052941Z
LAST-MODIFIED:20250611T154416Z
UID:10009337-1461369600-1461456000@essft.com
SUMMARY:St. Croix Valley SC
DESCRIPTION:Canceled
URL:https://essft.com/event/st-croix-valley-sc/
CATEGORIES:Field Trials - Mid West
END:VEVENT
BEGIN:VEVENT
DTSTART;TZID=America/Chicago:20160423T000000
DTEND;TZID=America/Chicago:20160424T000000
DTSTAMP:20260424T084904
CREATED:20250611T052941Z
LAST-MODIFIED:20250611T154417Z
UID:10009338-1461369600-1461456000@essft.com
SUMMARY:Southern Tier FTA
DESCRIPTION:Judges- Mike Noland\, Mark Hairfield
URL:https://essft.com/event/southern-tier-fta/
CATEGORIES:Field Trials - East
END:VEVENT
BEGIN:VEVENT
DTSTART;TZID=America/Chicago:20160418T000000
DTEND;TZID=America/Chicago:20160418T000000
DTSTAMP:20260424T084904
CREATED:20250611T052927Z
LAST-MODIFIED:20250611T154217Z
UID:10009336-1460937600-1460937600@essft.com
SUMMARY:Central Wisconsin SSC
DESCRIPTION:Judges- Pete Zuleger\, Don Maue
URL:https://essft.com/event/central-wisconsin-ssc/
CATEGORIES:Field Trials - Mid West
END:VEVENT
BEGIN:VEVENT
DTSTART;TZID=America/Chicago:20160416T000000
DTEND;TZID=America/Chicago:20160417T000000
DTSTAMP:20260424T084904
CREATED:20250611T052927Z
LAST-MODIFIED:20250611T154217Z
UID:10009334-1460764800-1460851200@essft.com
SUMMARY:Northern Minnesota ESSC
DESCRIPTION:Judges- John Wright\, Greg Royer
URL:https://essft.com/event/northern-minnesota-essc-2/
CATEGORIES:Field Trials - Mid West
END:VEVENT
BEGIN:VEVENT
DTSTART;TZID=America/Chicago:20160416T000000
DTEND;TZID=America/Chicago:20160417T000000
DTSTAMP:20260424T084904
CREATED:20250611T052927Z
LAST-MODIFIED:20250611T154217Z
UID:10009335-1460764800-1460851200@essft.com
SUMMARY:Central New England SSC
DESCRIPTION:Judges- Paul Vanhouten\, Bill Gates
URL:https://essft.com/event/central-new-england-ssc/
CATEGORIES:Field Trials - East
END:VEVENT
BEGIN:VEVENT
DTSTART;TZID=America/Chicago:20160416T000000
DTEND;TZID=America/Chicago:20160417T000000
DTSTAMP:20260424T084904
CREATED:20250611T052926Z
LAST-MODIFIED:20250611T154217Z
UID:10009333-1460764800-1460851200@essft.com
SUMMARY:Northwest ESSC
DESCRIPTION:Open House
URL:https://essft.com/event/northwest-essc-2/
CATEGORIES:Field Trials - West
END:VEVENT
BEGIN:VEVENT
DTSTART;TZID=America/Chicago:20160409T000000
DTEND;TZID=America/Chicago:20160410T000000
DTSTAMP:20260424T084904
CREATED:20250611T052926Z
LAST-MODIFIED:20250611T154216Z
UID:10009332-1460160000-1460246400@essft.com
SUMMARY:New Jersey SFTC
DESCRIPTION:Canceled
URL:https://essft.com/event/new-jersey-sftc/
CATEGORIES:Field Trials - East
END:VEVENT
BEGIN:VEVENT
DTSTART;TZID=America/Chicago:20160409T000000
DTEND;TZID=America/Chicago:20160410T000000
DTSTAMP:20260424T084904
CREATED:20250611T052912Z
LAST-MODIFIED:20250611T154017Z
UID:10009330-1460160000-1460246400@essft.com
SUMMARY:Minnesota ESSC
DESCRIPTION:(Change of judges) Judges- Gary Wilson\, John Lindsay
URL:https://essft.com/event/minnesota-essc-2/
CATEGORIES:Field Trials - Mid West
END:VEVENT
BEGIN:VEVENT
DTSTART;TZID=America/Chicago:20160409T000000
DTEND;TZID=America/Chicago:20160410T000000
DTSTAMP:20260424T084904
CREATED:20250611T052912Z
LAST-MODIFIED:20250611T154017Z
UID:10009331-1460160000-1460246400@essft.com
SUMMARY:Ohio Valley ESSC
DESCRIPTION:Judges- Jeff Johannes\, Jim O’Keefe
URL:https://essft.com/event/ohio-valley-essc-2/
CATEGORIES:Field Trials - Mid East
END:VEVENT
BEGIN:VEVENT
DTSTART;TZID=America/Chicago:20160408T000000
DTEND;TZID=America/Chicago:20160409T000000
DTSTAMP:20260424T084904
CREATED:20250611T052912Z
LAST-MODIFIED:20250611T154017Z
UID:10009329-1460073600-1460160000@essft.com
SUMMARY:Timpanogos HSC
DESCRIPTION:Judges- Don Bramwell\, John Knowles \nApprentice- Justin Smith
URL:https://essft.com/event/timpanogos-hsc-2/
CATEGORIES:Field Trials - West
END:VEVENT
BEGIN:VEVENT
DTSTART;TZID=America/Chicago:20160402T000000
DTEND;TZID=America/Chicago:20160403T000000
DTSTAMP:20260424T084904
CREATED:20250611T052912Z
LAST-MODIFIED:20250611T154017Z
UID:10009328-1459555200-1459641600@essft.com
SUMMARY:Mid-Atlantic HSC
DESCRIPTION:Judges- Billy Akkouris\, Peter Renwick \nApprentice- Justin Smith
URL:https://essft.com/event/mid-atlantic-hsc/
CATEGORIES:Field Trials - East
END:VEVENT
BEGIN:VEVENT
DTSTART;TZID=America/Chicago:20160402T000000
DTEND;TZID=America/Chicago:20160403T000000
DTSTAMP:20260424T084904
CREATED:20250611T052911Z
LAST-MODIFIED:20250611T154016Z
UID:10009327-1459555200-1459641600@essft.com
SUMMARY:MN Heartland ESSC
DESCRIPTION:Judges- Nick Campanell\, (change of judge) Billie K. Edwards
URL:https://essft.com/event/mn-heartland-essc/
CATEGORIES:Field Trials - Mid West
END:VEVENT
BEGIN:VEVENT
DTSTART;TZID=America/Chicago:20160402T000000
DTEND;TZID=America/Chicago:20160403T000000
DTSTAMP:20260424T084904
CREATED:20250611T052857Z
LAST-MODIFIED:20250611T153816Z
UID:10009324-1459555200-1459641600@essft.com
SUMMARY:ESSC of Eastern Nebraska
DESCRIPTION:Judges- Scott Hoover\, Dan Murray
URL:https://essft.com/event/essc-of-eastern-nebraska-3/
CATEGORIES:Field Trials - Rocky Mountain
END:VEVENT
END:VCALENDAR