BEGIN:VCALENDAR
VERSION:2.0
PRODID:-//English Springer Spaniel Field Trials - ECPv6.15.20//NONSGML v1.0//EN
CALSCALE:GREGORIAN
METHOD:PUBLISH
X-WR-CALNAME:English Springer Spaniel Field Trials
X-ORIGINAL-URL:https://essft.com
X-WR-CALDESC:Events for English Springer Spaniel Field Trials
REFRESH-INTERVAL;VALUE=DURATION:PT1H
X-Robots-Tag:noindex
X-PUBLISHED-TTL:PT1H
BEGIN:VTIMEZONE
TZID:America/Chicago
BEGIN:DAYLIGHT
TZOFFSETFROM:-0600
TZOFFSETTO:-0500
TZNAME:CDT
DTSTART:20240310T080000
END:DAYLIGHT
BEGIN:STANDARD
TZOFFSETFROM:-0500
TZOFFSETTO:-0600
TZNAME:CST
DTSTART:20241103T070000
END:STANDARD
BEGIN:DAYLIGHT
TZOFFSETFROM:-0600
TZOFFSETTO:-0500
TZNAME:CDT
DTSTART:20250309T080000
END:DAYLIGHT
BEGIN:STANDARD
TZOFFSETFROM:-0500
TZOFFSETTO:-0600
TZNAME:CST
DTSTART:20251102T070000
END:STANDARD
BEGIN:DAYLIGHT
TZOFFSETFROM:-0600
TZOFFSETTO:-0500
TZNAME:CDT
DTSTART:20260308T080000
END:DAYLIGHT
BEGIN:STANDARD
TZOFFSETFROM:-0500
TZOFFSETTO:-0600
TZNAME:CST
DTSTART:20261101T070000
END:STANDARD
END:VTIMEZONE
BEGIN:VEVENT
DTSTART;VALUE=DATE:20250913
DTEND;VALUE=DATE:20250915
DTSTAMP:20260421T181803
CREATED:20250714T001830Z
LAST-MODIFIED:20250805T015027Z
UID:10011658-1757721600-1757894399@essft.com
SUMMARY:Cocker Spaniel Field Trial Club of America COCKER Field Trial September 2025
DESCRIPTION:Entries Close: Tuesday\, September 2\, 2025 11:59:59 PM Eastern Time(ET) on Hunt Secretary.
URL:https://essft.com/event/cocker-spaniel-field-trial-club-of-america-cocker-field-trial-september-2025/
LOCATION:Fox Hollow Farm Amenia\, NY\, Fox Hollow Farm Amenia\, NY
CATEGORIES:Cocker Trial
ORGANIZER;CN="Sally Follansbee":MAILTO:sallyfollansbee@gmail.com
END:VEVENT
BEGIN:VEVENT
DTSTART;VALUE=DATE:20250913
DTEND;VALUE=DATE:20250915
DTSTAMP:20260421T181803
CREATED:20250627T002830Z
LAST-MODIFIED:20250912T015707Z
UID:10011636-1757721600-1757894399@essft.com
SUMMARY:Cancelled: Ohio Valley English Springer Spaniel Club Hunt Test
DESCRIPTION:Entries Close: Tuesday\, September 2\, 2025 11:59:59 PM Eastern Time(ET) on Hunt Secretary.
URL:https://essft.com/event/ohio-valley-english-springer-spaniel-club-hunt-test-2/
LOCATION:Fairfield County Bird Dog Club Rushville\, OH\, Fairfield County Bird Dog Club Rushville\, OH
CATEGORIES:Hunt Tests
ORGANIZER;CN="Mark Gebert":MAILTO:ovessft@gmail.com
END:VEVENT
BEGIN:VEVENT
DTSTART;VALUE=DATE:20250913
DTEND;VALUE=DATE:20250915
DTSTAMP:20260421T181803
CREATED:20250614T194124Z
LAST-MODIFIED:20250912T021322Z
UID:10011530-1757721600-1757894399@essft.com
SUMMARY:Western Washington ESS Club (WWESSC)
DESCRIPTION:Entries Close: Monday\, September 1\, 2025 11:59:59 PM Eastern Time(ET) on Hunt Secretary.
URL:https://essft.com/event/western-washington-ess-club-wwessc/
LOCATION:JBLM Training Area 7(TA7) Spanaway\, WA\, JBLM Training Area 7(TA7) Spanaway\, WA
CATEGORIES:Field Trials - West
ORGANIZER;CN="Sue Cagampang":MAILTO:srwcagampang@gmail.com
END:VEVENT
BEGIN:VEVENT
DTSTART;VALUE=DATE:20250913
DTEND;VALUE=DATE:20250915
DTSTAMP:20260421T181803
CREATED:20250614T194124Z
LAST-MODIFIED:20250805T014454Z
UID:10011531-1757721600-1757894399@essft.com
SUMMARY:Northern Minnesota English Springer Spaniel Club
DESCRIPTION:Entries Close: Monday\, September 1\, 2025 11:59:59 PM Eastern Time(ET) on Hunt Secretary. \n\n		\n			\n			\n		\n\n		\n 
URL:https://essft.com/event/northern-minnesota-english-springer-spaniel-club-11/
LOCATION:Pine Shadows Daybreak Hunting Lodge Frederick\, SD\, Pine Shadows Daybreak Hunting Lodge Frederick\, SD
CATEGORIES:Field Trials - Mid West
ORGANIZER;CN="Sophie Haglin":MAILTO:mark@pineshadows.com
END:VEVENT
BEGIN:VEVENT
DTSTART;VALUE=DATE:20250913
DTEND;VALUE=DATE:20250915
DTSTAMP:20260421T181803
CREATED:20250614T194124Z
LAST-MODIFIED:20250820T155916Z
UID:10011532-1757721600-1757894399@essft.com
SUMMARY:Central Ontario Spaniel Club Hunt Test
DESCRIPTION:More Information TBA…
URL:https://essft.com/event/central-ontario-spaniel-club-hunt-test/
LOCATION:NC
CATEGORIES:Canadian FT
END:VEVENT
BEGIN:VEVENT
DTSTART;VALUE=DATE:20250912
DTEND;VALUE=DATE:20250915
DTSTAMP:20260421T181803
CREATED:20250801T025224Z
LAST-MODIFIED:20250817T203435Z
UID:10011675-1757635200-1757894399@essft.com
SUMMARY:North Dakota Sporting Spaniel Club Field Trial
DESCRIPTION:Entries Close: Monday\, September 1\, 2025 11:59:59 PM Eastern Time(ET) on Hunt Secretary.
URL:https://essft.com/event/north-dakota-sporting-spaniel-club-field-trial/
LOCATION:Doppler Section- 145th ST SE Menoken Menoken\, ND\, Doppler Section- 145th ST SE Menoken Menoken\, ND
CATEGORIES:Field Trials - Rocky Mountain
ORGANIZER;CN="Jamie Mowder":MAILTO:jamiemowder@hotmail.com
END:VEVENT
BEGIN:VEVENT
DTSTART;VALUE=DATE:20250912
DTEND;VALUE=DATE:20250914
DTSTAMP:20260421T181803
CREATED:20250801T030257Z
LAST-MODIFIED:20250801T030257Z
UID:10011676-1757635200-1757807999@essft.com
SUMMARY:Western Washington English Springer Spaniel Club COCKER Field Trial
DESCRIPTION:Entries Close: Monday\, September 1\, 2025 11:59:59 PM Eastern Time(ET) on Hunt Secretary.
URL:https://essft.com/event/western-washington-english-springer-spaniel-club-cocker-field-trial-2/
LOCATION:Joint Base Lewis McChord\, TBD Spanaway\, WA\, Joint Base Lewis McChord\, TBD Spanaway\, WA
CATEGORIES:Cocker Trial
ORGANIZER;CN="Sue Cagampang":MAILTO:srwcagampang@gmail.com
END:VEVENT
BEGIN:VEVENT
DTSTART;VALUE=DATE:20250911
DTEND;VALUE=DATE:20250913
DTSTAMP:20260421T181803
CREATED:20250710T212132Z
LAST-MODIFIED:20250804T024747Z
UID:10011639-1757548800-1757721599@essft.com
SUMMARY:COCKER: Northern Minnesota English Springer Spaniel Club
DESCRIPTION:Entries Close: Monday\, September 1\, 2025 11:59:59 PM Eastern Time(ET) on Hunt Secretary.
URL:https://essft.com/event/cocker-northern-minnesota-english-springer-spaniel-club/
LOCATION:Pine Shadows Daybreak 37853 111 th Street Frederick South Dakota @ 37853 111th St\, Frederick\, SD\, United States
CATEGORIES:Cocker Trial
ORGANIZER;CN="Sophie Haglin":MAILTO:mark@pineshadows.com
GEO:45.83247;-98.50621
END:VEVENT
BEGIN:VEVENT
DTSTART;VALUE=DATE:20250907
DTEND;VALUE=DATE:20250908
DTSTAMP:20260421T181803
CREATED:20250801T022540Z
LAST-MODIFIED:20250830T200612Z
UID:10011673-1757203200-1757289599@essft.com
SUMMARY:Central Wisconsin Sporting Spaniel Club COCKER Field Trial
DESCRIPTION:Entries Close: Tuesday\, August 26\, 2025 11:59:59 PM Eastern Time(ET) on Hunt Secretary.
URL:https://essft.com/event/central-wisconsin-sporting-spaniel-club-cocker-field-trail/
LOCATION:Oasis Game Farm New Glarus\, WI\, Oasis Game Farm New Glarus\, WI
CATEGORIES:Cocker Trial
ORGANIZER;CN="Deb Strohl":MAILTO:debstrohl@gmail.com
END:VEVENT
BEGIN:VEVENT
DTSTART;VALUE=DATE:20250906
DTEND;VALUE=DATE:20250908
DTSTAMP:20260421T181803
CREATED:20250801T004139Z
LAST-MODIFIED:20250830T200347Z
UID:10011672-1757116800-1757289599@essft.com
SUMMARY:Spaniel Association of Western NY Field Trial
DESCRIPTION:Entries Close: Tuesday\, August 26\, 2025 11:59:59 PM Eastern Time(ET) on Hunt Secretary.
URL:https://essft.com/event/spaniel-association-of-western-ny-field-trial-3/
LOCATION:Elma Land Conservancy Barker\, NY\, Elma Land Conservancy Barker\, NY
CATEGORIES:Field Trials - Mid East
ORGANIZER;CN="Richard Maturski":MAILTO:rturk111@aol.com
END:VEVENT
BEGIN:VEVENT
DTSTART;VALUE=DATE:20250906
DTEND;VALUE=DATE:20250908
DTSTAMP:20260421T181803
CREATED:20250729T023348Z
LAST-MODIFIED:20250830T200133Z
UID:10011671-1757116800-1757289599@essft.com
SUMMARY:Maine Spaniel Field Trial Club SPRINGER Spaniel Field Trial
DESCRIPTION:Entries Close: Tuesday\, August 26\, 2025 11:59:59 PM Eastern Time(ET) on Hunt Secretary.
URL:https://essft.com/event/maine-spaniel-field-trial-club-springer-spaniel-field-trial/
LOCATION:Green Point Wildlife Management Area Dresden\, ME\, Green Point Wildlife Management Area Dresden\, ME
CATEGORIES:Field Trials - East
ORGANIZER;CN="Theresa Sampson":MAILTO:terrysam@maine.rr.com
END:VEVENT
BEGIN:VEVENT
DTSTART;VALUE=DATE:20250906
DTEND;VALUE=DATE:20250908
DTSTAMP:20260421T181803
CREATED:20250625T234753Z
LAST-MODIFIED:20250728T215626Z
UID:10011633-1757116800-1757289599@essft.com
SUMMARY:North Dakota Sporting Spaniel Club – COCKER
DESCRIPTION:Entries Close: Tuesday\, August 26\, 2025 11:59:59 PM Eastern Time(ET) on Hunt Secretary.
URL:https://essft.com/event/north-dakota-sporting-spaniel-club-cocker-2/
LOCATION:Hunke Property-171 6th ST SE McClusky\, ND\, Hunke Property-171 6th ST SE\, McClusky\, ND
CATEGORIES:Cocker Trial
ORGANIZER;CN="Jamie Mowder":MAILTO:jamiemowder@hotmail.com
END:VEVENT
BEGIN:VEVENT
DTSTART;VALUE=DATE:20250906
DTEND;VALUE=DATE:20250908
DTSTAMP:20260421T181803
CREATED:20250614T194109Z
LAST-MODIFIED:20250728T214552Z
UID:10011527-1757116800-1757289599@essft.com
SUMMARY:Eastern Slopes Spaniel Association Field Trial
DESCRIPTION:September 6 – Open & Puppy\nSeptember 7 – Amateur & Limit \nMore Information TBA…
URL:https://essft.com/event/eastern-slopes-spaniel-association-field-trial-2/
LOCATION:NC
CATEGORIES:Canadian FT
END:VEVENT
BEGIN:VEVENT
DTSTART;VALUE=DATE:20250906
DTEND;VALUE=DATE:20250908
DTSTAMP:20260421T181803
CREATED:20250614T194109Z
LAST-MODIFIED:20250830T195833Z
UID:10011528-1757116800-1757289599@essft.com
SUMMARY:New Jersey Spaniel Field Trial Club COCKER Field Trial
DESCRIPTION:Entries Close: Tuesday\, August 26\, 2025 11:59:59 PM Eastern Time(ET) on Hunt Secretary.
URL:https://essft.com/event/new-jersey-spaniel-field-trial-club-cocker-field-trial-2/
LOCATION:Schoenwood Farm Washington\, NJ\, Schoenwood Farm Washington\, NJ
CATEGORIES:Cocker Trial
ORGANIZER;CN="Connie Soper":MAILTO:constancesoper@hotmail.com
END:VEVENT
BEGIN:VEVENT
DTSTART;VALUE=DATE:20250905
DTEND;VALUE=DATE:20250907
DTSTAMP:20260421T181803
CREATED:20250614T194109Z
LAST-MODIFIED:20250830T194542Z
UID:10011525-1757030400-1757203199@essft.com
SUMMARY:Central Wisconsin Sporting Spaniel Club Springer Spaniel September Field Trail
DESCRIPTION:Entries Close: Tuesday\, August 26\, 2025 11:59:59 PM Eastern Time(ET) on Hunt Secretary \n 
URL:https://essft.com/event/central-wisconsin-sporting-spaniel-club-springer-spaniel-september-field-trail/
LOCATION:Oasis Game Farm New Glarus\, WI\, Oasis Game Farm New Glarus\, WI
CATEGORIES:Field Trials - Mid West
ORGANIZER;CN="Mary Treba":MAILTO:Equinetyme@aol.com
END:VEVENT
BEGIN:VEVENT
DTSTART;VALUE=DATE:20250905
DTEND;VALUE=DATE:20250907
DTSTAMP:20260421T181803
CREATED:20250614T194054Z
LAST-MODIFIED:20250830T195611Z
UID:10011524-1757030400-1757203199@essft.com
SUMMARY:Timpanogos Hunting Spaniel Club (THSC)
DESCRIPTION:Entries Close: Monday\, August 25\, 2025 11:59:59 PM Eastern Time(ET) on Hunt Secretary
URL:https://essft.com/event/timpanogos-hunting-spaniel-club-thsc-2/
LOCATION:Clarkston Trial Grounds Clarkston\, UT\, Clarkston Trial Grounds Clarkston\, UT
CATEGORIES:Field Trials - West
ORGANIZER;CN="Kurt Price%2C FTS":MAILTO:bowmanrx@xmission.com
END:VEVENT
BEGIN:VEVENT
DTSTART;VALUE=DATE:20250901
DTEND;VALUE=DATE:20250902
DTSTAMP:20260421T181803
CREATED:20250729T022805Z
LAST-MODIFIED:20250729T022805Z
UID:10011670-1756684800-1756771199@essft.com
SUMMARY:Cascade English Cocker Spaniel Fanciers Hunt Test
DESCRIPTION:Entries Close: Tuesday\, August 19\, 2025 11:59:59 PM Eastern Time(ET) on Hunt Secretary.
URL:https://essft.com/event/cascade-english-cocker-spaniel-fanciers-hunt-test-2/
LOCATION:WDFW Davis Creek Unit Oakville\, WA\, WDFW Davis Creek Unit Oakville\, WA
CATEGORIES:Hunt Tests
ORGANIZER;CN="Sue Cagampang":MAILTO:srwcagampang@gmail.com
END:VEVENT
BEGIN:VEVENT
DTSTART;VALUE=DATE:20250901
DTEND;VALUE=DATE:20250902
DTSTAMP:20260421T181803
CREATED:20250614T194054Z
LAST-MODIFIED:20250713T205200Z
UID:10011523-1756684800-1756771199@essft.com
SUMMARY:Labor Day
DESCRIPTION:
URL:https://essft.com/event/labor-day-7/
LOCATION:NC
CATEGORIES:Holidays
END:VEVENT
BEGIN:VEVENT
DTSTART;VALUE=DATE:20250831
DTEND;VALUE=DATE:20250901
DTSTAMP:20260421T181803
CREATED:20250713T204327Z
LAST-MODIFIED:20250729T022147Z
UID:10011657-1756598400-1756684799@essft.com
SUMMARY:Puget Sound English Springer Spaniel Assoc. AKC Hunt Test
DESCRIPTION:Entries Close: Tuesday\, August 19\, 2025 11:59:59 PM Eastern Time(ET) on Hunt Secretary.
URL:https://essft.com/event/puget-sound-english-springer-spaniel-assoc-akc-hunt-test/
LOCATION:Davis Creek Unit Oakville\, WA\, Davis Creek Unit Oakville\, WA
CATEGORIES:Hunt Tests
ORGANIZER;CN="Laurie Southard":MAILTO:elleteesnails@gmail.com
END:VEVENT
BEGIN:VEVENT
DTSTART;VALUE=DATE:20250830
DTEND;VALUE=DATE:20250902
DTSTAMP:20260421T181803
CREATED:20250614T194054Z
LAST-MODIFIED:20250819T201940Z
UID:10011522-1756512000-1756771199@essft.com
SUMMARY:Calgary English Springer Spaniel Club
DESCRIPTION:More information TBA.
URL:https://essft.com/event/calgary-english-springer-spaniel-club-4/
LOCATION:NC
CATEGORIES:Canadian FT
END:VEVENT
BEGIN:VEVENT
DTSTART;VALUE=DATE:20250830
DTEND;VALUE=DATE:20250901
DTSTAMP:20260421T181803
CREATED:20250729T015946Z
LAST-MODIFIED:20250830T193550Z
UID:10011667-1756512000-1756684799@essft.com
SUMMARY:Wisconsin English Springer Spaniel Assn Hunt Tests
DESCRIPTION:Entries Close: Tuesday\, August 19\, 2025 11:59:59 PM Eastern Time(ET) on Hunt Secretary.
URL:https://essft.com/event/wisconsin-english-springer-spaniel-assn-hunt-tests-3/
LOCATION:Rock River Kennels Beaver Dam\, WI @ W7283 Walnut Rd\, Beaver Dam\, WI 53916\, USA\, United States
CATEGORIES:Hunt Tests
ORGANIZER;CN="Diane Gribble":MAILTO:degribble@aol.com
END:VEVENT
BEGIN:VEVENT
DTSTART;VALUE=DATE:20250830
DTEND;VALUE=DATE:20250901
DTSTAMP:20260421T181803
CREATED:20250713T201220Z
LAST-MODIFIED:20250804T024053Z
UID:10011655-1756512000-1756684799@essft.com
SUMMARY:Minnesota Hunting Spaniel Association AKC Licensed Fall 2025 Hunt Test
DESCRIPTION:Entries Close: Tuesday\, August 19\, 2025 11:59:59 PM Eastern Time(ET) on Hunt Secretary
URL:https://essft.com/event/minnesota-hunting-spaniel-association-akc-licensed-fall-2025-hunt-test/
LOCATION:Good Going Kennels Baldwin\, WI\, Good Going Kennels Baldwin\, WI
CATEGORIES:Hunt Tests
ORGANIZER;CN="Lynnda Lenzen":MAILTO:lynndaL33@gmail.com
END:VEVENT
BEGIN:VEVENT
DTSTART;VALUE=DATE:20250830
DTEND;VALUE=DATE:20250831
DTSTAMP:20260421T181803
CREATED:20250729T021327Z
LAST-MODIFIED:20250729T021327Z
UID:10011669-1756512000-1756598399@essft.com
SUMMARY:Western Washington English Springer Spaniel Club Hunt Test
DESCRIPTION:Entries Close: Tuesday\, August 19\, 2025 11:59:59 PM Eastern Time(ET) on Hunt Secretary.
URL:https://essft.com/event/western-washington-english-springer-spaniel-club-hunt-test-7/
LOCATION:Davis Creek Unit Oakville\, WA\, Davis Creek Unit Oakville\, WA
CATEGORIES:Hunt Tests
ORGANIZER;CN="Kathy Stermolle":MAILTO:stermolle@yahoo.com
END:VEVENT
BEGIN:VEVENT
DTSTART;VALUE=DATE:20250823
DTEND;VALUE=DATE:20250825
DTSTAMP:20260421T181803
CREATED:20250729T015122Z
LAST-MODIFIED:20250729T015122Z
UID:10011666-1755907200-1756079999@essft.com
SUMMARY:ABDA Flushing Dog Hunt Test
DESCRIPTION:Entries Close: Tuesday\, August 12\, 2025 11:59:59 PM Eastern Time(ET) on Hunt Secretary.
URL:https://essft.com/event/abda-flushing-dog-hunt-test-5/
LOCATION:Meurer Farm Delta Junction\, AK\, Meurer Farm Delta Junction\, AK
CATEGORIES:Hunt Tests
ORGANIZER;CN="Tina Lipscomb":MAILTO:jefflipscomb77@gmail.com
END:VEVENT
BEGIN:VEVENT
DTSTART;VALUE=DATE:20250823
DTEND;VALUE=DATE:20250825
DTSTAMP:20260421T181803
CREATED:20250728T022531Z
LAST-MODIFIED:20250728T022531Z
UID:10011665-1755907200-1756079999@essft.com
SUMMARY:Rice Creek Hunting Dog Club's Spaniel Hunt Test
DESCRIPTION:Entries Close: Tuesday\, August 12\, 2025 11:59:59 PM Eastern Time(ET) on Hunt Secretary.
URL:https://essft.com/event/rice-creek-hunting-dog-clubs-spaniel-hunt-test-2/
LOCATION:Willow Creek Kennels Little Falls\, MN @ 22545 195th Ave\, Little Falls\, MN 56345\, USA
CATEGORIES:Hunt Tests
ORGANIZER;CN="Sharon Haider":MAILTO:sharonhaider@gmail.com
END:VEVENT
BEGIN:VEVENT
DTSTART;VALUE=DATE:20250823
DTEND;VALUE=DATE:20250825
DTSTAMP:20260421T181803
CREATED:20250713T193828Z
LAST-MODIFIED:20250804T022626Z
UID:10011654-1755907200-1756079999@essft.com
SUMMARY:Central Connecticut Spaniel Club - Springer Field Trial August 2025
DESCRIPTION:Entries Close: Tuesday\, August 12\, 2025 11:59:59 PM Eastern Time(ET) on Hunt Secretary
URL:https://essft.com/event/central-connecticut-spaniel-club-springer-field-trial-august-2025/
LOCATION:Nodbrook Wildlife Management Area – 82 Hopmeadow Street Simsbury\, Glastonbury\, CT\, United States
CATEGORIES:Field Trials - East
ORGANIZER;CN="Deborah Olszewski":MAILTO:dmoski@aol.com
GEO:41.690027;-72.590259
END:VEVENT
BEGIN:VEVENT
DTSTART;VALUE=DATE:20250823
DTEND;VALUE=DATE:20250825
DTSTAMP:20260421T181803
CREATED:20250614T194054Z
LAST-MODIFIED:20250805T021514Z
UID:10011520-1755907200-1756079999@essft.com
SUMMARY:Sportsmen's Spaniel Club of Calumet Hunt Test
DESCRIPTION:Entries Close: Tuesday\, August 12\, 2025 11:59:59 PM Eastern Time(ET) on Hunt Secretary.
URL:https://essft.com/event/sportsmens-spaniel-club-of-calumet-hunt-test-3/
LOCATION:Aux Sable Farm Morris\, IL\, Aux Sable Farm Morris\, IL
CATEGORIES:Hunt Tests
ORGANIZER;CN="Jerry Lizalek":MAILTO:ccwfirearmstraining@gmail.com
END:VEVENT
BEGIN:VEVENT
DTSTART;VALUE=DATE:20250823
DTEND;VALUE=DATE:20250824
DTSTAMP:20260421T181803
CREATED:20250614T194054Z
LAST-MODIFIED:20250805T020821Z
UID:10011521-1755907200-1755993599@essft.com
SUMMARY:Sportsmen's Spaniel Club of Calumet Field Trial Water Test
DESCRIPTION:Entries Close: Tuesday\, August 12\, 2025 11:59:59 PM Eastern Time(ET) on Hunt Secretary.
URL:https://essft.com/event/sportsmens-spaniel-club-of-calumet-field-trial-water-test-2/
LOCATION:Aux Sable Farm\, 3700 Cemetary Rd. Morris\, IL\, Aux Sable Farm\, 3700 Cemetary Rd. Morris\, IL
CATEGORIES:Water Test
ORGANIZER;CN="Jerry Lizalek":MAILTO:ccwfirearmstraining@gmail.com
END:VEVENT
BEGIN:VEVENT
DTSTART;VALUE=DATE:20250821
DTEND;VALUE=DATE:20250824
DTSTAMP:20260421T181803
CREATED:20250614T194039Z
LAST-MODIFIED:20250819T201629Z
UID:10011519-1755734400-1755993599@essft.com
SUMMARY:Prairie Spaniel Club
DESCRIPTION:More information TBA.
URL:https://essft.com/event/prairie-spaniel-club-7-3/
LOCATION:NC
CATEGORIES:Canadian FT
END:VEVENT
BEGIN:VEVENT
DTSTART;VALUE=DATE:20250816
DTEND;VALUE=DATE:20250818
DTSTAMP:20260421T181803
CREATED:20250713T191844Z
LAST-MODIFIED:20250804T022317Z
UID:10011653-1755302400-1755475199@essft.com
SUMMARY:Central Virginia ESS FT Club Hunt Test August 2025
DESCRIPTION:Entries Close: Tuesday\, August 5\, 2025 11:59:59 PM Eastern Time(ET) on Hunt Secretary
URL:https://essft.com/event/central-virginia-ess-ft-club-hunt-test-august-2025/
LOCATION:Lime Rock Cocker Preserve East Bend\, NC\, 3832 Lime Rock Road\, East Bend\, NC\, United States
CATEGORIES:Hunt Tests
ORGANIZER;CN="Vickie Dahlk":MAILTO:vdahlk@charter.net
END:VEVENT
END:VCALENDAR