BEGIN:VCALENDAR
VERSION:2.0
PRODID:-//English Springer Spaniel Field Trials - ECPv6.15.20//NONSGML v1.0//EN
CALSCALE:GREGORIAN
METHOD:PUBLISH
X-WR-CALNAME:English Springer Spaniel Field Trials
X-ORIGINAL-URL:https://essft.com
X-WR-CALDESC:Events for English Springer Spaniel Field Trials
REFRESH-INTERVAL;VALUE=DURATION:PT1H
X-Robots-Tag:noindex
X-PUBLISHED-TTL:PT1H
BEGIN:VTIMEZONE
TZID:America/Chicago
BEGIN:DAYLIGHT
TZOFFSETFROM:-0600
TZOFFSETTO:-0500
TZNAME:CDT
DTSTART:20150308T080000
END:DAYLIGHT
BEGIN:STANDARD
TZOFFSETFROM:-0500
TZOFFSETTO:-0600
TZNAME:CST
DTSTART:20151101T070000
END:STANDARD
BEGIN:DAYLIGHT
TZOFFSETFROM:-0600
TZOFFSETTO:-0500
TZNAME:CDT
DTSTART:20160313T080000
END:DAYLIGHT
BEGIN:STANDARD
TZOFFSETFROM:-0500
TZOFFSETTO:-0600
TZNAME:CST
DTSTART:20161106T070000
END:STANDARD
BEGIN:DAYLIGHT
TZOFFSETFROM:-0600
TZOFFSETTO:-0500
TZNAME:CDT
DTSTART:20170312T080000
END:DAYLIGHT
BEGIN:STANDARD
TZOFFSETFROM:-0500
TZOFFSETTO:-0600
TZNAME:CST
DTSTART:20171105T070000
END:STANDARD
END:VTIMEZONE
BEGIN:VEVENT
DTSTART;TZID=America/Chicago:20160130T000000
DTEND;TZID=America/Chicago:20160131T000000
DTSTAMP:20260424T084902
CREATED:20250611T052641Z
LAST-MODIFIED:20250611T153455Z
UID:10009296-1454112000-1454198400@essft.com
SUMMARY:SE Texas ESSC
DESCRIPTION:Judges- Kathy Nestor\, John Knowles
URL:https://essft.com/event/se-texas-essc-2/
CATEGORIES:Field Trials - Rocky Mountain
END:VEVENT
BEGIN:VEVENT
DTSTART;TZID=America/Chicago:20160128T000000
DTEND;TZID=America/Chicago:20160129T000000
DTSTAMP:20260424T084902
CREATED:20250611T052640Z
LAST-MODIFIED:20250611T153455Z
UID:10009294-1453939200-1454025600@essft.com
SUMMARY:Houston ESSC
DESCRIPTION:Judges- Ryan Lamberg\, Trent Bosse
URL:https://essft.com/event/houston-essc-2/
CATEGORIES:Field Trials - Rocky Mountain
END:VEVENT
BEGIN:VEVENT
DTSTART;TZID=America/Chicago:20160123T000000
DTEND;TZID=America/Chicago:20160124T000000
DTSTAMP:20260424T084902
CREATED:20250611T052640Z
LAST-MODIFIED:20250611T153455Z
UID:10009293-1453507200-1453593600@essft.com
SUMMARY:North Texas SSC
DESCRIPTION:Judges- John Halpin\, Bob MacDonald
URL:https://essft.com/event/north-texas-ssc-2/
CATEGORIES:Field Trials - Rocky Mountain
END:VEVENT
BEGIN:VEVENT
DTSTART;TZID=America/Chicago:20160116T000000
DTEND;TZID=America/Chicago:20160117T000000
DTSTAMP:20260424T084902
CREATED:20250611T052640Z
LAST-MODIFIED:20250611T153455Z
UID:10009292-1452902400-1452988800@essft.com
SUMMARY:Ravenna Memorial
DESCRIPTION:Judges: Frank Wiseman and Clay Earl
URL:https://essft.com/event/ravenna-memorial/
CATEGORIES:Field Trials - Mid East
END:VEVENT
END:VCALENDAR