BEGIN:VCALENDAR
VERSION:2.0
PRODID:-//English Springer Spaniel Field Trials - ECPv6.15.20//NONSGML v1.0//EN
CALSCALE:GREGORIAN
METHOD:PUBLISH
X-WR-CALNAME:English Springer Spaniel Field Trials
X-ORIGINAL-URL:https://essft.com
X-WR-CALDESC:Events for English Springer Spaniel Field Trials
REFRESH-INTERVAL;VALUE=DURATION:PT1H
X-Robots-Tag:noindex
X-PUBLISHED-TTL:PT1H
BEGIN:VTIMEZONE
TZID:America/Chicago
BEGIN:DAYLIGHT
TZOFFSETFROM:-0600
TZOFFSETTO:-0500
TZNAME:CDT
DTSTART:20240310T080000
END:DAYLIGHT
BEGIN:STANDARD
TZOFFSETFROM:-0500
TZOFFSETTO:-0600
TZNAME:CST
DTSTART:20241103T070000
END:STANDARD
BEGIN:DAYLIGHT
TZOFFSETFROM:-0600
TZOFFSETTO:-0500
TZNAME:CDT
DTSTART:20250309T080000
END:DAYLIGHT
BEGIN:STANDARD
TZOFFSETFROM:-0500
TZOFFSETTO:-0600
TZNAME:CST
DTSTART:20251102T070000
END:STANDARD
BEGIN:DAYLIGHT
TZOFFSETFROM:-0600
TZOFFSETTO:-0500
TZNAME:CDT
DTSTART:20260308T080000
END:DAYLIGHT
BEGIN:STANDARD
TZOFFSETFROM:-0500
TZOFFSETTO:-0600
TZNAME:CST
DTSTART:20261101T070000
END:STANDARD
END:VTIMEZONE
BEGIN:VEVENT
DTSTART;TZID=America/Chicago:20250426T000000
DTEND;TZID=America/Chicago:20250427T000000
DTSTAMP:20260421T211432
CREATED:20250614T192606Z
LAST-MODIFIED:20250614T192606Z
UID:10011456-1745625600-1745712000@essft.com
SUMMARY:Mid Atlantic Hunting Spaniel Club Hunt Test
DESCRIPTION:Entries Close: Tuesday\, April 15\, 2025 11:59:59 PM Eastern Time(ET) on Hunt Secretary.  \nJudges: Stephen Church and Theresa Schroeder\n\n		\n			\n			\n		\n\n		\n 
URL:https://essft.com/event/mid-atlantic-hunting-spaniel-club-hunt-test-4/
CATEGORIES:Hunt Tests
END:VEVENT
BEGIN:VEVENT
DTSTART;TZID=America/Chicago:20250426T000000
DTEND;TZID=America/Chicago:20250427T000000
DTSTAMP:20260421T211433
CREATED:20250614T192605Z
LAST-MODIFIED:20250614T192605Z
UID:10011455-1745625600-1745712000@essft.com
SUMMARY:Cocker Spaniel Hunting Enthusiasts Cocker Spring Field Trials
DESCRIPTION:Entries Close: Tuesday\, April 15\, 2025 11:59:59 PM Eastern Time(ET) on Hunt Secretary. \nJudges: Joe Demarkis and Dave Barto
URL:https://essft.com/event/cocker-spaniel-hunting-enthusiasts-cocker-spring-field-trials/
CATEGORIES:Cocker Trial
END:VEVENT
BEGIN:VEVENT
DTSTART;TZID=America/Chicago:20250426T000000
DTEND;TZID=America/Chicago:20250427T000000
DTSTAMP:20260421T211433
CREATED:20250614T192551Z
LAST-MODIFIED:20250614T192551Z
UID:10011453-1745625600-1745712000@essft.com
SUMMARY:Northern Minnesota English Springer Spaniel Club
DESCRIPTION:Entries Close: Tuesday\, April 15\, 2025 11:59:59 PM Eastern Time(ET) on Hunt Secretary \nJudges: Alex Cacchio and David Jones
URL:https://essft.com/event/northern-minnesota-english-springer-spaniel-club-10/
CATEGORIES:Field Trials - Mid West
ORGANIZER;CN="Sophie Haglin":MAILTO:mark@pineshadows.com
END:VEVENT
BEGIN:VEVENT
DTSTART;TZID=America/Chicago:20250426T000000
DTEND;TZID=America/Chicago:20250427T000000
DTSTAMP:20260421T211433
CREATED:20250614T192551Z
LAST-MODIFIED:20250614T192551Z
UID:10011454-1745625600-1745712000@essft.com
SUMMARY:North Dakota Sporting Spaniel Club - COCKER Trial
DESCRIPTION:Entries Close: Tuesday\, April 15\, 2025 11:59:59 PM Eastern Time(ET) on Hunt Secretary. \nJudges: Gary Fluckiger and Greg Kuhlman
URL:https://essft.com/event/north-dakota-sporting-spaniel-club-cocker-trial/
CATEGORIES:Cocker Trial
END:VEVENT
BEGIN:VEVENT
DTSTART;TZID=America/Chicago:20250425T000000
DTEND;TZID=America/Chicago:20250425T000000
DTSTAMP:20260421T211433
CREATED:20250614T192551Z
LAST-MODIFIED:20250614T192551Z
UID:10011452-1745539200-1745539200@essft.com
SUMMARY:Clumber Spaniel Club of America 2024 National Spaniel Hunt Test
DESCRIPTION:Entries Close: Tuesday\, April 15\, 2025 11:59:59 PM Eastern Time(ET) on Hunt Secretary. \nJudges: Dave Skoubo and Bob Wickwire
URL:https://essft.com/event/clumber-spaniel-club-of-america-2024-national-spaniel-hunt-test-2/
CATEGORIES:Hunt Tests
END:VEVENT
BEGIN:VEVENT
DTSTART;TZID=America/Chicago:20250420T000000
DTEND;TZID=America/Chicago:20250420T000000
DTSTAMP:20260421T211433
CREATED:20250614T192551Z
LAST-MODIFIED:20250614T192551Z
UID:10011451-1745107200-1745107200@essft.com
SUMMARY:Easter
DESCRIPTION:
URL:https://essft.com/event/easter-5/
CATEGORIES:Holidays
END:VEVENT
BEGIN:VEVENT
DTSTART;TZID=America/Chicago:20250419T000000
DTEND;TZID=America/Chicago:20250419T000000
DTSTAMP:20260421T211433
CREATED:20250614T192550Z
LAST-MODIFIED:20250614T192550Z
UID:10011450-1745020800-1745020800@essft.com
SUMMARY:NMESSC Pine Shadows Fun Trial
DESCRIPTION:
URL:https://essft.com/event/nmessc-pine-shadows-fun-trial/
CATEGORIES:Fun Trials
END:VEVENT
BEGIN:VEVENT
DTSTART;TZID=America/Chicago:20250418T000000
DTEND;TZID=America/Chicago:20250419T000000
DTSTAMP:20260421T211433
CREATED:20250614T192435Z
LAST-MODIFIED:20250614T192435Z
UID:10011449-1744934400-1745020800@essft.com
SUMMARY:Rogue Valley Sporting Spaniel Hunt Test
DESCRIPTION:Entries Close: Monday\, April 7\, 2025 11:59:59 PM Eastern Time(ET) on Hunt Secretary. \nJudges: Pluis Davern\, Ann McGloon\, Delores Blake\, and Cindy Williams\n\n		\n			\n			\n		\n\n		\n 
URL:https://essft.com/event/rogue-valley-sporting-spaniel-hunt-test-2/
CATEGORIES:Hunt Tests
END:VEVENT
BEGIN:VEVENT
DTSTART;TZID=America/Chicago:20250412T000000
DTEND;TZID=America/Chicago:20250413T000000
DTSTAMP:20260421T211433
CREATED:20250614T192434Z
LAST-MODIFIED:20250614T192434Z
UID:10011445-1744416000-1744502400@essft.com
SUMMARY:Southern California Sporting Spaniel Club
DESCRIPTION:Entries Close: Tuesday\, April 1\, 2025 11:59:59 PM Eastern Time(ET) on Hunt Secretary. \nJudges: Joe D’Alessandro and Gail Workman
URL:https://essft.com/event/southern-california-sporting-spaniel-club-13/
CATEGORIES:Hunt Tests
END:VEVENT
BEGIN:VEVENT
DTSTART;TZID=America/Chicago:20250412T000000
DTEND;TZID=America/Chicago:20250413T000000
DTSTAMP:20260421T211433
CREATED:20250614T192434Z
LAST-MODIFIED:20250614T192434Z
UID:10011446-1744416000-1744502400@essft.com
SUMMARY:Maryland Sporting Dog Association Spaniel Hunting Tests
DESCRIPTION:Entries Close: Tuesday\, April 1\, 2025 11:59:59 PM Eastern Time(ET) on Hunt Secretary. \nJudges: Jim Zimmerman\, Kate Ostrowski\, Mary Lackey\, and Tim Welling
URL:https://essft.com/event/maryland-sporting-dog-association-spaniel-hunting-tests/
CATEGORIES:Hunt Tests
END:VEVENT
BEGIN:VEVENT
DTSTART;TZID=America/Chicago:20250412T000000
DTEND;TZID=America/Chicago:20250413T000000
DTSTAMP:20260421T211433
CREATED:20250614T192434Z
LAST-MODIFIED:20250614T192434Z
UID:10011447-1744416000-1744502400@essft.com
SUMMARY:AWSC Inc. Spaniel Hunt Test
DESCRIPTION:Entries Close: Tuesday\, April 1\, 2025 11:59:59 PM Eastern Time(ET) on Hunt Secretary. \nJudges: Brent LeMaster and Dawn Schuster
URL:https://essft.com/event/awsc-inc-spaniel-hunt-test/
CATEGORIES:Hunt Tests
END:VEVENT
BEGIN:VEVENT
DTSTART;TZID=America/Chicago:20250412T000000
DTEND;TZID=America/Chicago:20250413T000000
DTSTAMP:20260421T211433
CREATED:20250614T192434Z
LAST-MODIFIED:20250614T192434Z
UID:10011448-1744416000-1744502400@essft.com
SUMMARY:COCKER Trial: Central Wisconsin Sporting Spaniel Club
DESCRIPTION:Entries Close: Tuesday\, April 1\, 2025 11:59:59 PM Eastern Time(ET) on Hunt Secretary. \nJudges: John Smith and John Bishop
URL:https://essft.com/event/cocker-trial-central-wisconsin-sporting-spaniel-club/
CATEGORIES:Cocker Trial
END:VEVENT
BEGIN:VEVENT
DTSTART;TZID=America/Chicago:20250412T000000
DTEND;TZID=America/Chicago:20250413T000000
DTSTAMP:20260421T211433
CREATED:20250614T192419Z
LAST-MODIFIED:20250614T192419Z
UID:10011442-1744416000-1744502400@essft.com
SUMMARY:Western Washington ESS Club
DESCRIPTION:Entries Close: Monday\, March 31\, 2025 11:59:59 PM Eastern Time(ET) on Hunt Secretary. \nJudges: Clay Earl and Ryan Grauf
URL:https://essft.com/event/western-washington-ess-club-8/
CATEGORIES:Field Trials - West
END:VEVENT
BEGIN:VEVENT
DTSTART;TZID=America/Chicago:20250412T000000
DTEND;TZID=America/Chicago:20250413T000000
DTSTAMP:20260421T211433
CREATED:20250614T192419Z
LAST-MODIFIED:20250614T192419Z
UID:10011443-1744416000-1744502400@essft.com
SUMMARY:St. Croix Valley Spaniel Club
DESCRIPTION:Entries Close: Tuesday\, April 1\, 2025 11:59:59 PM Eastern Time(ET) on Hunt Secretary. \nJudges: Josh Riddle and Bill Cosgrove
URL:https://essft.com/event/st-croix-valley-spaniel-club-16/
CATEGORIES:Field Trials - Mid West
END:VEVENT
BEGIN:VEVENT
DTSTART;TZID=America/Chicago:20250412T000000
DTEND;TZID=America/Chicago:20250413T000000
DTSTAMP:20260421T211433
CREATED:20250614T192419Z
LAST-MODIFIED:20250614T192419Z
UID:10011444-1744416000-1744502400@essft.com
SUMMARY:Central Wisconsin Sporting Spaniel Club
DESCRIPTION:Entries Close: Tuesday\, April 1\, 2025 11:59:59 PM Eastern Time(ET) on Hunt Secretary. \nJudges: John Smith and John Bishop\n\n		\n			\n			\n		\n\n		\n 
URL:https://essft.com/event/central-wisconsin-sporting-spaniel-club-10-5/
CATEGORIES:Cocker Trial
END:VEVENT
BEGIN:VEVENT
DTSTART;TZID=America/Chicago:20250411T000000
DTEND;TZID=America/Chicago:20250412T000000
DTSTAMP:20260421T211433
CREATED:20250614T192419Z
LAST-MODIFIED:20250614T192419Z
UID:10011441-1744329600-1744416000@essft.com
SUMMARY:Western Washington English Springer Spaniel Club COCKER Trial
DESCRIPTION:Entries Close: Monday\, March 31\, 2025 11:59:59 PM Eastern Time(ET) Hunt Secretary. \nJudges: Clay Earl and Ryan Grauf\n\n		\n			\n			\n		\n\n		\n  \n 
URL:https://essft.com/event/western-washington-english-springer-spaniel-club-cocker-trial/
CATEGORIES:Cocker Trial
END:VEVENT
BEGIN:VEVENT
DTSTART;TZID=America/Chicago:20250405T000000
DTEND;TZID=America/Chicago:20250406T000000
DTSTAMP:20260421T211433
CREATED:20250614T192419Z
LAST-MODIFIED:20250614T192419Z
UID:10011440-1743811200-1743897600@essft.com
SUMMARY:Fox Valley English Cocker Club Spring 2025 Cocker Field Trial
DESCRIPTION:Entries Close: Tuesday\, March 25\, 2025 11:59:59 PM Eastern Time(ET) on Hunt Secretary. \nJudges: Kevin McGlin and Donald Maue\n\n		\n			\n			\n		\n\n		\n 
URL:https://essft.com/event/fox-valley-english-cocker-club-spring-2025-cocker-field-trial/
CATEGORIES:Cocker Trial
END:VEVENT
BEGIN:VEVENT
DTSTART;TZID=America/Chicago:20250404T000000
DTEND;TZID=America/Chicago:20250405T000000
DTSTAMP:20260421T211433
CREATED:20250614T192404Z
LAST-MODIFIED:20250614T192404Z
UID:10011437-1743724800-1743811200@essft.com
SUMMARY:Timpanogos Hunting Spaniel Club
DESCRIPTION:Entries Close: Monday\, March 24\, 2025 11:59:59 PM Eastern Time(ET) on Hunt Secretary. \nJudges: Jim O Shea and Pete Anderson\n\n		\n			\n			\n		\n\n		\n 
URL:https://essft.com/event/timpanogos-hunting-spaniel-club-25/
CATEGORIES:Field Trials - West
END:VEVENT
BEGIN:VEVENT
DTSTART;TZID=America/Chicago:20250404T000000
DTEND;TZID=America/Chicago:20250405T000000
DTSTAMP:20260421T211433
CREATED:20250614T192404Z
LAST-MODIFIED:20250614T192404Z
UID:10011438-1743724800-1743811200@essft.com
SUMMARY:Timpanogos Hunting Spaniel Club COCKER Field Trial
DESCRIPTION:Entries Close: Monday\, March 24\, 2025 11:59:59 PM Eastern Time(ET) on Hunt Secretary. \nJudges: Jim O’Shea and Pete Anderson\n\n		\n			\n			\n		\n\n		\n 
URL:https://essft.com/event/timpanogos-hunting-spaniel-club-cocker-field-trial/
CATEGORIES:Cocker Trial
END:VEVENT
BEGIN:VEVENT
DTSTART;TZID=America/Chicago:20250404T000000
DTEND;TZID=America/Chicago:20250404T000000
DTSTAMP:20260421T211433
CREATED:20250614T192404Z
LAST-MODIFIED:20250614T192404Z
UID:10011439-1743724800-1743724800@essft.com
SUMMARY:Minnesota English Springer Spaniel Club
DESCRIPTION:Entries Close: Tuesday\, March 25\, 2025 11:59:59 PM Eastern Time(ET) on Hunt Secretary \nJudges: Jeff Miller and Patrick Berry
URL:https://essft.com/event/minnesota-english-springer-spaniel-club-16/
CATEGORIES:Field Trials - Mid West
END:VEVENT
BEGIN:VEVENT
DTSTART;TZID=America/Chicago:20250329T000000
DTEND;TZID=America/Chicago:20250330T000000
DTSTAMP:20260421T211433
CREATED:20250614T192404Z
LAST-MODIFIED:20250614T192404Z
UID:10011435-1743206400-1743292800@essft.com
SUMMARY:COCKER: Ohio Valley English Springer Spaniel Club Field Trial
DESCRIPTION:Entries Close: Tuesday\, March 18\, 2025 11:59:59 PM Eastern Time(ET) on Hunt Secretary. \nJudges: Dan Tuttle and Phil Lincoln\n\n		\n			\n			\n		\n\n		\n 
URL:https://essft.com/event/cocker-ohio-valley-english-springer-spaniel-club-field-trial/
CATEGORIES:Cocker Trial
END:VEVENT
BEGIN:VEVENT
DTSTART;TZID=America/Chicago:20250329T000000
DTEND;TZID=America/Chicago:20250330T000000
DTSTAMP:20260421T211433
CREATED:20250614T192404Z
LAST-MODIFIED:20250614T192404Z
UID:10011436-1743206400-1743292800@essft.com
SUMMARY:Lewis & Clark Spaniel Association Cocker Trial
DESCRIPTION:Entries Close: Tuesday\, March 18\, 2025 11:59:59 PM Eastern Time(ET) on Hunt Secretary. \nJudges: Ray Takmajian and Ron Anderson\n\n		\n			\n			\n		\n\n		\n 
URL:https://essft.com/event/lewis-clark-spaniel-association-cocker-trial/
CATEGORIES:Cocker Trial
END:VEVENT
BEGIN:VEVENT
DTSTART;TZID=America/Chicago:20250329T000000
DTEND;TZID=America/Chicago:20250330T000000
DTSTAMP:20260421T211433
CREATED:20250614T192349Z
LAST-MODIFIED:20250614T192349Z
UID:10011433-1743206400-1743292800@essft.com
SUMMARY:Minnesota Heartland English Springer Spaniel Club
DESCRIPTION:Entries Close: Tuesday\, March 18\, 2025 11:59:59 PM Eastern Time(ET) on Hunt Secretary. \nJudges: Chuck Nelson and Rick Schneider\n\n		\n			\n			\n		\n\n		\n 
URL:https://essft.com/event/minnesota-heartland-english-springer-spaniel-club-7-4/
CATEGORIES:Field Trials - Mid West
END:VEVENT
BEGIN:VEVENT
DTSTART;TZID=America/Chicago:20250329T000000
DTEND;TZID=America/Chicago:20250330T000000
DTSTAMP:20260421T211433
CREATED:20250614T192349Z
LAST-MODIFIED:20250614T192349Z
UID:10011434-1743206400-1743292800@essft.com
SUMMARY:Ohio Valley English Springer Spaniel Club Field Trial
DESCRIPTION:Entries Close: Tuesday\, March 18\, 2025 11:59:59 PM Eastern Time(ET) on Hunt Secretary. \nJudges: Bob Fink and Terry Quinlan\n\n		\n			\n			\n		\n\n		\n 
URL:https://essft.com/event/ohio-valley-english-springer-spaniel-club-field-trial/
CATEGORIES:Field Trials - Mid East
END:VEVENT
BEGIN:VEVENT
DTSTART;TZID=America/Chicago:20250329T000000
DTEND;TZID=America/Chicago:20250330T000000
DTSTAMP:20260421T211433
CREATED:20250614T192349Z
LAST-MODIFIED:20250614T192349Z
UID:10011432-1743206400-1743292800@essft.com
SUMMARY:Loup River English Springer Spaniel Club
DESCRIPTION:Entries Close: Tuesday\, March 18\, 2025 11:59:59 PM Eastern Time(ET) on Hunt Secretary. \nJudges: Bob Merrill and Richard ‘Rick’ Paquin
URL:https://essft.com/event/loup-river-english-springer-spaniel-club/
CATEGORIES:Field Trials - Rocky Mountain
END:VEVENT
BEGIN:VEVENT
DTSTART;TZID=America/Chicago:20250322T000000
DTEND;TZID=America/Chicago:20250322T000000
DTSTAMP:20260421T211433
CREATED:20250614T192349Z
LAST-MODIFIED:20250614T192349Z
UID:10011431-1742601600-1742601600@essft.com
SUMMARY:English Springer Spaniel Club of East Nebraska
DESCRIPTION:Entries Close: Tuesday\, March 11\, 2025 11:59:59 PM Eastern Time(ET) on Hunt Secretary. \nJudges: David Sanford Cindy Williams\n\n		\n			\n			\n		\n\n		\n 
URL:https://essft.com/event/english-springer-spaniel-club-of-east-nebraska-3/
CATEGORIES:Field Trials - Rocky Mountain
END:VEVENT
BEGIN:VEVENT
DTSTART;TZID=America/Chicago:20250321T000000
DTEND;TZID=America/Chicago:20250322T000000
DTSTAMP:20260421T211433
CREATED:20250614T192349Z
LAST-MODIFIED:20250614T192349Z
UID:10011430-1742515200-1742601600@essft.com
SUMMARY:Utah Springer Spaniel Club
DESCRIPTION:Entries Close: Monday\, March 10\, 2025 11:59:59 PM Eastern Time(ET) on Hunt Secretary. \nJudges: Greg Kuhlman and Phil Lincoln\n\n		\n			\n			\n		\n\n		\n 
URL:https://essft.com/event/utah-springer-spaniel-club-28/
CATEGORIES:Field Trials - West
END:VEVENT
BEGIN:VEVENT
DTSTART;TZID=America/Chicago:20250317T000000
DTEND;TZID=America/Chicago:20250317T000000
DTSTAMP:20260421T211433
CREATED:20250614T192334Z
LAST-MODIFIED:20250614T192334Z
UID:10011429-1742169600-1742169600@essft.com
SUMMARY:Saint Patrick's Day
DESCRIPTION:
URL:https://essft.com/event/saint-patricks-day/
CATEGORIES:Holidays
END:VEVENT
BEGIN:VEVENT
DTSTART;TZID=America/Chicago:20250315T000000
DTEND;TZID=America/Chicago:20250316T000000
DTSTAMP:20260421T211433
CREATED:20250614T192334Z
LAST-MODIFIED:20250614T192334Z
UID:10011426-1741996800-1742083200@essft.com
SUMMARY:Sportsmen’s Spaniel Club of Calumet
DESCRIPTION:Entries Close: Tuesday\, March 4\, 2025 11:59:59 PM Eastern Time(ET) on Hunt Secretary. \nJudges: Ray Jack and Mike Keough\n\n		\n			\n			\n		\n\n		\n 
URL:https://essft.com/event/sportsmens-spaniel-club-of-calumet-11-7/
CATEGORIES:Field Trials - Mid West
END:VEVENT
BEGIN:VEVENT
DTSTART;TZID=America/Chicago:20250315T000000
DTEND;TZID=America/Chicago:20250316T000000
DTSTAMP:20260421T211433
CREATED:20250614T192334Z
LAST-MODIFIED:20250614T192334Z
UID:10011427-1741996800-1742083200@essft.com
SUMMARY:Stillwater Valley ESSC
DESCRIPTION:Entries Close: Tuesday\, March 4\, 2025 11:59:59 PM Eastern Time(ET) on Hunt Secretary. \nJudges: Mhari Peschel and Pete Zuleger
URL:https://essft.com/event/stillwater-valley-essc-5/
CATEGORIES:Field Trials - Mid East
END:VEVENT
END:VCALENDAR