BEGIN:VCALENDAR
VERSION:2.0
PRODID:-//English Springer Spaniel Field Trials - ECPv6.15.20//NONSGML v1.0//EN
CALSCALE:GREGORIAN
METHOD:PUBLISH
X-WR-CALNAME:English Springer Spaniel Field Trials
X-ORIGINAL-URL:https://essft.com
X-WR-CALDESC:Events for English Springer Spaniel Field Trials
REFRESH-INTERVAL;VALUE=DURATION:PT1H
X-Robots-Tag:noindex
X-PUBLISHED-TTL:PT1H
BEGIN:VTIMEZONE
TZID:America/Chicago
BEGIN:DAYLIGHT
TZOFFSETFROM:-0600
TZOFFSETTO:-0500
TZNAME:CDT
DTSTART:20230312T080000
END:DAYLIGHT
BEGIN:STANDARD
TZOFFSETFROM:-0500
TZOFFSETTO:-0600
TZNAME:CST
DTSTART:20231105T070000
END:STANDARD
BEGIN:DAYLIGHT
TZOFFSETFROM:-0600
TZOFFSETTO:-0500
TZNAME:CDT
DTSTART:20240310T080000
END:DAYLIGHT
BEGIN:STANDARD
TZOFFSETFROM:-0500
TZOFFSETTO:-0600
TZNAME:CST
DTSTART:20241103T070000
END:STANDARD
BEGIN:DAYLIGHT
TZOFFSETFROM:-0600
TZOFFSETTO:-0500
TZNAME:CDT
DTSTART:20250309T080000
END:DAYLIGHT
BEGIN:STANDARD
TZOFFSETFROM:-0500
TZOFFSETTO:-0600
TZNAME:CST
DTSTART:20251102T070000
END:STANDARD
END:VTIMEZONE
BEGIN:VEVENT
DTSTART;TZID=America/Chicago:20241005T000000
DTEND;TZID=America/Chicago:20241006T000000
DTSTAMP:20260422T174430
CREATED:20250614T191126Z
LAST-MODIFIED:20250614T191126Z
UID:10011307-1728086400-1728172800@essft.com
SUMMARY:Arrowhead ESS Club
DESCRIPTION:Entries Close: Tuesday\, September 24\, 2024 11:59:59 PM Eastern Time(ET) on Hunt Secretary. \nJudges: Kevin Stewart and Steve Bender
URL:https://essft.com/event/arrowhead-ess-club-13/
CATEGORIES:Field Trials - West
END:VEVENT
BEGIN:VEVENT
DTSTART;TZID=America/Chicago:20241005T000000
DTEND;TZID=America/Chicago:20241006T000000
DTSTAMP:20260422T174430
CREATED:20250614T191126Z
LAST-MODIFIED:20250614T191126Z
UID:10011309-1728086400-1728172800@essft.com
SUMMARY:Northern Colorado Springer Spaniel Club
DESCRIPTION:Entries Close: Tuesday\, September 24\, 2024 11:59:59 PM Eastern Time(ET) on Hunt Secretary.  \nJudges: Mike McGinty (MN) and Brad Schindler (WI)
URL:https://essft.com/event/northern-colorado-springer-spaniel-club-5-7/
CATEGORIES:Field Trials - Rocky Mountain
END:VEVENT
BEGIN:VEVENT
DTSTART;TZID=America/Chicago:20241005T000000
DTEND;TZID=America/Chicago:20241005T000000
DTSTAMP:20260422T174430
CREATED:20250614T191126Z
LAST-MODIFIED:20250614T191126Z
UID:10011308-1728086400-1728086400@essft.com
SUMMARY:Minnesota Heartland English Springer Spaniel Club
DESCRIPTION:Entries Close: Tuesday\, September 24\, 2024 11:59:59 PM Eastern Time(ET) on Hunt Secretary \nJudges: Greg Kuhlman  and Trent Bosse   Apprentice: John Stuart\n\n		\n			\n			\n		\n\n		\n 
URL:https://essft.com/event/minnesota-heartland-english-springer-spaniel-club-7-3/
CATEGORIES:Field Trials - Mid West
END:VEVENT
BEGIN:VEVENT
DTSTART;TZID=America/Chicago:20241003T000000
DTEND;TZID=America/Chicago:20241004T000000
DTSTAMP:20260422T174430
CREATED:20250614T191126Z
LAST-MODIFIED:20250614T191126Z
UID:10011306-1727913600-1728000000@essft.com
SUMMARY:Rocky Mountain Springer Spaniel Club
DESCRIPTION:Entries Close: Monday\, September 23\, 2024 11:59:59 PM Eastern Time(ET) on Hunt Secretary.  \nJudges: Jim O’Keefe and Josh Riddle
URL:https://essft.com/event/rocky-mountain-springer-spaniel-club-3/
CATEGORIES:Field Trials - Rocky Mountain
END:VEVENT
BEGIN:VEVENT
DTSTART;TZID=America/Chicago:20241003T000000
DTEND;TZID=America/Chicago:20241004T000000
DTSTAMP:20260422T174430
CREATED:20250614T191125Z
LAST-MODIFIED:20250614T191125Z
UID:10011305-1727913600-1728000000@essft.com
SUMMARY:COCKER: Minnesota Heartland English Springer Spaniel Club
DESCRIPTION:Entries Close: Monday\, September 23\, 2024 11:59:59 PM Eastern Time(ET) on Hunt Secretary. \nJudges: Jerry Barrett and Randy Bartsch\n\n		\n			\n			\n		\n\n		\n 
URL:https://essft.com/event/cocker-minnesota-heartland-english-springer-spaniel-club/
CATEGORIES:Cocker Trial
END:VEVENT
BEGIN:VEVENT
DTSTART;TZID=America/Chicago:20241003T000000
DTEND;TZID=America/Chicago:20241004T000000
DTSTAMP:20260422T174430
CREATED:20250614T191104Z
LAST-MODIFIED:20250614T191104Z
UID:10011304-1727913600-1728000000@essft.com
SUMMARY:Fox Valley English Cocker Spaniel Club Springer Spaniel Trial (Thur-Fri)
DESCRIPTION:Entries Close: Monday\, September 23\, 2024 11:59:59 PM Eastern Time(ET) on Hunt Secretary. \nJudges: Chad Betts and Rick Shively
URL:https://essft.com/event/fox-valley-english-cocker-spaniel-club-springer-spaniel-trial-thur-fri/
CATEGORIES:Field Trials - Mid West
END:VEVENT
BEGIN:VEVENT
DTSTART;TZID=America/Chicago:20240928T000000
DTEND;TZID=America/Chicago:20240929T000000
DTSTAMP:20260422T174430
CREATED:20250614T191104Z
LAST-MODIFIED:20250614T191104Z
UID:10011300-1727481600-1727568000@essft.com
SUMMARY:Bushy Hill Springer Spaniel Field Trial Association
DESCRIPTION:Entries Close: Tuesday\, September 17\, 2024 11:59:59 PM Eastern Time(ET) on Hunt Secretary. \nJudges: Bill McCaffrey and Douglas Regnet
URL:https://essft.com/event/bushy-hill-springer-spaniel-field-trial-association-6-3/
CATEGORIES:Field Trials - East
ORGANIZER;CN="Suzanne Smith":MAILTO:ssmith@interimhealthcr.com
END:VEVENT
BEGIN:VEVENT
DTSTART;TZID=America/Chicago:20240928T000000
DTEND;TZID=America/Chicago:20240929T000000
DTSTAMP:20260422T174430
CREATED:20250614T191104Z
LAST-MODIFIED:20250614T191104Z
UID:10011301-1727481600-1727568000@essft.com
SUMMARY:Scotia Springer Club [FIELD TRIAL]
DESCRIPTION:ENTRIES — Closing Date & Draw: 5:00 pm ADT\, SUNDAY September 15\, 2024 \nJudges: John Bishop and Nevin Tucker
URL:https://essft.com/event/scotia-springer-club-field-trial-3/
CATEGORIES:Canadian FT
END:VEVENT
BEGIN:VEVENT
DTSTART;TZID=America/Chicago:20240928T000000
DTEND;TZID=America/Chicago:20240929T000000
DTSTAMP:20260422T174430
CREATED:20250614T191104Z
LAST-MODIFIED:20250614T191104Z
UID:10011302-1727481600-1727568000@essft.com
SUMMARY:South Western Ontario Spaniel Club
DESCRIPTION:Sept. 28th: Open and Amateur \nSept. 29th: Open\, Limit and Water Test \nJudges: TBA
URL:https://essft.com/event/south-western-ontario-spaniel-club-11-2/
CATEGORIES:Canadian FT
END:VEVENT
BEGIN:VEVENT
DTSTART;TZID=America/Chicago:20240928T000000
DTEND;TZID=America/Chicago:20240929T000000
DTSTAMP:20260422T174430
CREATED:20250614T191104Z
LAST-MODIFIED:20250614T191104Z
UID:10011303-1727481600-1727568000@essft.com
SUMMARY:Maine Spaniel Field Trial Club Barbara and Cary Haupt Field Trial
DESCRIPTION:Entries Close: Tuesday\, September 17\, 2024 11:59:59 PM Eastern Time(ET) on Hunt Secretary.  \nJudges: Cahir Lynch and Mark Stewart\n\n		\n			\n			\n		\n\n		\n 
URL:https://essft.com/event/maine-spaniel-field-trial-club-barbara-and-cary-haupt-field-trial/
CATEGORIES:Field Trials - East
END:VEVENT
BEGIN:VEVENT
DTSTART;TZID=America/Chicago:20240928T000000
DTEND;TZID=America/Chicago:20240929T000000
DTSTAMP:20260422T174430
CREATED:20250614T191014Z
LAST-MODIFIED:20250614T191014Z
UID:10011297-1727481600-1727568000@essft.com
SUMMARY:Northwest English Springer Spaniel Club Fall Field Trial
DESCRIPTION:Entries Close: Tuesday\, September 17\, 2024 11:59:59 PM Eastern Time(ET) on Hunt Secretary \nJudges: Katie Gorecki and Jerry Livingston
URL:https://essft.com/event/northwest-english-springer-spaniel-club-fall-field-trial/
CATEGORIES:Field Trials - West
ORGANIZER;CN="Paula Mazurek":MAILTO:mtmyst@cablespeed.com
END:VEVENT
BEGIN:VEVENT
DTSTART;TZID=America/Chicago:20240928T000000
DTEND;TZID=America/Chicago:20240929T000000
DTSTAMP:20260422T174430
CREATED:20250614T191014Z
LAST-MODIFIED:20250614T191014Z
UID:10011298-1727481600-1727568000@essft.com
SUMMARY:Northeast Wisconsin Spaniel Club
DESCRIPTION:Entries Close: Tuesday\, September 17\, 2024 11:59:59 PM Eastern Time(ET) on Hunt Secretary.  \nJudges: Skip Smith and Joe Stallman
URL:https://essft.com/event/northeast-wisconsin-spaniel-club-4-5/
CATEGORIES:Field Trials - Mid West
ORGANIZER;CN="Mark Moore":MAILTO:mark@mooreagphotos.com
END:VEVENT
BEGIN:VEVENT
DTSTART;TZID=America/Chicago:20240928T000000
DTEND;TZID=America/Chicago:20240929T000000
DTSTAMP:20260422T174430
CREATED:20250614T191014Z
LAST-MODIFIED:20250614T191014Z
UID:10011299-1727481600-1727568000@essft.com
SUMMARY:Southern Michigan SSTC English Springer Spaniel Field Trial
DESCRIPTION:4/2/2024: There is a U of M home football game the weekend of the trial so please make room reservations early. \nEntries Close: Tuesday\, September 17\, 2024 11:59:59 PM Eastern Time(ET) on Hunt Secretary \nJudges: Bob Fink and Dan Murray
URL:https://essft.com/event/southern-michigan-sstc-english-springer-spaniel-field-trial/
CATEGORIES:Field Trials - Mid East
END:VEVENT
BEGIN:VEVENT
DTSTART;TZID=America/Chicago:20240923T000000
DTEND;TZID=America/Chicago:20240924T000000
DTSTAMP:20260422T174430
CREATED:20250614T191014Z
LAST-MODIFIED:20250614T191014Z
UID:10011296-1727049600-1727136000@essft.com
SUMMARY:COCKER: Pittsburgh Fall Trial
DESCRIPTION:Entries Close: Tuesday\, September 10\, 2024 11:59:59 PM Eastern Time(ET) on Hunt Secretary. \nJudges: George Akkouris and Dave Edwards.
URL:https://essft.com/event/cocker-pittsburgh-fall-trial/
CATEGORIES:Cocker Trial
END:VEVENT
BEGIN:VEVENT
DTSTART;TZID=America/Chicago:20240921T000000
DTEND;TZID=America/Chicago:20240922T000000
DTSTAMP:20260422T174430
CREATED:20250614T191014Z
LAST-MODIFIED:20250614T191014Z
UID:10011295-1726876800-1726963200@essft.com
SUMMARY:English Springer Spaniel FT Assoc Spaniel Hunt Test
DESCRIPTION:Entries Close: Tuesday\, September 10\, 2024 11:59:59 PM Eastern Time(ET) on Hunt Secretary.  \nJudges: Danelle Oliver and Frank Hauenschild
URL:https://essft.com/event/english-springer-spaniel-ft-assoc-spaniel-hunt-test/
CATEGORIES:Hunt Tests
END:VEVENT
BEGIN:VEVENT
DTSTART;TZID=America/Chicago:20240921T000000
DTEND;TZID=America/Chicago:20240922T000000
DTSTAMP:20260422T174430
CREATED:20250614T190841Z
LAST-MODIFIED:20250614T190841Z
UID:10011292-1726876800-1726963200@essft.com
SUMMARY:COCKER: Patriot Sporting Spaniel Club's COCKER Field Trial 2024
DESCRIPTION:Entries Close: Tuesday\, September 10\, 2024 11:59:59 PM Eastern Time(ET) on Hunt Secretary. \nJudges: Sarah Foster and Rick Shively
URL:https://essft.com/event/cocker-patriot-sporting-spaniel-clubs-cocker-field-trial-2024/
CATEGORIES:Cocker Trial
END:VEVENT
BEGIN:VEVENT
DTSTART;TZID=America/Chicago:20240921T000000
DTEND;TZID=America/Chicago:20240922T000000
DTSTAMP:20260422T174430
CREATED:20250614T190841Z
LAST-MODIFIED:20250614T190841Z
UID:10011293-1726876800-1726963200@essft.com
SUMMARY:Southern Tier Field Trial Assn. Field Trial #2
DESCRIPTION:Entries Close: Tuesday\, September 10\, 2024 at 11:59 P.M. Eastern Time(ET) on Hunt Secretary. \nJudges: Robert Fink and Michael Keough
URL:https://essft.com/event/southern-tier-field-trial-assn-field-trial-2/
CATEGORIES:Field Trials - East
END:VEVENT
BEGIN:VEVENT
DTSTART;TZID=America/Chicago:20240921T000000
DTEND;TZID=America/Chicago:20240922T000000
DTSTAMP:20260422T174430
CREATED:20250614T190841Z
LAST-MODIFIED:20250614T190841Z
UID:10011294-1726876800-1726963200@essft.com
SUMMARY:Pittsburgh ESS
DESCRIPTION:Entries Close: Tuesday\, September 10\, 2024 11:59:59 PM Eastern Time(ET) on Hunt Secretary. \nJudges: Rick Paquin and Terry Sworsky
URL:https://essft.com/event/pittsburgh-ess/
CATEGORIES:Field Trials - Mid East
END:VEVENT
BEGIN:VEVENT
DTSTART;TZID=America/Chicago:20240920T000000
DTEND;TZID=America/Chicago:20240921T000000
DTSTAMP:20260422T174430
CREATED:20250614T190840Z
LAST-MODIFIED:20250614T190840Z
UID:10011291-1726790400-1726876800@essft.com
SUMMARY:Timpanogos Hunting Spaniel Club Event COCKER Field Trial (Double Open)
DESCRIPTION:Entries Close: Monday\, September 9\, 2024 11:59:59 PM Eastern Time(ET) on Hunt Secretary. \nJudges: Bob Iversen and Pete Andersen
URL:https://essft.com/event/timpanogos-hunting-spaniel-club-event-cocker-field-trial-double-open/
CATEGORIES:Cocker Trial
END:VEVENT
BEGIN:VEVENT
DTSTART;TZID=America/Chicago:20240920T000000
DTEND;TZID=America/Chicago:20240921T000000
DTSTAMP:20260422T174430
CREATED:20250614T190826Z
LAST-MODIFIED:20250614T190826Z
UID:10011288-1726790400-1726876800@essft.com
SUMMARY:Timpanogos Hunting Spaniel Club
DESCRIPTION:Entries Close: Monday\, September 9\, 2024 11:59:59 PM Eastern Time(ET) on Hunt Secretary. \nJudges: Bob Iversen and Brad Schindler\n\n		\n			\n			\n		\n\n		\n 
URL:https://essft.com/event/timpanogos-hunting-spaniel-club-24/
CATEGORIES:Field Trials - West
END:VEVENT
BEGIN:VEVENT
DTSTART;TZID=America/Chicago:20240920T000000
DTEND;TZID=America/Chicago:20240921T000000
DTSTAMP:20260422T174430
CREATED:20250614T190826Z
LAST-MODIFIED:20250614T190826Z
UID:10011289-1726790400-1726876800@essft.com
SUMMARY:Tilden Valley English Springer Spaniel Club
DESCRIPTION:Entries Close: Tuesday\, September 10\, 2024 11:59:59 PM Eastern Time(ET) on Hunt Secretary. \nJudges: Robert Clayton\, Kevin McGlin\, and John Dunn
URL:https://essft.com/event/tilden-valley-english-springer-spaniel-club-6-4/
CATEGORIES:Field Trials - Mid West
END:VEVENT
BEGIN:VEVENT
DTSTART;TZID=America/Chicago:20240920T000000
DTEND;TZID=America/Chicago:20240920T000000
DTSTAMP:20260422T174430
CREATED:20250614T190840Z
LAST-MODIFIED:20250614T190840Z
UID:10011290-1726790400-1726790400@essft.com
SUMMARY:Southern Tier Field Trial Assn. Field Trial #1
DESCRIPTION:Entries Close: Tuesday\, September 10\, 2024 at 11:59 P.M. Eastern Time(ET) on Hunt Secretary. \nJudges: Todd Agnew and Alex Smith
URL:https://essft.com/event/southern-tier-field-trial-assn-field-trial-1/
CATEGORIES:Field Trials - East
END:VEVENT
BEGIN:VEVENT
DTSTART;TZID=America/Chicago:20240915T000000
DTEND;TZID=America/Chicago:20240916T000000
DTSTAMP:20260422T174430
CREATED:20250614T190826Z
LAST-MODIFIED:20250614T190826Z
UID:10011287-1726358400-1726444800@essft.com
SUMMARY:Patriot Sporting Spaniel Club's SPRINGER Field Trial Fall 2024
DESCRIPTION:Entries Close: Tuesday\, September 3\, 2024 11:59:59 PM Eastern Time(ET) on Hunt Secretary. \nJudges: Andre Trudel and Pete Andersen
URL:https://essft.com/event/patriot-sporting-spaniel-clubs-springer-field-trial-fall-2024/
CATEGORIES:Field Trials - East
END:VEVENT
BEGIN:VEVENT
DTSTART;TZID=America/Chicago:20240914T000000
DTEND;TZID=America/Chicago:20240915T000000
DTSTAMP:20260422T174430
CREATED:20250614T190826Z
LAST-MODIFIED:20250614T190826Z
UID:10011286-1726272000-1726358400@essft.com
SUMMARY:Gateway Upland Hunt Club Hunt Test
DESCRIPTION:Entries Close: Tuesday\, September 3\, 2024 at 11:59 P.M. Eastern Time(ET) on Hunt Secretary. \nJudges: Tim Baker and Michael Gregory
URL:https://essft.com/event/gateway-upland-hunt-club-hunt-test/
CATEGORIES:Hunt Tests
END:VEVENT
BEGIN:VEVENT
DTSTART;TZID=America/Chicago:20240914T000000
DTEND;TZID=America/Chicago:20240915T000000
DTSTAMP:20260422T174430
CREATED:20250614T190825Z
LAST-MODIFIED:20250614T190825Z
UID:10011285-1726272000-1726358400@essft.com
SUMMARY:Susquehanna Valley ESS
DESCRIPTION:Entries Close: TBD \nJudges: TBD
URL:https://essft.com/event/susquehanna-valley-ess-2/
CATEGORIES:Field Trials - Mid East
END:VEVENT
BEGIN:VEVENT
DTSTART;TZID=America/Chicago:20240914T000000
DTEND;TZID=America/Chicago:20240915T000000
DTSTAMP:20260422T174430
CREATED:20250614T190811Z
LAST-MODIFIED:20250614T190811Z
UID:10011281-1726272000-1726358400@essft.com
SUMMARY:Cocker Spaniel Field Trial Club of America’s 100th Year Celebration
DESCRIPTION:Entries Close: Tuesday\, September 3\, 2024 11:59:59 PM Eastern Time(ET) on Hunt Secretary. \nJudges: Dave Proctor and Dave Williams
URL:https://essft.com/event/cocker-spaniel-field-trial-club-of-americas-100th-year-celebration/
CATEGORIES:Cocker Trial
END:VEVENT
BEGIN:VEVENT
DTSTART;TZID=America/Chicago:20240914T000000
DTEND;TZID=America/Chicago:20240915T000000
DTSTAMP:20260422T174430
CREATED:20250614T190811Z
LAST-MODIFIED:20250614T190811Z
UID:10011282-1726272000-1726358400@essft.com
SUMMARY:Maryland Sporting Dog Association Spaniel Hunting Test.
DESCRIPTION:Entries Close: Tuesday\, September 3\, 2024 11:59:59 PM Eastern Time(ET) on Hunt Secretary. \nJudges: Joe Worsham and John Huddleston
URL:https://essft.com/event/maryland-sporting-dog-association-spaniel-hunting-test/
CATEGORIES:Hunt Tests
END:VEVENT
BEGIN:VEVENT
DTSTART;TZID=America/Chicago:20240914T000000
DTEND;TZID=America/Chicago:20240915T000000
DTSTAMP:20260422T174430
CREATED:20250614T190811Z
LAST-MODIFIED:20250614T190811Z
UID:10011283-1726272000-1726358400@essft.com
SUMMARY:Cocker Spaniel Hunting Enthusiasts of SE WI Fall Cocker Trial
DESCRIPTION:09/10/2024: Location Change. The new location will be the lower Wisconsin Riverway Dog Training Area\, County Y\, Mazomanie WI \n  \nEntries Close: Tuesday\, September 3\, 2024 11:59:59 PM Eastern Time(ET) on Hunt Secretary. \nJudges: Brent LeMaster and Kevin McGlin\n\n		\n			\n			\n		\n\n		\n 
URL:https://essft.com/event/cocker-spaniel-hunting-enthusiasts-of-se-wi-fall-cocker-trial/
CATEGORIES:Cocker Trial
END:VEVENT
BEGIN:VEVENT
DTSTART;TZID=America/Chicago:20240914T000000
DTEND;TZID=America/Chicago:20240915T000000
DTSTAMP:20260422T174430
CREATED:20250614T190811Z
LAST-MODIFIED:20250614T190811Z
UID:10011284-1726272000-1726358400@essft.com
SUMMARY:Western Washington English Springer Spaniel Club - SPRINGER Field Trial
DESCRIPTION:Entries Close: Monday\, September 2\, 2024 11:59:59 PM Eastern Time(ET) on Hunt Secretary. \nJudges: Phil Lincoln and Jeff Miller
URL:https://essft.com/event/western-washington-english-springer-spaniel-club-springer-field-trial/
CATEGORIES:Field Trials - West
END:VEVENT
BEGIN:VEVENT
DTSTART;TZID=America/Chicago:20240914T000000
DTEND;TZID=America/Chicago:20240915T000000
DTSTAMP:20260422T174430
CREATED:20250614T190810Z
LAST-MODIFIED:20250614T190810Z
UID:10011280-1726272000-1726358400@essft.com
SUMMARY:Eastern Slopes Spaniel Association
DESCRIPTION:Entries close: September 3\, 2024 08:00 PM\, MDT \nJudges: Gerald Babin\, Olivia Steele-Mortimer\, and Al Carbone
URL:https://essft.com/event/eastern-slopes-spaniel-association-12-3/
CATEGORIES:Canadian FT
END:VEVENT
END:VCALENDAR