BEGIN:VCALENDAR
VERSION:2.0
PRODID:-//English Springer Spaniel Field Trials - ECPv6.15.20//NONSGML v1.0//EN
CALSCALE:GREGORIAN
METHOD:PUBLISH
X-WR-CALNAME:English Springer Spaniel Field Trials
X-ORIGINAL-URL:https://essft.com
X-WR-CALDESC:Events for English Springer Spaniel Field Trials
REFRESH-INTERVAL;VALUE=DURATION:PT1H
X-Robots-Tag:noindex
X-PUBLISHED-TTL:PT1H
BEGIN:VTIMEZONE
TZID:America/Chicago
BEGIN:DAYLIGHT
TZOFFSETFROM:-0600
TZOFFSETTO:-0500
TZNAME:CDT
DTSTART:20210314T080000
END:DAYLIGHT
BEGIN:STANDARD
TZOFFSETFROM:-0500
TZOFFSETTO:-0600
TZNAME:CST
DTSTART:20211107T070000
END:STANDARD
BEGIN:DAYLIGHT
TZOFFSETFROM:-0600
TZOFFSETTO:-0500
TZNAME:CDT
DTSTART:20220313T080000
END:DAYLIGHT
BEGIN:STANDARD
TZOFFSETFROM:-0500
TZOFFSETTO:-0600
TZNAME:CST
DTSTART:20221106T070000
END:STANDARD
BEGIN:DAYLIGHT
TZOFFSETFROM:-0600
TZOFFSETTO:-0500
TZNAME:CDT
DTSTART:20230312T080000
END:DAYLIGHT
BEGIN:STANDARD
TZOFFSETFROM:-0500
TZOFFSETTO:-0600
TZNAME:CST
DTSTART:20231105T070000
END:STANDARD
END:VTIMEZONE
BEGIN:VEVENT
DTSTART;TZID=America/Chicago:20220930T000000
DTEND;TZID=America/Chicago:20221003T000000
DTSTAMP:20260422T190345
CREATED:20250613T044131Z
LAST-MODIFIED:20250613T044131Z
UID:10010785-1664496000-1664755200@essft.com
SUMMARY:COCKER: Rocky Mountain SSC
DESCRIPTION:Entries Close: Monday\, September 19\, 2022 11:59:59 PM Eastern Time(ET) on Hunt Secretary \nJudges: Cathy Lewis and Jerry Barrett \nCombined with a springer trial.
URL:https://essft.com/event/cocker-rocky-mountain-ssc/
CATEGORIES:Cocker Trial
END:VEVENT
BEGIN:VEVENT
DTSTART;TZID=America/Chicago:20220930T000000
DTEND;TZID=America/Chicago:20221002T000000
DTSTAMP:20260422T190345
CREATED:20250613T044116Z
LAST-MODIFIED:20250613T044116Z
UID:10010783-1664496000-1664668800@essft.com
SUMMARY:Northwest ESS Club
DESCRIPTION:Entries Close: Monday\, September 19\, 2022 11:59:59 PM Eastern Time(ET) on Hunt Secretary \nJudges: Bill Cosgrove and Chad Betts
URL:https://essft.com/event/northwest-ess-club-5/
LOCATION:Knaupp Farm\, Rickreall\, OR 97371\, USA\, Rickreall\, Oregon\, 97371\, United States
CATEGORIES:Field Trials - West
ORGANIZER;CN="Paula Mazurek":MAILTO:mtmyst@cablespeed.com
GEO:44.932282;-123.235104
X-APPLE-STRUCTURED-LOCATION;VALUE=URI;X-ADDRESS=Knaupp Farm Rickreall OR 97371 USA Rickreall Oregon 97371 United States;X-APPLE-RADIUS=500;X-TITLE=Rickreall\, OR 97371\, USA:geo:-123.235104,44.932282
END:VEVENT
BEGIN:VEVENT
DTSTART;TZID=America/Chicago:20220930T000000
DTEND;TZID=America/Chicago:20221001T000000
DTSTAMP:20260422T190345
CREATED:20250613T044131Z
LAST-MODIFIED:20250628T014224Z
UID:10010786-1664496000-1664582400@essft.com
SUMMARY:Canadian Amateur National
DESCRIPTION:Entries Close: Tueday\, Sep 20\, 2022\, 8:00PM MDT on Dogshow.ca   \nJudges: Wil Pick (Wisconsin) and Pierre Asselin\, QC\n\n		\n			\n			\n		\n\n		\n 
URL:https://essft.com/event/canadian-amateur-national/
CATEGORIES:NATIONAL FIELD TRIALS
END:VEVENT
BEGIN:VEVENT
DTSTART;TZID=America/Chicago:20220930T000000
DTEND;TZID=America/Chicago:20221001T000000
DTSTAMP:20260422T190345
CREATED:20250613T044116Z
LAST-MODIFIED:20250613T044116Z
UID:10010784-1664496000-1664582400@essft.com
SUMMARY:Rocky Mountain SSC
DESCRIPTION:Entries Close: Monday\, September 19\, 2022 11:59:59 PM Eastern Time(ET) on Hunt Secretary \nJudges: Jerry Barrett and Cathy Lewis\n  \nFriday\, September 30th:  Springer Open alternating with  Cocker Open #1 \nSaturday\, October 1st:  Springer Amateur alternating with Cocker Open #2 or Cocker Amateur \nNote:  Depending upon the number of entries the trial may carry over to Sunday. \n\n		\n			\n			\n		\n\n		\n 
URL:https://essft.com/event/rocky-mountain-ssc-3/
CATEGORIES:Field Trials - Rocky Mountain
END:VEVENT
BEGIN:VEVENT
DTSTART;TZID=America/Chicago:20220930T000000
DTEND;TZID=America/Chicago:20220930T000000
DTSTAMP:20260422T190345
CREATED:20250613T044131Z
LAST-MODIFIED:20250613T044131Z
UID:10010787-1664496000-1664496000@essft.com
SUMMARY:COCKER:  Northwest English Springer Spaniel Club
DESCRIPTION:Entries Close: Monday\, September 19\, 2022 11:59:59 PM Eastern Time(ET) on Hunt Secretary \nJudges: Don Mock and Bob Willis
URL:https://essft.com/event/cocker-northwest-english-springer-spaniel-club-3/
LOCATION:Knaupp Farm\, Rickreall\, OR 97371\, USA\, Rickreall\, Oregon\, 97371\, United States
CATEGORIES:Cocker Trial
ORGANIZER;CN="Paula Mazurek":MAILTO:mtmyst@cablespeed.com
GEO:44.932282;-123.235104
X-APPLE-STRUCTURED-LOCATION;VALUE=URI;X-ADDRESS=Knaupp Farm Rickreall OR 97371 USA Rickreall Oregon 97371 United States;X-APPLE-RADIUS=500;X-TITLE=Rickreall\, OR 97371\, USA:geo:-123.235104,44.932282
END:VEVENT
BEGIN:VEVENT
DTSTART;TZID=America/Chicago:20220930T000000
DTEND;TZID=America/Chicago:20220930T000000
DTSTAMP:20260422T190345
CREATED:20250613T044131Z
LAST-MODIFIED:20250613T044131Z
UID:10010788-1664496000-1664496000@essft.com
SUMMARY:Gunning Seminar hosted by Southern Michigan Springer Spaniel Training Club
DESCRIPTION:The date for this gunning seminar will be September 30\, 2022\, start time 8:00 am.\, at\nSteve Collin’s home 4895 Henry Road\, Jackson\, MI 49201. \nThe seminar will be conducted by Mike Elsasser\, Mid-East Regional Gunning Director\,\nand Steve Collins\, Mid-East Regional Assistant Gunning Director. \nThe price is $60.00 and will include birds for all shooters and lunch. \nWe will start the classroom portion at Steve’s house in the morning\, have lunch and\nthen proceed to the grounds for the shooting portion of the seminar. \nPlease bring your own gun and shells. \nYou must register before September 23 rd . Make checks payable to SMSSTC and mail\nthem to Kathy Nestor\, 9800 7 Mile Road\, Northville\, MI 48167. \nSouthern Michigan’s Springer Spaniel Field Trial is October 1 and 2 so make a\nweekend out of it and run the trial while you’re here! \nIf you have any questions\, please call Kathy Nestor at 248-705-2648 or email to\nkathleennestor@aol.com.
URL:https://essft.com/event/gunning-seminar-hosted-by-southern-michigan-springer-spaniel-training-club/
CATEGORIES:Gunning Seminars
END:VEVENT
BEGIN:VEVENT
DTSTART;TZID=America/Chicago:20220929T000000
DTEND;TZID=America/Chicago:20220930T000000
DTSTAMP:20260422T190345
CREATED:20250613T044116Z
LAST-MODIFIED:20250613T044116Z
UID:10010782-1664409600-1664496000@essft.com
SUMMARY:Fox Valley English Cocker Spaniel Club
DESCRIPTION:Entries Close: Monday\, September 19\, 2022 11:59:59 PM Eastern Time(ET) on Hunt Secretary \nJudges: Pat Gilligan and Ryan Lamberg\n Springers on Sept 29/30 and Cockers Oct 1/2
URL:https://essft.com/event/fox-valley-english-cocker-spaniel-club-4-2/
LOCATION:Connolly Game Farm\, Reedsville\, WI 54230\, USA\, Reedsville\, Wisconsin\, 54230\, United States
CATEGORIES:Field Trials - Mid West
GEO:44.153604;-87.956762
X-APPLE-STRUCTURED-LOCATION;VALUE=URI;X-ADDRESS=Connolly Game Farm Reedsville WI 54230 USA Reedsville Wisconsin 54230 United States;X-APPLE-RADIUS=500;X-TITLE=Reedsville\, WI 54230\, USA:geo:-87.956762,44.153604
END:VEVENT
BEGIN:VEVENT
DTSTART;TZID=America/Chicago:20220927T000000
DTEND;TZID=America/Chicago:20220928T000000
DTSTAMP:20260422T190345
CREATED:20250613T044116Z
LAST-MODIFIED:20250613T044116Z
UID:10010781-1664236800-1664323200@essft.com
SUMMARY:Pawnee FSC
DESCRIPTION:8/16/2022 – Pawnee will not be holding a trial this fall. \n 
URL:https://essft.com/event/pawnee-fsc/
CATEGORIES:Field Trials - Rocky Mountain
END:VEVENT
BEGIN:VEVENT
DTSTART;TZID=America/Chicago:20220924T000000
DTEND;TZID=America/Chicago:20220927T000000
DTSTAMP:20260422T190345
CREATED:20250613T044101Z
LAST-MODIFIED:20250613T044101Z
UID:10010775-1663977600-1664236800@essft.com
SUMMARY:Southern Tier Field Trial Assoc. 2 Trials
DESCRIPTION:Entries Close: Tuesday\, September 13\, 2022 11:59:59 PM Eastern Time(ET) on Hunt Secretary \nSaturday /  Sunday Judges:  Gary Soper and Jim Cappelli\nMonday / Tuesday Judges:  Katie Gorecki and Jim Bruggeman\n\n		\n			\n			\n		\n\n		\n\n		\n			\n			\n		\n\n		\n 
URL:https://essft.com/event/southern-tier-field-trial-assoc-2-trials/
LOCATION:Richard Stewart Farm\, Canisteo\, NY 14823\, USA\, Canisteo\, New York\, 14823\, United States
CATEGORIES:Field Trials - East
GEO:42.291091;-77.498077
X-APPLE-STRUCTURED-LOCATION;VALUE=URI;X-ADDRESS=Richard Stewart Farm Canisteo NY 14823 USA Canisteo New York 14823 United States;X-APPLE-RADIUS=500;X-TITLE=Canisteo\, NY 14823\, USA:geo:-77.498077,42.291091
END:VEVENT
BEGIN:VEVENT
DTSTART;TZID=America/Chicago:20220924T000000
DTEND;TZID=America/Chicago:20220926T000000
DTSTAMP:20260422T190345
CREATED:20250613T044101Z
LAST-MODIFIED:20250628T014232Z
UID:10010777-1663977600-1664150400@essft.com
SUMMARY:Canadian Open National
DESCRIPTION:Entries Close: TBD \nJudges:
URL:https://essft.com/event/canadian-open-national/
CATEGORIES:NATIONAL FIELD TRIALS
END:VEVENT
BEGIN:VEVENT
DTSTART;TZID=America/Chicago:20220924T000000
DTEND;TZID=America/Chicago:20220925T000000
DTSTAMP:20260422T190345
CREATED:20250613T044116Z
LAST-MODIFIED:20250613T044116Z
UID:10010780-1663977600-1664064000@essft.com
SUMMARY:COCKER: Patriot Sporting Spaniel Club
DESCRIPTION:Entries Close: Tuesday\, September 13\, 2022 11:59:59 PM Eastern Time(ET) on Hunt Secretary \nJudges: Dan Lussen and Vern Knapp
URL:https://essft.com/event/cocker-patriot-sporting-spaniel-club-3/
CATEGORIES:Cocker Trial
END:VEVENT
BEGIN:VEVENT
DTSTART;TZID=America/Chicago:20220924T000000
DTEND;TZID=America/Chicago:20220925T000000
DTSTAMP:20260422T190345
CREATED:20250613T044101Z
LAST-MODIFIED:20250613T044101Z
UID:10010779-1663977600-1664064000@essft.com
SUMMARY:Eastern Nebraska - Water Test
DESCRIPTION:Entries Close: Tuesday\, September 13\, 2022 11:59:59 PM Eastern Time(ET) on Hunt Secretary \nWater Test Judges:  Terry Sworsky and Kevin Rutherford
URL:https://essft.com/event/eastern-nebraska-water-test/
CATEGORIES:Water Test
END:VEVENT
BEGIN:VEVENT
DTSTART;TZID=America/Chicago:20220924T000000
DTEND;TZID=America/Chicago:20220925T000000
DTSTAMP:20260422T190345
CREATED:20250613T044101Z
LAST-MODIFIED:20250613T044101Z
UID:10010776-1663977600-1664064000@essft.com
SUMMARY:English Springer Spaniel Club of Eastern Nebraska
DESCRIPTION:Entries Close: TBD \nJudges: Kevin Rutherford and Terry Sworsky
URL:https://essft.com/event/english-springer-spaniel-club-of-eastern-nebraska-4-5/
CATEGORIES:Field Trials - Rocky Mountain
END:VEVENT
BEGIN:VEVENT
DTSTART;TZID=America/Chicago:20220924T000000
DTEND;TZID=America/Chicago:20220925T000000
DTSTAMP:20260422T190345
CREATED:20250613T044101Z
LAST-MODIFIED:20250613T044101Z
UID:10010778-1663977600-1664064000@essft.com
SUMMARY:Pittsburgh ESS Field Trial Club
DESCRIPTION:Entries Close: Tuesday\, September 13\, 2022 11:59:59 PM Eastern Time(ET) on Hunt Secretary \nJudges: Kevin Martineau and Paul Haering
URL:https://essft.com/event/pittsburgh-ess-field-trial-club-3/
CATEGORIES:Field Trials - Mid East
END:VEVENT
BEGIN:VEVENT
DTSTART;TZID=America/Chicago:20220924T000000
DTEND;TZID=America/Chicago:20220925T000000
DTSTAMP:20260422T190345
CREATED:20250613T044046Z
LAST-MODIFIED:20250613T044046Z
UID:10010774-1663977600-1664064000@essft.com
SUMMARY:Northeast Wisconsin Spaniel Club
DESCRIPTION:Entries Close: Tuesday\, September 13\, 2022 11:59:59 PM Eastern Time(ET) on Hunt Secretary \nJudges: Randy Manore and Aaron Wendel\n\n		\n			\n			\n		\n\n		\n 
URL:https://essft.com/event/northeast-wisconsin-spaniel-club-4-3/
CATEGORIES:Field Trials - Mid West
ORGANIZER;CN="Mark Moore":MAILTO:mark@mooreagphotos.com
END:VEVENT
BEGIN:VEVENT
DTSTART;TZID=America/Chicago:20220923T000000
DTEND;TZID=America/Chicago:20220924T000000
DTSTAMP:20260422T190345
CREATED:20250613T044046Z
LAST-MODIFIED:20250613T044046Z
UID:10010773-1663891200-1663977600@essft.com
SUMMARY:Timpanogos Hunting Spaniel Club
DESCRIPTION:Entries Close: Monday\, September 12\, 2022 11:59:59 PM Eastern Time(ET) on Hunt Secretary \nJudges: George Akkouris  and Michael Nolan
URL:https://essft.com/event/timpanogos-hunting-spaniel-club-16/
LOCATION:Clarkston Trial Grounds\, 4900 W 11000 N\, Clarkston\, UT 84305\, USA\, Clarkston\, Utah\, 84305\, United States
CATEGORIES:Field Trials - West
GEO:41.931805;-112.01117
X-APPLE-STRUCTURED-LOCATION;VALUE=URI;X-ADDRESS=Clarkston Trial Grounds 4900 W 11000 N Clarkston UT 84305 USA Clarkston Utah 84305 United States;X-APPLE-RADIUS=500;X-TITLE=4900 W 11000 N\, Clarkston\, UT 84305\, USA:geo:-112.01117,41.931805
END:VEVENT
BEGIN:VEVENT
DTSTART;TZID=America/Chicago:20220919T000000
DTEND;TZID=America/Chicago:20220919T000000
DTSTAMP:20260422T190345
CREATED:20250613T044046Z
LAST-MODIFIED:20250613T044046Z
UID:10010772-1663545600-1663545600@essft.com
SUMMARY:Cocker Spaniel Hunting Enthusiasts - Springer Trial
DESCRIPTION:Entries Close: Tuesday\, September 6\, 2022 11:59:59 PM Eastern Time(ET) on Hunt Secretary \nJudges: Kevin McGlin and Brian Bilotta
URL:https://essft.com/event/cocker-spaniel-hunting-enthusiasts-springer-trial/
LOCATION:Oasis Game Farm\, New Glarus\, WI 53574\, USA\, New Glarus\, Wisconsin\, 53574\, United States
CATEGORIES:Field Trials - Mid West
GEO:42.837895;-89.729012
X-APPLE-STRUCTURED-LOCATION;VALUE=URI;X-ADDRESS=Oasis Game Farm New Glarus WI 53574 USA New Glarus Wisconsin 53574 United States;X-APPLE-RADIUS=500;X-TITLE=New Glarus\, WI 53574\, USA:geo:-89.729012,42.837895
END:VEVENT
BEGIN:VEVENT
DTSTART;TZID=America/Chicago:20220917T000000
DTEND;TZID=America/Chicago:20220918T000000
DTSTAMP:20260422T190345
CREATED:20250613T044046Z
LAST-MODIFIED:20250613T044046Z
UID:10010771-1663372800-1663459200@essft.com
SUMMARY:COCKER: Cocker Spaniel Field Trial Club of America Field Trial Fall 2022 Double Open/Amateur
DESCRIPTION:Entries Close: Tuesday\, September 6\, 2022 11:59:59 PM Eastern Time(ET) on Hunt Secretary \n\n		\n			\n			\n		\n\n		\n 
URL:https://essft.com/event/cocker-cocker-spaniel-field-trial-club-of-america-field-trial-fall-2022-double-open-amateur/
LOCATION:Mid County Rod and Gun Club\, 650 Waterbury Hill Rd\, Lagrangeville\, NY 12540\, USA\, Lagrangeville\, New York\, 12540\, United States
CATEGORIES:Cocker Trial
GEO:41.69856;-73.706758
X-APPLE-STRUCTURED-LOCATION;VALUE=URI;X-ADDRESS=Mid County Rod and Gun Club 650 Waterbury Hill Rd Lagrangeville NY 12540 USA Lagrangeville New York 12540 United States;X-APPLE-RADIUS=500;X-TITLE=650 Waterbury Hill Rd\, Lagrangeville\, NY 12540\, USA:geo:-73.706758,41.69856
END:VEVENT
BEGIN:VEVENT
DTSTART;TZID=America/Chicago:20220917T000000
DTEND;TZID=America/Chicago:20220918T000000
DTSTAMP:20260422T190345
CREATED:20250613T044031Z
LAST-MODIFIED:20250613T044031Z
UID:10010766-1663372800-1663459200@essft.com
SUMMARY:Western Washington ESS Club
DESCRIPTION:Entries Close: TBD \nJudges: TBD \nThank you for your patience.  We are waiting for more information from the Field Trial Secretary.
URL:https://essft.com/event/western-washington-ess-club-5/
CATEGORIES:Field Trials - West
END:VEVENT
BEGIN:VEVENT
DTSTART;TZID=America/Chicago:20220917T000000
DTEND;TZID=America/Chicago:20220918T000000
DTSTAMP:20260422T190345
CREATED:20250613T044031Z
LAST-MODIFIED:20250613T044031Z
UID:10010767-1663372800-1663459200@essft.com
SUMMARY:Patriot Sporting Spaniel Club
DESCRIPTION:Entries Close: Tuesday\, September 6\, 2022 11:59:59 PM Eastern Time(ET) on Hunt Secretary \nJudges: Rick Shively and Trent Bosse\n\n		\n			\n			\n		\n\n		\n  \n 
URL:https://essft.com/event/patriot-sporting-spaniel-club-9/
CATEGORIES:Field Trials - East
END:VEVENT
BEGIN:VEVENT
DTSTART;TZID=America/Chicago:20220917T000000
DTEND;TZID=America/Chicago:20220918T000000
DTSTAMP:20260422T190345
CREATED:20250613T044031Z
LAST-MODIFIED:20250613T044031Z
UID:10010768-1663372800-1663459200@essft.com
SUMMARY:Susquehanna Valley ESS Club
DESCRIPTION:Entries Close: Tuesday\, September 6\, 2022 11:59:59 PM Eastern Time(ET) on Hunt Secretary \nJudges: Paul Johannes  and Roland Snyder
URL:https://essft.com/event/susquehanna-valley-ess-club-5/
LOCATION:Sinking Valley\, Tyrone\, PA 16686\, USA\, Tyrone\, Pennsylvania\, 16686\, United States
CATEGORIES:Field Trials - Mid East
GEO:40.670618;-78.238624
X-APPLE-STRUCTURED-LOCATION;VALUE=URI;X-ADDRESS=Sinking Valley Tyrone PA 16686 USA Tyrone Pennsylvania 16686 United States;X-APPLE-RADIUS=500;X-TITLE=Tyrone\, PA 16686\, USA:geo:-78.238624,40.670618
END:VEVENT
BEGIN:VEVENT
DTSTART;TZID=America/Chicago:20220917T000000
DTEND;TZID=America/Chicago:20220918T000000
DTSTAMP:20260422T190345
CREATED:20250613T044031Z
LAST-MODIFIED:20250613T044031Z
UID:10010769-1663372800-1663459200@essft.com
SUMMARY:Maryland Sporting Dog Association
DESCRIPTION:Entries Close: Tuesday\, September 6\, 2022 11:59:59 PM Eastern Time(ET) on Hunt Secretary
URL:https://essft.com/event/maryland-sporting-dog-association-2/
LOCATION:Rebel Ridge Farm\, 295 Woods Rd\, Elkton\, MD 21921\, USA\, Elkton\, Maryland\, 21921\, United States
CATEGORIES:Hunt Tests
GEO:39.555428;-75.789047
X-APPLE-STRUCTURED-LOCATION;VALUE=URI;X-ADDRESS=Rebel Ridge Farm 295 Woods Rd Elkton MD 21921 USA Elkton Maryland 21921 United States;X-APPLE-RADIUS=500;X-TITLE=295 Woods Rd\, Elkton\, MD 21921\, USA:geo:-75.789047,39.555428
END:VEVENT
BEGIN:VEVENT
DTSTART;TZID=America/Chicago:20220917T000000
DTEND;TZID=America/Chicago:20220917T000000
DTSTAMP:20260422T190345
CREATED:20250613T044046Z
LAST-MODIFIED:20250613T044046Z
UID:10010770-1663372800-1663372800@essft.com
SUMMARY:Cascade English Cocker Spaniel Fanciers - English SPRINGER Spaniel Field Trial
DESCRIPTION:Entries Close: Tuesday\, September 6\, 2022 11:59:59 PM Eastern Time(ET) on Hunt Secretary \nJudges: Rumi Schroeder and Dave Anderson\n 
URL:https://essft.com/event/cascade-english-cocker-spaniel-fanciers-english-springer-spaniel-field-trial/
CATEGORIES:Field Trials - West
END:VEVENT
BEGIN:VEVENT
DTSTART;TZID=America/Chicago:20220916T000000
DTEND;TZID=America/Chicago:20220918T000000
DTSTAMP:20260422T190345
CREATED:20250613T044031Z
LAST-MODIFIED:20250613T044031Z
UID:10010765-1663286400-1663459200@essft.com
SUMMARY:Cocker Spaniel Hunting Enthusiasts of SE WI
DESCRIPTION:Entries Close: Tuesday\, September 6\, 2022 11:59:59 PM Eastern Time(ET) on Hunt Secretary
URL:https://essft.com/event/cocker-spaniel-hunting-enthusiasts-of-se-wi/
LOCATION:Oasis Game Farm\, New Glarus\, WI 53574\, USA\, New Glarus\, Wisconsin\, 53574\, United States
CATEGORIES:Cocker Trial
GEO:42.837895;-89.729012
X-APPLE-STRUCTURED-LOCATION;VALUE=URI;X-ADDRESS=Oasis Game Farm New Glarus WI 53574 USA New Glarus Wisconsin 53574 United States;X-APPLE-RADIUS=500;X-TITLE=New Glarus\, WI 53574\, USA:geo:-89.729012,42.837895
END:VEVENT
BEGIN:VEVENT
DTSTART;TZID=America/Chicago:20220916T000000
DTEND;TZID=America/Chicago:20220918T000000
DTSTAMP:20260422T190345
CREATED:20250613T044016Z
LAST-MODIFIED:20250613T044016Z
UID:10010763-1663286400-1663459200@essft.com
SUMMARY:COCKER: Western Washington Eng. Springer Spaniel Club
DESCRIPTION:We are going to have a 3 day trial with the Cascade Eng. Cocker Fanciers.  This will be on our weekend of Sept. 16 – 18.   Here is our schedule:\n\n\n\nFriday\, Sept. 16:\nWWESSC   Springer Open\, Cocker Open\nCascade     Cocker Puppy\n\nSaturday Sept. 17:\nCascade     Cocker Open\, Springer Open\nWWESSC   Springer Puppy\n\nSunday Sept. 18:\nWWESSC   Springer Amateur\nCascade      Cocker Amateur\n\nWill be held at JBLM\, Fort Lewis\, Washington\nEntries $150\, and $50. for puppy
URL:https://essft.com/event/cocker-western-washington-eng-springer-spaniel-club/
CATEGORIES:Cocker Trial
END:VEVENT
BEGIN:VEVENT
DTSTART;TZID=America/Chicago:20220916T000000
DTEND;TZID=America/Chicago:20220918T000000
DTSTAMP:20260422T190345
CREATED:20250613T044016Z
LAST-MODIFIED:20250613T044016Z
UID:10010764-1663286400-1663459200@essft.com
SUMMARY:Club de Chiens de Chasse de Quebec
DESCRIPTION:Waiting for more information….
URL:https://essft.com/event/club-de-chiens-de-chasse-de-quebec-4/
CATEGORIES:Canadian FT
END:VEVENT
BEGIN:VEVENT
DTSTART;TZID=America/Chicago:20220916T000000
DTEND;TZID=America/Chicago:20220918T000000
DTSTAMP:20260422T190345
CREATED:20250613T044016Z
LAST-MODIFIED:20250613T044016Z
UID:10010760-1663286400-1663459200@essft.com
SUMMARY:North Dakota Sporting Spaniel Club
DESCRIPTION:Entries Close: Tuesday\, September 6\, 2022 11:59:59 PM Eastern Time(ET) on Hunt Secretary \nFriday Judges: Pat Berry and Dean Koehler\nSaturday/Sunday Judges: Pat Berry and George Kittle \n\n		\n			\n			\n		\n\n		\n 
URL:https://essft.com/event/north-dakota-sporting-spaniel-club-12/
CATEGORIES:Field Trials - Rocky Mountain
END:VEVENT
BEGIN:VEVENT
DTSTART;TZID=America/Chicago:20220916T000000
DTEND;TZID=America/Chicago:20220918T000000
DTSTAMP:20260422T190345
CREATED:20250613T044016Z
LAST-MODIFIED:20250613T044016Z
UID:10010761-1663286400-1663459200@essft.com
SUMMARY:Tilden Valley English Springer Spaniel Club
DESCRIPTION:Entries Close: Tuesday\, September 6\, 2022 11:59:59 PM Eastern Time(ET) \nJudges: \nFriday:  Mike Elsasser and Paul McGagh  Apprentice: John Dunn\nSaturday/Sunday: Paul McGagh and Michael Wallace   Apprentice: John Dunn\n \n		\n			\n			\n		\n\n		 \n 
URL:https://essft.com/event/tilden-valley-english-springer-spaniel-club-6-2/
CATEGORIES:Field Trials - Mid West
END:VEVENT
BEGIN:VEVENT
DTSTART;TZID=America/Chicago:20220916T000000
DTEND;TZID=America/Chicago:20220918T000000
DTSTAMP:20260422T190345
CREATED:20250613T044016Z
LAST-MODIFIED:20250613T044016Z
UID:10010762-1663286400-1663459200@essft.com
SUMMARY:Western Washington Eng. Springer Spaniel Club
DESCRIPTION:We are going to have a 3 day trial with the Cascade Eng. Cocker Fanciers.  This will be on our weekend of Sept. 16 – 18.   Here is our schedule:\n\n\n\nFriday\, Sept. 16:\nWWESSC   Springer Open\, Cocker Open\nCascade     Cocker Puppy\n\nSaturday Sept. 17:\nCascade     Cocker Open\, Springer Open\nWWESSC   Springer Puppy\n\nSunday Sept. 18:\nWWESSC   Springer Amateur\nCascade      Cocker Amateur\n\nWill be held at JBLM\, Fort Lewis\, Washington\nEntries $150\, and $50. for puppy
URL:https://essft.com/event/western-washington-eng-springer-spaniel-club-2/
CATEGORIES:Field Trials - West
END:VEVENT
BEGIN:VEVENT
DTSTART;TZID=America/Chicago:20220916T000000
DTEND;TZID=America/Chicago:20220918T000000
DTSTAMP:20260422T190345
CREATED:20250613T044002Z
LAST-MODIFIED:20250613T044002Z
UID:10010759-1663286400-1663459200@essft.com
SUMMARY:COCKER: Cascade English Cocker Spaniel Fanciers
DESCRIPTION:Entries Close: Tuesday\, September 6\, 2022 11:59:59 PM Eastern Time(ET) on Hunt Secretary \nJudges: Rumi Schroeder and David Anderson\nSunday Judges:  Rumi Schroeder and Chuck Petrmichl
URL:https://essft.com/event/cocker-cascade-english-cocker-spaniel-fanciers-4/
CATEGORIES:Cocker Trial
END:VEVENT
END:VCALENDAR