BEGIN:VCALENDAR
VERSION:2.0
PRODID:-//English Springer Spaniel Field Trials - ECPv6.15.20//NONSGML v1.0//EN
CALSCALE:GREGORIAN
METHOD:PUBLISH
X-WR-CALNAME:English Springer Spaniel Field Trials
X-ORIGINAL-URL:https://essft.com
X-WR-CALDESC:Events for English Springer Spaniel Field Trials
REFRESH-INTERVAL;VALUE=DURATION:PT1H
X-Robots-Tag:noindex
X-PUBLISHED-TTL:PT1H
BEGIN:VTIMEZONE
TZID:America/Chicago
BEGIN:DAYLIGHT
TZOFFSETFROM:-0600
TZOFFSETTO:-0500
TZNAME:CDT
DTSTART:20220313T080000
END:DAYLIGHT
BEGIN:STANDARD
TZOFFSETFROM:-0500
TZOFFSETTO:-0600
TZNAME:CST
DTSTART:20221106T070000
END:STANDARD
BEGIN:DAYLIGHT
TZOFFSETFROM:-0600
TZOFFSETTO:-0500
TZNAME:CDT
DTSTART:20230312T080000
END:DAYLIGHT
BEGIN:STANDARD
TZOFFSETFROM:-0500
TZOFFSETTO:-0600
TZNAME:CST
DTSTART:20231105T070000
END:STANDARD
BEGIN:DAYLIGHT
TZOFFSETFROM:-0600
TZOFFSETTO:-0500
TZNAME:CDT
DTSTART:20240310T080000
END:DAYLIGHT
BEGIN:STANDARD
TZOFFSETFROM:-0500
TZOFFSETTO:-0600
TZNAME:CST
DTSTART:20241103T070000
END:STANDARD
END:VTIMEZONE
BEGIN:VEVENT
DTSTART;TZID=America/Chicago:20231014T000000
DTEND;TZID=America/Chicago:20231015T000000
DTSTAMP:20260423T024039
CREATED:20250613T180536Z
LAST-MODIFIED:20250614T163403Z
UID:10011062-1697241600-1697328000@essft.com
SUMMARY:Cocker Spaniel Field Trial of America - Springer Trial
DESCRIPTION:Entries Close: Tuesday\, October 3\, 2023 11:59:59 PM Eastern Time(ET) on Hunt Secretary \nJudges:  Richard Moore and William Pierson
URL:https://essft.com/event/cocker-spaniel-field-trial-of-america-springer-trial/
CATEGORIES:Field Trials - East
END:VEVENT
BEGIN:VEVENT
DTSTART;TZID=America/Chicago:20231014T000000
DTEND;TZID=America/Chicago:20231015T000000
DTSTAMP:20260423T024039
CREATED:20250613T180536Z
LAST-MODIFIED:20250614T163359Z
UID:10011059-1697241600-1697328000@essft.com
SUMMARY:COCKER: Euclid Sporting Spaniel Club
DESCRIPTION:Entries Close: Tuesday\, October 3\, 2023 11:59:59 PM Eastern Time(ET) on Hunt Secretary \nJudges:  Chuck Nelson and Brad Schindler
URL:https://essft.com/event/cocker-euclid-sporting-spaniel-club-2/
CATEGORIES:Cocker Trial
END:VEVENT
BEGIN:VEVENT
DTSTART;TZID=America/Chicago:20231013T000000
DTEND;TZID=America/Chicago:20231015T000000
DTSTAMP:20260423T024039
CREATED:20250613T180335Z
LAST-MODIFIED:20250614T163359Z
UID:10011057-1697155200-1697328000@essft.com
SUMMARY:St. Croix Valley Spaniel Club
DESCRIPTION:Trial #1: Entries Close: Monday\, October 2\, 2023 11:59:59 PM Eastern Time(ET) on Hunt Secretary \nFriday Judges:  Kathy Sleavin and Skip Smith\n\nTrial #2: Entries Close: Monday\, October 2\, 2023 11:59:59 PM Eastern Time(ET) on Hunt Secretary \nSaturday/Sunday Judges: Mhari Peschel and Rick Paquin\n 
URL:https://essft.com/event/st-croix-valley-spaniel-club-14/
CATEGORIES:Field Trials - Mid West
END:VEVENT
BEGIN:VEVENT
DTSTART;TZID=America/Chicago:20231013T000000
DTEND;TZID=America/Chicago:20231014T000000
DTSTAMP:20260423T024039
CREATED:20250613T180335Z
LAST-MODIFIED:20250614T163359Z
UID:10011056-1697155200-1697241600@essft.com
SUMMARY:Utah Springer Spaniel Club
DESCRIPTION:Entries Close: Monday\, October 2\, 2023 11:59:59 PM Eastern Time(ET) on Hunt Secretary \nJudges:  Bob Merrill and Mark Gebert
URL:https://essft.com/event/utah-springer-spaniel-club-21/
LOCATION:Clarkston Trial Grounds\, 4900 W 11000 N\, Clarkston\, UT 84305\, USA\, Clarkston\, Utah\, 84305\, United States
CATEGORIES:Field Trials - West
ORGANIZER;CN="Charles Tatton%2C FTS":MAILTO:tatton@brentblundell.com
GEO:41.931805;-112.01117
X-APPLE-STRUCTURED-LOCATION;VALUE=URI;X-ADDRESS=Clarkston Trial Grounds 4900 W 11000 N Clarkston UT 84305 USA Clarkston Utah 84305 United States;X-APPLE-RADIUS=500;X-TITLE=4900 W 11000 N\, Clarkston\, UT 84305\, USA:geo:-112.01117,41.931805
END:VEVENT
BEGIN:VEVENT
DTSTART;TZID=America/Chicago:20231013T000000
DTEND;TZID=America/Chicago:20231013T000000
DTSTAMP:20260423T024039
CREATED:20250613T180536Z
LAST-MODIFIED:20250614T163359Z
UID:10011058-1697155200-1697155200@essft.com
SUMMARY:COCKER: Missouri Hunting Spaniel Club
DESCRIPTION:Entries Close: Monday\, October 2\, 2023 11:59:59 PM Eastern Time(ET) on Hunt Secretary \nJudges:  Randy Bartsch and Chad Betts
URL:https://essft.com/event/cocker-missouri-hunting-spaniel-club-3/
CATEGORIES:Cocker Trial
END:VEVENT
BEGIN:VEVENT
DTSTART;TZID=America/Chicago:20231012T000000
DTEND;TZID=America/Chicago:20231013T000000
DTSTAMP:20260423T024039
CREATED:20250613T180335Z
LAST-MODIFIED:20250614T163359Z
UID:10011055-1697068800-1697155200@essft.com
SUMMARY:COCKER: New Jersey Spaniel Field Trial Club COCKER Field Trial
DESCRIPTION:Entries Close: Monday\, October 2\, 2023 11:59:59 PM Eastern Time(ET) on Hunt Secretary \nJudges: George Akkouris and Jack Glinsky
URL:https://essft.com/event/cocker-new-jersey-spaniel-field-trial-club-cocker-field-trial/
CATEGORIES:Cocker Trial
END:VEVENT
BEGIN:VEVENT
DTSTART;TZID=America/Chicago:20231009T000000
DTEND;TZID=America/Chicago:20231009T000000
DTSTAMP:20260423T024039
CREATED:20250613T180335Z
LAST-MODIFIED:20250613T180335Z
UID:10011054-1696809600-1696809600@essft.com
SUMMARY:Columbus Day
DESCRIPTION:
URL:https://essft.com/event/columbus-day-3/
CATEGORIES:Holidays
END:VEVENT
BEGIN:VEVENT
DTSTART;TZID=America/Chicago:20231007T000000
DTEND;TZID=America/Chicago:20231008T000000
DTSTAMP:20260423T024039
CREATED:20250613T180335Z
LAST-MODIFIED:20250613T180335Z
UID:10011053-1696636800-1696723200@essft.com
SUMMARY:COCKER: Spaniel Association of Western NY Field Trial
DESCRIPTION:Entries Close: Tuesday\, September 26\, 2023 11:59:59 PM Eastern Time(ET) on Hunt Secretary \nJudges: Tom Calabrese and Dave Edwards
URL:https://essft.com/event/cocker-spaniel-association-of-western-ny-field-trial-2/
CATEGORIES:Cocker Trial
END:VEVENT
BEGIN:VEVENT
DTSTART;TZID=America/Chicago:20231007T000000
DTEND;TZID=America/Chicago:20231008T000000
DTSTAMP:20260423T024039
CREATED:20250613T180134Z
LAST-MODIFIED:20250613T180134Z
UID:10011052-1696636800-1696723200@essft.com
SUMMARY:Minnesota Heartland English Springer Spaniel Club
DESCRIPTION:Entries Close: Tuesday\, September 26\, 2023 11:59:59 PM Eastern Time(ET) on Hunt Secretary \nJudges: Gary Fluckiger and Mark Matthiesen\n\n		\n			\n			\n		\n\n		\n 
URL:https://essft.com/event/minnesota-heartland-english-springer-spaniel-club-6/
LOCATION:Leslie Bjerketvedt Farm\, Co Hwy 5\, Clitherall\, MN 56524\, USA\, Clitherall\, Minnesota\, 56524\, United States
CATEGORIES:Field Trials - Mid West
GEO:46.275682;-95.633964
X-APPLE-STRUCTURED-LOCATION;VALUE=URI;X-ADDRESS=Leslie Bjerketvedt Farm Co Hwy 5 Clitherall MN 56524 USA Clitherall Minnesota 56524 United States;X-APPLE-RADIUS=500;X-TITLE=Co Hwy 5\, Clitherall\, MN 56524\, USA:geo:-95.633964,46.275682
END:VEVENT
BEGIN:VEVENT
DTSTART;TZID=America/Chicago:20231007T000000
DTEND;TZID=America/Chicago:20231008T000000
DTSTAMP:20260423T024039
CREATED:20250613T180134Z
LAST-MODIFIED:20250613T180134Z
UID:10011049-1696636800-1696723200@essft.com
SUMMARY:Cincinnati English Springer Spaniel Field Trial Club
DESCRIPTION:Entries Close: Tuesday\, September 26\, 2023 11:59:59 PM Eastern Time(ET) on Hunt Secretary \nJudges: Bill McCaffrey and Harold Hiles
URL:https://essft.com/event/cincinnati-english-springer-spaniel-field-trial-club-8/
CATEGORIES:Field Trials - Mid East
ORGANIZER;CN="Amy Haering":MAILTO:cessftc@yahoo.com
END:VEVENT
BEGIN:VEVENT
DTSTART;TZID=America/Chicago:20231007T000000
DTEND;TZID=America/Chicago:20231008T000000
DTSTAMP:20260423T024039
CREATED:20250613T180134Z
LAST-MODIFIED:20250613T180134Z
UID:10011050-1696636800-1696723200@essft.com
SUMMARY:COCKER: Minnesota Hunting Spaniel Association
DESCRIPTION:Entries Close: Tuesday\, September 26\, 2023 11:59:59 PM Eastern Time(ET) on Hunt Secretary \nJudges:  Pete Zuleger and Michael Pollack
URL:https://essft.com/event/cocker-minnesota-hunting-spaniel-association-5/
LOCATION:Long Pond Elk Farm\, 10940 293rd Ave NW\, Princeton\, MN 55371\, USA\, Princeton\, Minnesota\, 55371\, United States
CATEGORIES:Cocker Trial
GEO:45.510557;-93.554875
X-APPLE-STRUCTURED-LOCATION;VALUE=URI;X-ADDRESS=Long Pond Elk Farm 10940 293rd Ave NW Princeton MN 55371 USA Princeton Minnesota 55371 United States;X-APPLE-RADIUS=500;X-TITLE=10940 293rd Ave NW\, Princeton\, MN 55371\, USA:geo:-93.554875,45.510557
END:VEVENT
BEGIN:VEVENT
DTSTART;TZID=America/Chicago:20231007T000000
DTEND;TZID=America/Chicago:20231008T000000
DTSTAMP:20260423T024039
CREATED:20250613T180134Z
LAST-MODIFIED:20250613T180134Z
UID:10011051-1696636800-1696723200@essft.com
SUMMARY:English Springer Spaniel Club of Long Island
DESCRIPTION:Entries Close: Tuesday\, September 26\, 2023 11:59:59 PM Eastern Time(ET) on Hunt Secretary \nJudges:  Patrick Berry and Richard Whelan\n\n		\n			\n			\n		\n\n		\n 
URL:https://essft.com/event/english-springer-spaniel-club-of-long-island-6-3/
CATEGORIES:Field Trials - East
END:VEVENT
BEGIN:VEVENT
DTSTART;TZID=America/Chicago:20231005T000000
DTEND;TZID=America/Chicago:20231007T000000
DTSTAMP:20260423T024039
CREATED:20250613T180134Z
LAST-MODIFIED:20250628T012233Z
UID:10011048-1696464000-1696636800@essft.com
SUMMARY:2023 Canadian National Open Championship
DESCRIPTION:The Canadian National Open Championship will be hosted by the Prairie Spaniel Club.  CLICK HERE for More information \nJudges: Dan Lussen and Shane Cresswell
URL:https://essft.com/event/2023-canadian-national-open-championship/
CATEGORIES:NATIONAL FIELD TRIALS
END:VEVENT
BEGIN:VEVENT
DTSTART;TZID=America/Chicago:20230930T000000
DTEND;TZID=America/Chicago:20231001T000000
DTSTAMP:20260423T024039
CREATED:20250613T175933Z
LAST-MODIFIED:20250613T175933Z
UID:10011044-1696032000-1696118400@essft.com
SUMMARY:Northeast Wisconsin Spaniel Club
DESCRIPTION:No trial this fall. Will be back next year.
URL:https://essft.com/event/northeast-wisconsin-spaniel-club-4-4/
CATEGORIES:Field Trials - Mid West
END:VEVENT
BEGIN:VEVENT
DTSTART;TZID=America/Chicago:20230930T000000
DTEND;TZID=America/Chicago:20231001T000000
DTSTAMP:20260423T024039
CREATED:20250613T175933Z
LAST-MODIFIED:20250613T175933Z
UID:10011045-1696032000-1696118400@essft.com
SUMMARY:COCKER: Maine Spaniel Field Trial Club
DESCRIPTION:Entries Close: Tuesday\, September 19\, 2023 11:59:59 PM Eastern Time(ET) on Hunt Secretary \nJudges:  Tom Hartman and Keith Meissner    Sarah Foster is Apprenticing\n\n		\n			\n			\n		\n\n		\n 
URL:https://essft.com/event/cocker-maine-spaniel-field-trial-club-8/
CATEGORIES:Cocker Trial
END:VEVENT
BEGIN:VEVENT
DTSTART;TZID=America/Chicago:20230930T000000
DTEND;TZID=America/Chicago:20231001T000000
DTSTAMP:20260423T024039
CREATED:20250613T175933Z
LAST-MODIFIED:20250613T175933Z
UID:10011046-1696032000-1696118400@essft.com
SUMMARY:West Allis Training Kennel Club Hunt Test
DESCRIPTION:Entries Close: Tuesday\, September 19\, 2023 11:59:59 PM Eastern Time(ET) on Hunt Secretary \n\n		\n			\n			\n		\n\n		\n 
URL:https://essft.com/event/west-allis-training-kennel-club-hunt-test/
LOCATION:West Allis Training Kennel Club\, Big Bend\, WI 53103\, USA\, Big Bend\, Wisconsin\, 53103\, United States
CATEGORIES:Hunt Tests
GEO:42.881403;-88.206757
X-APPLE-STRUCTURED-LOCATION;VALUE=URI;X-ADDRESS=West Allis Training Kennel Club Big Bend WI 53103 USA Big Bend Wisconsin 53103 United States;X-APPLE-RADIUS=500;X-TITLE=Big Bend\, WI 53103\, USA:geo:-88.206757,42.881403
END:VEVENT
BEGIN:VEVENT
DTSTART;TZID=America/Chicago:20230930T000000
DTEND;TZID=America/Chicago:20231001T000000
DTSTAMP:20260423T024039
CREATED:20250613T175933Z
LAST-MODIFIED:20250613T175933Z
UID:10011047-1696032000-1696118400@essft.com
SUMMARY:Missouri Hunting Spaniel - Hunt Test
DESCRIPTION:Entries Close: Tuesday\, September 19\, 2023 11:59:59 PM Eastern Time(ET) on Hunt Secretary \n\n		\n			\n			\n		\n\n		\n 
URL:https://essft.com/event/missouri-hunting-spaniel-hunt-test/
CATEGORIES:Hunt Tests
END:VEVENT
BEGIN:VEVENT
DTSTART;TZID=America/Chicago:20230930T000000
DTEND;TZID=America/Chicago:20231001T000000
DTSTAMP:20260423T024039
CREATED:20250613T175933Z
LAST-MODIFIED:20250613T175933Z
UID:10011043-1696032000-1696118400@essft.com
SUMMARY:Central Connecticut Spaniel Club
DESCRIPTION:Entries Close: Tuesday\, September 19\, 2023 11:59:59 PM Eastern Time(ET) on Hunt Secretary \nJudges: Cindy Goode-Wilson and Michael Keough
URL:https://essft.com/event/central-connecticut-spaniel-club-12/
CATEGORIES:Field Trials - East
END:VEVENT
BEGIN:VEVENT
DTSTART;TZID=America/Chicago:20230930T000000
DTEND;TZID=America/Chicago:20231001T000000
DTSTAMP:20260423T024039
CREATED:20250613T175750Z
LAST-MODIFIED:20250613T175750Z
UID:10011039-1696032000-1696118400@essft.com
SUMMARY:COCKER: Fox Valley English Cocker Spaniel Club
DESCRIPTION:Entries Close: Monday\, September 18\, 2023 11:59:59 PM Eastern Time(ET) on Hunt Secretary \nJudges:  Nelson (Buzz) Benson and Paul Hearing\n 
URL:https://essft.com/event/cocker-fox-valley-english-cocker-spaniel-club-3/
CATEGORIES:Cocker Trial
END:VEVENT
BEGIN:VEVENT
DTSTART;TZID=America/Chicago:20230930T000000
DTEND;TZID=America/Chicago:20231001T000000
DTSTAMP:20260423T024039
CREATED:20250613T175750Z
LAST-MODIFIED:20250613T175750Z
UID:10011040-1696032000-1696118400@essft.com
SUMMARY:Northwest ESS Club
DESCRIPTION:Entries Close: Tuesday\, September 19\, 2023 11:59:59 PM Eastern Time(ET) on Hunt Secretary \nJudges: Bob Child and Paul McGagh\nThe NWESSC will not be holding a Cocker trial in conjunction with our annual fall trial this year.  We are also hosting a gunning seminar on Friday September 29\, 2023. \n\n		\n			\n			\n		\n\n		\n 
URL:https://essft.com/event/northwest-ess-club-6/
CATEGORIES:Field Trials - West
ORGANIZER;CN="Paula Mazurek":MAILTO:mtmyst@cablespeed.com
END:VEVENT
BEGIN:VEVENT
DTSTART;TZID=America/Chicago:20230930T000000
DTEND;TZID=America/Chicago:20231001T000000
DTSTAMP:20260423T024039
CREATED:20250613T175750Z
LAST-MODIFIED:20250613T175750Z
UID:10011041-1696032000-1696118400@essft.com
SUMMARY:Southern Michigan Springer Spaniel Training Club
DESCRIPTION:Entries Close: Tuesday\, September 19\, 2023 11:59:59 PM Eastern Time(ET) on Hunt Secretary \nJudges: Chad Betts and Peter Rainey
URL:https://essft.com/event/southern-michigan-springer-spaniel-training-club-5/
CATEGORIES:Field Trials - Mid East
END:VEVENT
BEGIN:VEVENT
DTSTART;TZID=America/Chicago:20230930T000000
DTEND;TZID=America/Chicago:20231001T000000
DTSTAMP:20260423T024039
CREATED:20250613T175750Z
LAST-MODIFIED:20250613T175750Z
UID:10011042-1696032000-1696118400@essft.com
SUMMARY:Rocky Mountain SSC
DESCRIPTION:Entries Close: Monday\, September 18\, 2023 11:59:59 PM Eastern Time(ET) on Hunt Secretary \nJudges: Greg Kuhlman and Paul Hanscom\n 
URL:https://essft.com/event/rocky-mountain-ssc-4/
CATEGORIES:Field Trials - Rocky Mountain
END:VEVENT
BEGIN:VEVENT
DTSTART;TZID=America/Chicago:20230929T000000
DTEND;TZID=America/Chicago:20230929T000000
DTSTAMP:20260423T024039
CREATED:20250613T175750Z
LAST-MODIFIED:20250613T175750Z
UID:10011038-1695945600-1695945600@essft.com
SUMMARY:Gunning Seminar Hosted by Northwest English Springer Spaniel
DESCRIPTION: 
URL:https://essft.com/event/gunning-seminar-hosted-by-northwest-english-springer-spaniel/
CATEGORIES:Gunning Seminars
END:VEVENT
BEGIN:VEVENT
DTSTART;TZID=America/Chicago:20230928T000000
DTEND;TZID=America/Chicago:20230929T000000
DTSTAMP:20260423T024039
CREATED:20250613T175550Z
LAST-MODIFIED:20250613T175550Z
UID:10011036-1695859200-1695945600@essft.com
SUMMARY:Northern Colorado SSC
DESCRIPTION:5/19: Date Moved to 9/28 and 9/29 \nEntries Close: Monday\, September 18\, 2023 11:59:59 PM Eastern Time(ET) on Hunt Secretary \nJudges: Don Mau and Jim Naber
URL:https://essft.com/event/northern-colorado-ssc-4/
CATEGORIES:Field Trials - Rocky Mountain
END:VEVENT
BEGIN:VEVENT
DTSTART;TZID=America/Chicago:20230928T000000
DTEND;TZID=America/Chicago:20230929T000000
DTSTAMP:20260423T024039
CREATED:20250613T175550Z
LAST-MODIFIED:20250613T175550Z
UID:10011037-1695859200-1695945600@essft.com
SUMMARY:Fox Valley English Cocker Club SPRINGER Spaniel Field Trial
DESCRIPTION:Entries Close: Monday\, September 18\, 2023 11:59:59 PM Eastern Time(ET) on Hunt Secretary \nJudges: Chuck Nelson and Paul Johannes
URL:https://essft.com/event/fox-valley-english-cocker-club-springer-spaniel-field-trial/
LOCATION:Connolly Game Farm\, Reedsville\, WI 54230\, USA\, Reedsville\, Wisconsin\, 54230\, United States
CATEGORIES:Field Trials - Mid West
GEO:44.153604;-87.956762
X-APPLE-STRUCTURED-LOCATION;VALUE=URI;X-ADDRESS=Connolly Game Farm Reedsville WI 54230 USA Reedsville Wisconsin 54230 United States;X-APPLE-RADIUS=500;X-TITLE=Reedsville\, WI 54230\, USA:geo:-87.956762,44.153604
END:VEVENT
BEGIN:VEVENT
DTSTART;TZID=America/Chicago:20230923T000000
DTEND;TZID=America/Chicago:20230923T000000
DTSTAMP:20260423T024039
CREATED:20250613T175550Z
LAST-MODIFIED:20250613T175550Z
UID:10011035-1695427200-1695427200@essft.com
SUMMARY:COCKER: Patriot Sporting Spaniel Club
DESCRIPTION:Entries Close: Tuesday\, September 12\, 2023 11:59:59 PM Eastern Time(ET) on Hunt Secretary \nJudges:  Pat Keliher and Ted McCue   Apprentice: Sara Foster\n\n		\n			\n			\n		\n\n		\n 
URL:https://essft.com/event/cocker-patriot-sporting-spaniel-club-4/
CATEGORIES:Cocker Trial
END:VEVENT
BEGIN:VEVENT
DTSTART;TZID=America/Chicago:20230922T000000
DTEND;TZID=America/Chicago:20230924T000000
DTSTAMP:20260423T024039
CREATED:20250613T175550Z
LAST-MODIFIED:20250613T175550Z
UID:10011034-1695340800-1695513600@essft.com
SUMMARY:Tilden Valley English Springer Spaniel Club
DESCRIPTION:Entries Close: Monday\, September 11\, 2023 11:59:59 PM Eastern Time(ET) on Hunt Secretary \n Friday Judges:   Dan Lussen and Thomas Nabity\nSaturday/Sunday Judges:  Dan Lussen and Randy Bartsch\n\n		\n			\n			\n		\n\n		\n 
URL:https://essft.com/event/tilden-valley-english-springer-spaniel-club-6-3/
CATEGORIES:Field Trials - Mid West
END:VEVENT
BEGIN:VEVENT
DTSTART;TZID=America/Chicago:20230922T000000
DTEND;TZID=America/Chicago:20230923T000000
DTSTAMP:20260423T024039
CREATED:20250613T175550Z
LAST-MODIFIED:20250613T175550Z
UID:10011033-1695340800-1695427200@essft.com
SUMMARY:Timpanogos Hunting Spaniel Club
DESCRIPTION:Entries Close: Monday\, September 11\, 2023 11:59:59 PM Eastern Time(ET) on Hunt Secretary \nJudges: Mike McGinty and Deb Olszewski
URL:https://essft.com/event/timpanogos-hunting-spaniel-club-21/
LOCATION:Clarkston Trial Grounds\, 4900 W 11000 N\, Clarkston\, UT 84305\, USA\, Clarkston\, Utah\, 84305\, United States
CATEGORIES:Field Trials - West
GEO:41.931805;-112.01117
X-APPLE-STRUCTURED-LOCATION;VALUE=URI;X-ADDRESS=Clarkston Trial Grounds 4900 W 11000 N Clarkston UT 84305 USA Clarkston Utah 84305 United States;X-APPLE-RADIUS=500;X-TITLE=4900 W 11000 N\, Clarkston\, UT 84305\, USA:geo:-112.01117,41.931805
END:VEVENT
BEGIN:VEVENT
DTSTART;TZID=America/Chicago:20230921T000000
DTEND;TZID=America/Chicago:20230924T000000
DTSTAMP:20260423T024039
CREATED:20250613T175535Z
LAST-MODIFIED:20250613T175535Z
UID:10011032-1695254400-1695513600@essft.com
SUMMARY:Southern Tier Field Trial Association (2 Trials)
DESCRIPTION:Entries Close: Monday\, September 11\, 2023 11:59:59 PM Eastern Time(ET) on Hunt Secretary \nCLICK HERE FOR TRIAL #1 \nJudges: Skip Smith and Pete Anderson\n  \nCLICK HERE FOR TRIAL #2 \nJudges: Michel Bourdeau and Bruce Outhouse\n  \n\n		\n			\n			\n		\n\n		\n 
URL:https://essft.com/event/southern-tier-field-trial-association-2-trials/
LOCATION:Richard Stewart Farm\, Canisteo\, NY 14823\, USA\, Canisteo\, New York\, 14823\, United States
CATEGORIES:Field Trials - East
GEO:42.291091;-77.498077
X-APPLE-STRUCTURED-LOCATION;VALUE=URI;X-ADDRESS=Richard Stewart Farm Canisteo NY 14823 USA Canisteo New York 14823 United States;X-APPLE-RADIUS=500;X-TITLE=Canisteo\, NY 14823\, USA:geo:-77.498077,42.291091
END:VEVENT
BEGIN:VEVENT
DTSTART;TZID=America/Chicago:20230916T000000
DTEND;TZID=America/Chicago:20230917T000000
DTSTAMP:20260423T024039
CREATED:20250613T175535Z
LAST-MODIFIED:20250613T175535Z
UID:10011028-1694822400-1694908800@essft.com
SUMMARY:Patriot Sporting Spaniel Club
DESCRIPTION:Entries Close: Tuesday\, September 5\, 2023 11:59:59 PM Eastern Time(ET) on Hunt Secretary \nJudges: Shane Cresswell and Jim O’Keefe\n\n		\n			\n			\n		\n\n		\n  \n 
URL:https://essft.com/event/patriot-sporting-spaniel-club-10/
CATEGORIES:Field Trials - East
END:VEVENT
END:VCALENDAR