BEGIN:VCALENDAR
VERSION:2.0
PRODID:-//English Springer Spaniel Field Trials - ECPv6.15.20//NONSGML v1.0//EN
CALSCALE:GREGORIAN
METHOD:PUBLISH
X-WR-CALNAME:English Springer Spaniel Field Trials
X-ORIGINAL-URL:https://essft.com
X-WR-CALDESC:Events for English Springer Spaniel Field Trials
REFRESH-INTERVAL;VALUE=DURATION:PT1H
X-Robots-Tag:noindex
X-PUBLISHED-TTL:PT1H
BEGIN:VTIMEZONE
TZID:America/Chicago
BEGIN:DAYLIGHT
TZOFFSETFROM:-0600
TZOFFSETTO:-0500
TZNAME:CDT
DTSTART:20210314T080000
END:DAYLIGHT
BEGIN:STANDARD
TZOFFSETFROM:-0500
TZOFFSETTO:-0600
TZNAME:CST
DTSTART:20211107T070000
END:STANDARD
BEGIN:DAYLIGHT
TZOFFSETFROM:-0600
TZOFFSETTO:-0500
TZNAME:CDT
DTSTART:20220313T080000
END:DAYLIGHT
BEGIN:STANDARD
TZOFFSETFROM:-0500
TZOFFSETTO:-0600
TZNAME:CST
DTSTART:20221106T070000
END:STANDARD
BEGIN:DAYLIGHT
TZOFFSETFROM:-0600
TZOFFSETTO:-0500
TZNAME:CDT
DTSTART:20230312T080000
END:DAYLIGHT
BEGIN:STANDARD
TZOFFSETFROM:-0500
TZOFFSETTO:-0600
TZNAME:CST
DTSTART:20231105T070000
END:STANDARD
END:VTIMEZONE
BEGIN:VEVENT
DTSTART;TZID=America/Chicago:20220312T000000
DTEND;TZID=America/Chicago:20220313T000000
DTSTAMP:20260422T173319
CREATED:20250613T043402Z
LAST-MODIFIED:20250613T043402Z
UID:10010639-1647043200-1647129600@essft.com
SUMMARY:Mid-Penn ESS
DESCRIPTION:Entries Close: Tuesday\, March 1\, 2022 11:59:59 PM Eastern Time(ET) on Hunt Secretary \nJudges: Jeff Cubitt and Paul Hanscom
URL:https://essft.com/event/mid-penn-ess/
LOCATION:Sinking Valley\, Tyrone\, PA 16686\, USA\, Tyrone\, Pennsylvania\, 16686\, United States
CATEGORIES:Field Trials - Mid East
GEO:40.670618;-78.238624
X-APPLE-STRUCTURED-LOCATION;VALUE=URI;X-ADDRESS=Sinking Valley Tyrone PA 16686 USA Tyrone Pennsylvania 16686 United States;X-APPLE-RADIUS=500;X-TITLE=Tyrone\, PA 16686\, USA:geo:-78.238624,40.670618
END:VEVENT
BEGIN:VEVENT
DTSTART;TZID=America/Chicago:20220312T000000
DTEND;TZID=America/Chicago:20220313T000000
DTSTAMP:20260422T173319
CREATED:20250613T043401Z
LAST-MODIFIED:20250613T043401Z
UID:10010635-1647043200-1647129600@essft.com
SUMMARY:Inland Empire ESS Club
DESCRIPTION:1/13/2022 The field trial is canceled.
URL:https://essft.com/event/inland-empire-ess-club-5/
CATEGORIES:Field Trials - West
END:VEVENT
BEGIN:VEVENT
DTSTART;TZID=America/Chicago:20220312T000000
DTEND;TZID=America/Chicago:20220313T000000
DTSTAMP:20260422T173319
CREATED:20250613T043401Z
LAST-MODIFIED:20250613T043401Z
UID:10010636-1647043200-1647129600@essft.com
SUMMARY:Northern Colorado SSC
DESCRIPTION:Entries Close: Monday\, February 28\, 2022 11:59:59 PM Eastern Time(ET) on Hunt Secretary  \nJudges: Mark Hairfield and Greg Johnson
URL:https://essft.com/event/northern-colorado-ssc-2/
CATEGORIES:Field Trials - Rocky Mountain
END:VEVENT
BEGIN:VEVENT
DTSTART;TZID=America/Chicago:20220311T000000
DTEND;TZID=America/Chicago:20220313T000000
DTSTAMP:20260422T173319
CREATED:20250613T043346Z
LAST-MODIFIED:20250613T043346Z
UID:10010634-1646956800-1647129600@essft.com
SUMMARY:Pheasant Fest & Quail Classic
DESCRIPTION:The English Springer Spaniel Field Trial Association (AKC Parent Club) will be hosting a booth.  Contact Cristy Joy for more information.
URL:https://essft.com/event/pheasant-fest-quail-classic/
CATEGORIES:Training Seminar
END:VEVENT
BEGIN:VEVENT
DTSTART;TZID=America/Chicago:20220310T000000
DTEND;TZID=America/Chicago:20220311T000000
DTSTAMP:20260422T173319
CREATED:20250613T043346Z
LAST-MODIFIED:20250613T043346Z
UID:10010633-1646870400-1646956800@essft.com
SUMMARY:Cocker:  Northern Colorado
DESCRIPTION:Entries Close: Monday\, February 28\, 2022 11:59:59 PM Eastern Time(ET) on Hunt Secretary \nThursday Judges:  Mark Hairfield   and  Olivia Steele-Mortimer \nFriday Judges: Mark Hairfield and Tom Nabity\n\n		\n			\n			\n		\n\n		\n 
URL:https://essft.com/event/cocker-northern-colorado-2/
CATEGORIES:Cocker Trial
END:VEVENT
BEGIN:VEVENT
DTSTART;TZID=America/Chicago:20220305T000000
DTEND;TZID=America/Chicago:20220306T000000
DTSTAMP:20260422T173319
CREATED:20250613T043346Z
LAST-MODIFIED:20250613T043346Z
UID:10010630-1646438400-1646524800@essft.com
SUMMARY:Wateree Spaniel Club Hunt Test March 2022
DESCRIPTION:Entries Close: Tuesday\, February 22\, 2022 11:59:59 PM Eastern Time(ET) on Hunt Secretary \n  \n\n		\n			\n			\n		\n\n		\n 
URL:https://essft.com/event/wateree-spaniel-club-hunt-test-march-2022/
CATEGORIES:Hunt Tests
END:VEVENT
BEGIN:VEVENT
DTSTART;TZID=America/Chicago:20220305T000000
DTEND;TZID=America/Chicago:20220306T000000
DTSTAMP:20260422T173319
CREATED:20250613T043346Z
LAST-MODIFIED:20250613T043346Z
UID:10010631-1646438400-1646524800@essft.com
SUMMARY:COCKER: Mid-Atlantic Hunting Spaniel Club
DESCRIPTION:Entries Close: Tuesday\, February 22\, 2022 11:59:59 PM Eastern Time(ET) on Hunt Secretary \nJudges:  Alex Cacchio and Deb Olszewski\n\n		\n			\n			\n		\n\n		\n 
URL:https://essft.com/event/cocker-mid-atlantic-hunting-spaniel-club-3/
CATEGORIES:Cocker Trial
END:VEVENT
BEGIN:VEVENT
DTSTART;TZID=America/Chicago:20220305T000000
DTEND;TZID=America/Chicago:20220306T000000
DTSTAMP:20260422T173319
CREATED:20250613T043346Z
LAST-MODIFIED:20250613T043346Z
UID:10010632-1646438400-1646524800@essft.com
SUMMARY:North Texas Sporting Spaniel Club Hunt Test March 5 & 6\, 2022
DESCRIPTION:Entries Close: Tuesday\, February 22\, 2022 11:59:59 PM Eastern Time(ET) on Hunt Secretary \n\n		\n			\n			\n		\n\n		\n 
URL:https://essft.com/event/north-texas-sporting-spaniel-club-hunt-test-march-5-6-2022/
CATEGORIES:Hunt Tests
END:VEVENT
BEGIN:VEVENT
DTSTART;TZID=America/Chicago:20220305T000000
DTEND;TZID=America/Chicago:20220306T000000
DTSTAMP:20260422T173319
CREATED:20250613T043331Z
LAST-MODIFIED:20250613T043331Z
UID:10010627-1646438400-1646524800@essft.com
SUMMARY:Cocker: Tamarin Spaniel Field Trial Club
DESCRIPTION:Entries Close: Tuesday\, February 22\, 2022 11:59:59 PM Eastern Time(ET) on Hunt Secretary \nJudges: Jason Givens and Gary Fluckiger   Apprentice: Alan Baugh
URL:https://essft.com/event/cocker-tamarin-spaniel-field-trial-club-2/
CATEGORIES:Cocker Trial
END:VEVENT
BEGIN:VEVENT
DTSTART;TZID=America/Chicago:20220305T000000
DTEND;TZID=America/Chicago:20220306T000000
DTSTAMP:20260422T173319
CREATED:20250613T043331Z
LAST-MODIFIED:20250613T043331Z
UID:10010628-1646438400-1646524800@essft.com
SUMMARY:Keystone English Springer Spaniel Club
DESCRIPTION:Entries Close: Tuesday\, February 22\, 2022 11:59:59 PM Eastern Time(ET) on Hunt Secretary \nJudges: Kathy Nestor and Don Wagner
URL:https://essft.com/event/keystone-english-springer-spaniel-club-8/
LOCATION:Sinking Valley\, Tyrone\, PA 16686\, USA\, Tyrone\, Pennsylvania\, 16686\, United States
CATEGORIES:Field Trials - East
ORGANIZER;CN="Barbara Granatir":MAILTO:sandyhilless@comcast.net
GEO:40.670618;-78.238624
X-APPLE-STRUCTURED-LOCATION;VALUE=URI;X-ADDRESS=Sinking Valley Tyrone PA 16686 USA Tyrone Pennsylvania 16686 United States;X-APPLE-RADIUS=500;X-TITLE=Tyrone\, PA 16686\, USA:geo:-78.238624,40.670618
END:VEVENT
BEGIN:VEVENT
DTSTART;TZID=America/Chicago:20220305T000000
DTEND;TZID=America/Chicago:20220306T000000
DTSTAMP:20260422T173319
CREATED:20250613T043331Z
LAST-MODIFIED:20250613T043331Z
UID:10010629-1646438400-1646524800@essft.com
SUMMARY:Cincinnati English Springer Spaniel Field Trial Club
DESCRIPTION:Entries Close: Tuesday\, February 22\, 2022 11:59:59 PM Eastern Time(ET) on Hunt Secretary \nJudges: Garry Soper and Jack Markowski
URL:https://essft.com/event/cincinnati-english-springer-spaniel-field-trial-club-6/
CATEGORIES:Field Trials - Mid East
ORGANIZER;CN="Amy Haering":MAILTO:cessftc@yahoo.com
END:VEVENT
BEGIN:VEVENT
DTSTART;TZID=America/Chicago:20220305T000000
DTEND;TZID=America/Chicago:20220306T000000
DTSTAMP:20260422T173319
CREATED:20250613T043331Z
LAST-MODIFIED:20250613T043331Z
UID:10010625-1646438400-1646524800@essft.com
SUMMARY:Tamarin Spaniel Field Trial Club
DESCRIPTION:Entries Close: Tuesday\, February 22\, 2022 11:59:59 PM Eastern Time(ET) on Hunt Secretary \nJudges: Jason Givens and Gary Fluckiger  Apprentice: Alan Baugh\nNote:  The club will host 2 Cocker Open Field Trials on 3/5 and 3/6.
URL:https://essft.com/event/tamarin-spaniel-field-trial-club-5/
CATEGORIES:Field Trials - West
END:VEVENT
BEGIN:VEVENT
DTSTART;TZID=America/Chicago:20220305T000000
DTEND;TZID=America/Chicago:20220306T000000
DTSTAMP:20260422T173319
CREATED:20250613T043331Z
LAST-MODIFIED:20250613T043331Z
UID:10010626-1646438400-1646524800@essft.com
SUMMARY:Rocky Mountain SSC
DESCRIPTION:Entries Close: Tuesday\, February 22\, 2022 11:59:59 PM Eastern Time(ET) on Hunt Secretary \nJudges: Chad Betts and Dean Koehler
URL:https://essft.com/event/rocky-mountain-ssc-2/
CATEGORIES:Field Trials - Rocky Mountain
END:VEVENT
BEGIN:VEVENT
DTSTART;TZID=America/Chicago:20220304T000000
DTEND;TZID=America/Chicago:20220304T000000
DTSTAMP:20260422T173319
CREATED:20250613T043316Z
LAST-MODIFIED:20250613T043316Z
UID:10010624-1646352000-1646352000@essft.com
SUMMARY:AKC Spaniel Hunt Test Judges & Handlers Seminar - Wateree Spaniel Club
DESCRIPTION:Entries Close: Monday\, February 21\, 2022 11:59:59 PM EST on Hunt Secretary \n 
URL:https://essft.com/event/akc-spaniel-hunt-test-judges-handlers-seminar-wateree-spaniel-club/
CATEGORIES:Judging Seminar
END:VEVENT
BEGIN:VEVENT
DTSTART;TZID=America/Chicago:20220226T000000
DTEND;TZID=America/Chicago:20220227T000000
DTSTAMP:20260422T173319
CREATED:20250613T043316Z
LAST-MODIFIED:20250613T043316Z
UID:10010620-1645833600-1645920000@essft.com
SUMMARY:Central Virginia ESS Field Trial Club
DESCRIPTION:Entries Close: Tuesday\, February 15\, 2022 11:59:59 PM Eastern Time(ET) on Hunt Secretary \nJudges: Michael Pollack and Alex Cacchio
URL:https://essft.com/event/central-virginia-ess-field-trial-club-6/
CATEGORIES:Field Trials - East
END:VEVENT
BEGIN:VEVENT
DTSTART;TZID=America/Chicago:20220226T000000
DTEND;TZID=America/Chicago:20220227T000000
DTSTAMP:20260422T173319
CREATED:20250613T043316Z
LAST-MODIFIED:20250613T043316Z
UID:10010621-1645833600-1645920000@essft.com
SUMMARY:COCKER:  Southern California Sporting Spaniel Club
DESCRIPTION:Entries Close: Tuesday\, February 15\, 2022 11:59:59 PM Eastern Time(ET) on Hunt Secretary \nJudges: Richard Whelan and Bob Iversen
URL:https://essft.com/event/cocker-southern-california-sporting-spaniel-club-3/
LOCATION:Etiwanda Game Association\, 18950 CA-173\, Hesperia\, CA 92345\, USA\, Hesperia\, California\, 92345\, United States
CATEGORIES:Cocker Trial
GEO:34.3089;-117.322115
X-APPLE-STRUCTURED-LOCATION;VALUE=URI;X-ADDRESS=Etiwanda Game Association 18950 CA-173 Hesperia CA 92345 USA Hesperia California 92345 United States;X-APPLE-RADIUS=500;X-TITLE=18950 CA-173\, Hesperia\, CA 92345\, USA:geo:-117.322115,34.3089
END:VEVENT
BEGIN:VEVENT
DTSTART;TZID=America/Chicago:20220226T000000
DTEND;TZID=America/Chicago:20220227T000000
DTSTAMP:20260422T173319
CREATED:20250613T043316Z
LAST-MODIFIED:20250613T043316Z
UID:10010622-1645833600-1645920000@essft.com
SUMMARY:Chattahoochee English Springer Spaniel Club of Greater Atlanta\, Inc.
DESCRIPTION:Entries Close: Tuesday\, February 15\, 2022 11:59:59 PM Eastern Time(ET) on Hunt Secretary
URL:https://essft.com/event/chattahoochee-english-springer-spaniel-club-of-greater-atlanta-inc-2/
CATEGORIES:Hunt Tests
END:VEVENT
BEGIN:VEVENT
DTSTART;TZID=America/Chicago:20220226T000000
DTEND;TZID=America/Chicago:20220227T000000
DTSTAMP:20260422T173319
CREATED:20250613T043316Z
LAST-MODIFIED:20250613T043316Z
UID:10010623-1645833600-1645920000@essft.com
SUMMARY:English Cocker Spaniel Club of America - Tennessee Cocker Trial
DESCRIPTION:Entries Close: Tuesday\, February 15\, 2022 11:59:59 PM Eastern Time(ET) on Hunt Secretary \nJudges:  Tom Calabrese and Brent LeMaster\n\n		\n			\n			\n		\n\n		\n 
URL:https://essft.com/event/english-cocker-spaniel-club-of-america-tennessee-cocker-trial/
CATEGORIES:Cocker Trial
END:VEVENT
BEGIN:VEVENT
DTSTART;TZID=America/Chicago:20220226T000000
DTEND;TZID=America/Chicago:20220227T000000
DTSTAMP:20260422T173319
CREATED:20250613T043301Z
LAST-MODIFIED:20250613T043301Z
UID:10010619-1645833600-1645920000@essft.com
SUMMARY:Missouri Hunting Spaniel Club
DESCRIPTION:Entries Close: Tuesday\, February 15\, 2022 11:59:59 PM Eastern Time(ET) on Hunt Secretary \nJudges: Rick Paquin and Will Pick
URL:https://essft.com/event/missouri-hunting-spaniel-club-18/
LOCATION:Brushy Creek Farm\, Dunnegan\, MO 65640\, USA\, Dunnegan\, Missouri\, 65640\, United States
CATEGORIES:Field Trials - Rocky Mountain
GEO:37.70822;-93.577297
X-APPLE-STRUCTURED-LOCATION;VALUE=URI;X-ADDRESS=Brushy Creek Farm Dunnegan MO 65640 USA Dunnegan Missouri 65640 United States;X-APPLE-RADIUS=500;X-TITLE=Dunnegan\, MO 65640\, USA:geo:-93.577297,37.70822
END:VEVENT
BEGIN:VEVENT
DTSTART;TZID=America/Chicago:20220226T000000
DTEND;TZID=America/Chicago:20220227T000000
DTSTAMP:20260422T173319
CREATED:20250613T043301Z
LAST-MODIFIED:20250613T043301Z
UID:10010618-1645833600-1645920000@essft.com
SUMMARY:Southern California Sporting Spaniel Club
DESCRIPTION:Entries Close: Tuesday\, February 15\, 2022 11:59:59 PM Eastern Time(ET) on Hunt Secretary \nJudges: Richard Whelan and Bob Iversen
URL:https://essft.com/event/southern-california-sporting-spaniel-club-8/
LOCATION:Etiwanda Game Association\, 18950 CA-173\, Hesperia\, CA 92345\, USA\, Hesperia\, California\, 92345\, United States
CATEGORIES:Field Trials - West
GEO:34.3089;-117.322115
X-APPLE-STRUCTURED-LOCATION;VALUE=URI;X-ADDRESS=Etiwanda Game Association 18950 CA-173 Hesperia CA 92345 USA Hesperia California 92345 United States;X-APPLE-RADIUS=500;X-TITLE=18950 CA-173\, Hesperia\, CA 92345\, USA:geo:-117.322115,34.3089
END:VEVENT
BEGIN:VEVENT
DTSTART;TZID=America/Chicago:20220225T000000
DTEND;TZID=America/Chicago:20220225T000000
DTSTAMP:20260422T173319
CREATED:20250613T043301Z
LAST-MODIFIED:20250613T043301Z
UID:10010617-1645747200-1645747200@essft.com
SUMMARY:Cocker: Missouri Hunting Spaniel Club
DESCRIPTION:Entries Close: Tuesday\, February 15\, 2022 11:59:59 PM Eastern Time(ET) on Hunt Secretary \nJudges:  Will Pick and Rick Paquin
URL:https://essft.com/event/cocker-missouri-hunting-spaniel-club-2/
LOCATION:Brushy Creek Farm\, Dunnegan\, MO 65640\, USA\, Dunnegan\, Missouri\, 65640\, United States
CATEGORIES:Cocker Trial
GEO:37.70822;-93.577297
X-APPLE-STRUCTURED-LOCATION;VALUE=URI;X-ADDRESS=Brushy Creek Farm Dunnegan MO 65640 USA Dunnegan Missouri 65640 United States;X-APPLE-RADIUS=500;X-TITLE=Dunnegan\, MO 65640\, USA:geo:-93.577297,37.70822
END:VEVENT
BEGIN:VEVENT
DTSTART;TZID=America/Chicago:20220221T000000
DTEND;TZID=America/Chicago:20220221T000000
DTSTAMP:20260422T173320
CREATED:20250613T043301Z
LAST-MODIFIED:20250613T043301Z
UID:10010616-1645401600-1645401600@essft.com
SUMMARY:San Fernando Valley Springer Spaniel Club
DESCRIPTION:PLEASE MAKE CHECKS PAYABLE TO SAN FERNANDO VALLEY\nSPRINGER SPANIEL CLUB AND SEND IN ADVANCE TO:\nNicola Quinn\, Field Trial Secretary\n3001 Bridgeway 193\nSausalito CA 94965\nEmail: quinn.npq@gmail.com\nEmail entries will be accepted but entry fees must be paid prior to trial. \nENTRIES WILL CLOSE AT THE ABOVE ADDRESS AT:\n8:00 PM (PST) February 9\, 2022 \nJudge Change: Bob Bullard and  Steve Bender\nUpdated 2/2/2022:  Pheasant will be used for the All-Age Stakes
URL:https://essft.com/event/san-fernando-valley-springer-spaniel-club-5/
LOCATION:Kincade Wildlife Management Area\, Porterville\, CA 93257\, USA\, Porterville\, California\, 93257\, United States
CATEGORIES:Field Trials - West
GEO:36.057532;-118.99131
X-APPLE-STRUCTURED-LOCATION;VALUE=URI;X-ADDRESS=Kincade Wildlife Management Area Porterville CA 93257 USA Porterville California 93257 United States;X-APPLE-RADIUS=500;X-TITLE=Porterville\, CA 93257\, USA:geo:-118.99131,36.057532
END:VEVENT
BEGIN:VEVENT
DTSTART;TZID=America/Chicago:20220219T000000
DTEND;TZID=America/Chicago:20220220T000000
DTSTAMP:20260422T173320
CREATED:20250613T043301Z
LAST-MODIFIED:20250613T043301Z
UID:10010615-1645228800-1645315200@essft.com
SUMMARY:COCKER:  Central Maine Spaniel Club
DESCRIPTION:Entries Close: Monday\, February 7\, 2022 11:59:59 PM Eastern Time(ET) on Hunt Secretary \nJudges: Pete Zuleger and Dominique Savoie
URL:https://essft.com/event/cocker-central-maine-spaniel-club-3/
CATEGORIES:Cocker Trial
END:VEVENT
BEGIN:VEVENT
DTSTART;TZID=America/Chicago:20220219T000000
DTEND;TZID=America/Chicago:20220220T000000
DTSTAMP:20260422T173320
CREATED:20250613T043246Z
LAST-MODIFIED:20250613T043246Z
UID:10010614-1645228800-1645315200@essft.com
SUMMARY:Arrowhead ESS Club
DESCRIPTION:PLEASE MAKE CHECKS PAYABLE TO ARROWHEAD ENGLISH\nSPRINGER SPANIEL CLUB AND SEND IN ADVANCE TO:\nNicola Quinn\, Field Trial Secretary\n3001 Bridgeway 193\nSausalito CA 94965\nEmail: quinn.npq@gmail.com\nEmail entries will be accepted but entry fees must be paid prior to trial. \nENTRIES WILL CLOSE AT THE ABOVE ADDRESS AT:\n8:00 PM (PST) February 9\, 2022 \nJUDGE CHANGES:  Steve Bender and Mhari Peschel\nUpdate 2/2/2022:  Using Pheasant in the All Age Stakes
URL:https://essft.com/event/arrowhead-ess-club-8/
LOCATION:Kincade Wildlife Management Area\, Porterville\, CA 93257\, USA\, Porterville\, California\, 93257\, United States
CATEGORIES:Field Trials - West
GEO:36.057532;-118.99131
X-APPLE-STRUCTURED-LOCATION;VALUE=URI;X-ADDRESS=Kincade Wildlife Management Area Porterville CA 93257 USA Porterville California 93257 United States;X-APPLE-RADIUS=500;X-TITLE=Porterville\, CA 93257\, USA:geo:-118.99131,36.057532
END:VEVENT
BEGIN:VEVENT
DTSTART;TZID=America/Chicago:20220218T000000
DTEND;TZID=America/Chicago:20220220T000000
DTSTAMP:20260422T173320
CREATED:20250613T043246Z
LAST-MODIFIED:20250613T043246Z
UID:10010613-1645142400-1645315200@essft.com
SUMMARY:Central Maine Spaniel Club
DESCRIPTION:Entries Close: Monday\, February 7\, 2022 11:59:59 PM Eastern Time(ET) on Hunt Secretary \nJudges: Pete Zuleger and Dominique Savoie
URL:https://essft.com/event/central-maine-spaniel-club-6/
CATEGORIES:Field Trials - East
END:VEVENT
BEGIN:VEVENT
DTSTART;TZID=America/Chicago:20220211T000000
DTEND;TZID=America/Chicago:20220213T000000
DTSTAMP:20260422T173320
CREATED:20250613T043246Z
LAST-MODIFIED:20250613T043246Z
UID:10010612-1644537600-1644710400@essft.com
SUMMARY:COCKER:  Stockton ESSTC
DESCRIPTION:Entries Close: Monday\, January 31\, 2022 11:59:59 PM Eastern Time(ET) on Hunt Secretary \nJudges:  Rick Shively and Brent Blundel
URL:https://essft.com/event/cocker-stockton-esstc-2/
LOCATION:Clear Creek Ranch
CATEGORIES:Cocker Trial
END:VEVENT
BEGIN:VEVENT
DTSTART;TZID=America/Chicago:20220211T000000
DTEND;TZID=America/Chicago:20220213T000000
DTSTAMP:20260422T173320
CREATED:20250613T043246Z
LAST-MODIFIED:20250613T043246Z
UID:10010610-1644537600-1644710400@essft.com
SUMMARY:Stockton ESS Training Club
DESCRIPTION:Entries Close: Monday\, January 31\, 2022 11:59:59 PM Eastern Time(ET) on Hunt Secretary \nJudges: Rick Shively and Brent Blundel
URL:https://essft.com/event/stockton-ess-training-club-5/
LOCATION:Clear Creek Ranch
CATEGORIES:Field Trials - West
END:VEVENT
BEGIN:VEVENT
DTSTART;TZID=America/Chicago:20220211T000000
DTEND;TZID=America/Chicago:20220212T000000
DTSTAMP:20260422T173320
CREATED:20250613T043246Z
LAST-MODIFIED:20250613T043246Z
UID:10010611-1644537600-1644624000@essft.com
SUMMARY:Hall of Fame Trial #2
DESCRIPTION:Entries Close: Monday\, January 31\, 2022 11:59:59 PM Eastern Time(ET) on Hunt Secretary \nJudges: John Bruggeman and Justin Smith\n  \n\n		\n			\n			\n		\n\n		\n 
URL:https://essft.com/event/hall-of-fame-trial-2/
CATEGORIES:Field Trials - Rocky Mountain
END:VEVENT
BEGIN:VEVENT
DTSTART;TZID=America/Chicago:20220209T000000
DTEND;TZID=America/Chicago:20220210T000000
DTSTAMP:20260422T173320
CREATED:20250613T043231Z
LAST-MODIFIED:20250613T043231Z
UID:10010609-1644364800-1644451200@essft.com
SUMMARY:Volunteer ESSC: Hall of Fame Trial #1
DESCRIPTION:Entries Close: Monday\, January 31\, 2022 11:59:59 PM Eastern Time(ET) on Hunt Secretary \nJudges: Robert Clayton and Dan Murray
URL:https://essft.com/event/volunteer-essc-hall-of-fame-trial-1/
CATEGORIES:Field Trials - Rocky Mountain
END:VEVENT
BEGIN:VEVENT
DTSTART;TZID=America/Chicago:20220205T000000
DTEND;TZID=America/Chicago:20220206T000000
DTSTAMP:20260422T173320
CREATED:20250613T043231Z
LAST-MODIFIED:20250613T043231Z
UID:10010608-1644019200-1644105600@essft.com
SUMMARY:Houston ESSC
DESCRIPTION:Entries Close: Tuesday\, January 25\, 2022 11:59:59 PM Eastern Time(ET) on Hunt Secretary \nJudges: John Bishop and Andre Trudel\n\n		\n			\n			\n		\n\n		\n 
URL:https://essft.com/event/houston-essc-4/
LOCATION:Springer Creek Ranch\, 4918 FM1374\, Huntsville\, TX 77340\, USA\, Huntsville\, Texas\, 77340\, United States
CATEGORIES:Field Trials - Rocky Mountain
GEO:30.613039;-95.621861
X-APPLE-STRUCTURED-LOCATION;VALUE=URI;X-ADDRESS=Springer Creek Ranch 4918 FM1374 Huntsville TX 77340 USA Huntsville Texas 77340 United States;X-APPLE-RADIUS=500;X-TITLE=4918 FM1374\, Huntsville\, TX 77340\, USA:geo:-95.621861,30.613039
END:VEVENT
END:VCALENDAR