BEGIN:VCALENDAR
VERSION:2.0
PRODID:-//English Springer Spaniel Field Trials - ECPv6.15.20//NONSGML v1.0//EN
CALSCALE:GREGORIAN
METHOD:PUBLISH
X-WR-CALNAME:English Springer Spaniel Field Trials
X-ORIGINAL-URL:https://essft.com
X-WR-CALDESC:Events for English Springer Spaniel Field Trials
REFRESH-INTERVAL;VALUE=DURATION:PT1H
X-Robots-Tag:noindex
X-PUBLISHED-TTL:PT1H
BEGIN:VTIMEZONE
TZID:America/Chicago
BEGIN:DAYLIGHT
TZOFFSETFROM:-0600
TZOFFSETTO:-0500
TZNAME:CDT
DTSTART:20210314T080000
END:DAYLIGHT
BEGIN:STANDARD
TZOFFSETFROM:-0500
TZOFFSETTO:-0600
TZNAME:CST
DTSTART:20211107T070000
END:STANDARD
BEGIN:DAYLIGHT
TZOFFSETFROM:-0600
TZOFFSETTO:-0500
TZNAME:CDT
DTSTART:20220313T080000
END:DAYLIGHT
BEGIN:STANDARD
TZOFFSETFROM:-0500
TZOFFSETTO:-0600
TZNAME:CST
DTSTART:20221106T070000
END:STANDARD
BEGIN:DAYLIGHT
TZOFFSETFROM:-0600
TZOFFSETTO:-0500
TZNAME:CDT
DTSTART:20230312T080000
END:DAYLIGHT
BEGIN:STANDARD
TZOFFSETFROM:-0500
TZOFFSETTO:-0600
TZNAME:CST
DTSTART:20231105T070000
END:STANDARD
BEGIN:DAYLIGHT
TZOFFSETFROM:-0600
TZOFFSETTO:-0500
TZNAME:CDT
DTSTART:20240310T080000
END:DAYLIGHT
BEGIN:STANDARD
TZOFFSETFROM:-0500
TZOFFSETTO:-0600
TZNAME:CST
DTSTART:20241103T070000
END:STANDARD
END:VTIMEZONE
BEGIN:VEVENT
DTSTART;TZID=America/Chicago:20230210T000000
DTEND;TZID=America/Chicago:20230212T000000
DTSTAMP:20260422T173211
CREATED:20250613T164257Z
LAST-MODIFIED:20250613T164257Z
UID:10010878-1675987200-1676160000@essft.com
SUMMARY:Stockton ESS Training Club
DESCRIPTION:Entries Close: Monday\, January 30\, 2023 11:59:59 PM Eastern Time(ET) on Hunt Secretary \nJudges: Katie Gorecki and Chad Betts
URL:https://essft.com/event/stockton-ess-training-club-6/
LOCATION:Clear Creek Ranch
CATEGORIES:Field Trials - West
END:VEVENT
BEGIN:VEVENT
DTSTART;TZID=America/Chicago:20230210T000000
DTEND;TZID=America/Chicago:20230211T000000
DTSTAMP:20260422T173211
CREATED:20250613T164258Z
LAST-MODIFIED:20250613T164258Z
UID:10010879-1675987200-1676073600@essft.com
SUMMARY:COCKER: Stockton ESSTC
DESCRIPTION:Entries Close: Monday\, January 30\, 2023 11:59:59 PM Eastern Time(ET) on Hunt Secretary \nJudges:  Katie Gorecki and Chad Betts
URL:https://essft.com/event/cocker-stockton-esstc-3/
LOCATION:Clear Creek Ranch
CATEGORIES:Cocker Trial
END:VEVENT
BEGIN:VEVENT
DTSTART;TZID=America/Chicago:20230208T000000
DTEND;TZID=America/Chicago:20230211T000000
DTSTAMP:20260422T173211
CREATED:20250613T164243Z
LAST-MODIFIED:20250613T164243Z
UID:10010877-1675814400-1676073600@essft.com
SUMMARY:Hall of Fame and Volunteer Club Trials
DESCRIPTION:Hall of Fame I\nEntries Close: Monday\, January 30\, 2023 11:59:59 PM Eastern Time(ET) on Hunt Secretary \nJudges: Kathy Nestor and Patrick Berry\n\n		\n			\n			\n		\n\n		\n  \nHall of Fame II\nEntries  Close: Monday\, January 30\, 2023 11:59:59 PM Eastern Time(ET) on Hunt Secretary \nJudges: Will Pick and David Anderson
URL:https://essft.com/event/hall-of-fame-and-volunteer-club-trials/
CATEGORIES:Field Trials - Rocky Mountain
END:VEVENT
BEGIN:VEVENT
DTSTART;TZID=America/Chicago:20230204T000000
DTEND;TZID=America/Chicago:20230205T000000
DTSTAMP:20260422T173211
CREATED:20250613T164243Z
LAST-MODIFIED:20250613T164243Z
UID:10010876-1675468800-1675555200@essft.com
SUMMARY:Houston English Springer Spaniel Club
DESCRIPTION:Entries Close: Monday\, January 23\, 2023 11:59:59 PM Eastern Time(ET) on Hunt Secretary \nJudges: Dominique Savoie and Jim Keller
URL:https://essft.com/event/houston-english-springer-spaniel-club-7-4/
LOCATION:Springer Creek Ranch\, 4918 FM1374\, Huntsville\, TX 77340\, USA\, Huntsville\, Texas\, 77340\, United States
CATEGORIES:Field Trials - Rocky Mountain
GEO:30.613039;-95.621861
X-APPLE-STRUCTURED-LOCATION;VALUE=URI;X-ADDRESS=Springer Creek Ranch 4918 FM1374 Huntsville TX 77340 USA Huntsville Texas 77340 United States;X-APPLE-RADIUS=500;X-TITLE=4918 FM1374\, Huntsville\, TX 77340\, USA:geo:-95.621861,30.613039
END:VEVENT
BEGIN:VEVENT
DTSTART;TZID=America/Chicago:20230203T000000
DTEND;TZID=America/Chicago:20230205T000000
DTSTAMP:20260422T173211
CREATED:20250613T164243Z
LAST-MODIFIED:20250613T164243Z
UID:10010875-1675382400-1675555200@essft.com
SUMMARY:COCKER: Rogue Valley Sporting Spaniel Club
DESCRIPTION:Entries Close: Monday\, January 23\, 2023 11:59:59 PM Eastern Time(ET) on Hunt Secretary \nJudges: Tom Meyer and Jerry Livingston
URL:https://essft.com/event/cocker-rogue-valley-sporting-spaniel-club/
CATEGORIES:Cocker Trial
END:VEVENT
BEGIN:VEVENT
DTSTART;TZID=America/Chicago:20230203T000000
DTEND;TZID=America/Chicago:20230204T000000
DTSTAMP:20260422T173211
CREATED:20250613T164243Z
LAST-MODIFIED:20250613T164243Z
UID:10010874-1675382400-1675468800@essft.com
SUMMARY:Rogue Valley Sporting Spaniel Club
DESCRIPTION:Entries Close: Monday\, January 23\, 2023 11:59:59 PM Eastern Time(ET) on Hunt Secretary \nJudges: Tom Meyer and Jerry Livingston
URL:https://essft.com/event/rogue-valley-sporting-spaniel-club-2/
CATEGORIES:Field Trials - West
END:VEVENT
BEGIN:VEVENT
DTSTART;TZID=America/Chicago:20230202T000000
DTEND;TZID=America/Chicago:20230203T000000
DTSTAMP:20260422T173211
CREATED:20250613T164242Z
LAST-MODIFIED:20250613T164242Z
UID:10010873-1675296000-1675382400@essft.com
SUMMARY:Southeast Texas English Springer Spaniel Club
DESCRIPTION:Entries Close: Monday\, January 23\, 2023 11:59:59 PM Eastern Time(ET) on Hunt Secretary \nJudges: Todd Stelzer and Brad Schindler
URL:https://essft.com/event/southeast-texas-english-springer-spaniel-club-3-4/
LOCATION:Springer Creek Ranch\, 4918 FM1374\, Huntsville\, TX 77340\, USA\, Huntsville\, Texas\, 77340\, United States
CATEGORIES:Field Trials - Rocky Mountain
GEO:30.613039;-95.621861
X-APPLE-STRUCTURED-LOCATION;VALUE=URI;X-ADDRESS=Springer Creek Ranch 4918 FM1374 Huntsville TX 77340 USA Huntsville Texas 77340 United States;X-APPLE-RADIUS=500;X-TITLE=4918 FM1374\, Huntsville\, TX 77340\, USA:geo:-95.621861,30.613039
END:VEVENT
BEGIN:VEVENT
DTSTART;TZID=America/Chicago:20230131T000000
DTEND;TZID=America/Chicago:20230201T000000
DTSTAMP:20260422T173211
CREATED:20250613T164131Z
LAST-MODIFIED:20250613T164131Z
UID:10010872-1675123200-1675209600@essft.com
SUMMARY:COCKER: Houston English Springer Spaniel Club
DESCRIPTION:Entries: TBD \nJudges: TBD \nStand by for more information.
URL:https://essft.com/event/cocker-houston-english-springer-spaniel-club/
CATEGORIES:Cocker Trial
END:VEVENT
BEGIN:VEVENT
DTSTART;TZID=America/Chicago:20230128T000000
DTEND;TZID=America/Chicago:20230129T000000
DTSTAMP:20260422T173211
CREATED:20250613T164131Z
LAST-MODIFIED:20250613T164131Z
UID:10010870-1674864000-1674950400@essft.com
SUMMARY:English Springer Spaniel Club of Southern California
DESCRIPTION:Entries Close: Tuesday\, January 17\, 2023 11:59:59 PM Eastern Time(ET) on Hunt Secretary \nJudges: Robert Willis and Robert Bullard
URL:https://essft.com/event/english-springer-spaniel-club-of-southern-california-4/
CATEGORIES:Field Trials - West
END:VEVENT
BEGIN:VEVENT
DTSTART;TZID=America/Chicago:20230128T000000
DTEND;TZID=America/Chicago:20230129T000000
DTSTAMP:20260422T173211
CREATED:20250613T164131Z
LAST-MODIFIED:20250613T164131Z
UID:10010871-1674864000-1674950400@essft.com
SUMMARY:COCKER: Wateree Spaniel Club
DESCRIPTION:Entries Close: Tuesday\, January 17\, 2023 11:59:59 PM Eastern Time(ET) on Hunt Secretary \nJudge: Dave Barto and Mhari Peschel
URL:https://essft.com/event/cocker-wateree-spaniel-club-3/
CATEGORIES:Cocker Trial
END:VEVENT
BEGIN:VEVENT
DTSTART;TZID=America/Chicago:20230121T000000
DTEND;TZID=America/Chicago:20230122T000000
DTSTAMP:20260422T173211
CREATED:20250613T164131Z
LAST-MODIFIED:20250613T164131Z
UID:10010868-1674259200-1674345600@essft.com
SUMMARY:English Cocker Spaniel Club of America Field Trial
DESCRIPTION:Entries Close: Tuesday\, January 10\, 2023 11:59:59 PM Eastern Time(ET) on Hunt Secretary \nJudges: Pat Keliher and Keith Meissner \n 
URL:https://essft.com/event/english-cocker-spaniel-club-of-america-field-trial/
LOCATION:Lime Rock Cockers Preserve\, East Bend\, NC 27018\, USA\, East Bend\, North Carolina\, 27018\, United States
CATEGORIES:Cocker Trial
GEO:36.216528;-80.512558
X-APPLE-STRUCTURED-LOCATION;VALUE=URI;X-ADDRESS=Lime Rock Cockers Preserve East Bend NC 27018 USA East Bend North Carolina 27018 United States;X-APPLE-RADIUS=500;X-TITLE=East Bend\, NC 27018\, USA:geo:-80.512558,36.216528
END:VEVENT
BEGIN:VEVENT
DTSTART;TZID=America/Chicago:20230121T000000
DTEND;TZID=America/Chicago:20230122T000000
DTSTAMP:20260422T173211
CREATED:20250613T164131Z
LAST-MODIFIED:20250613T164131Z
UID:10010869-1674259200-1674345600@essft.com
SUMMARY:Central Virginia English Springer Spaniel Field Trial Club
DESCRIPTION:Entries Close: Tuesday\, January 10\, 2023 11:59:59 PM Eastern on Hunt Secretary Hunt Secretary  \nJudges: Jack Markowski and Katie Gorecki\n\n		\n			\n			\n		\n\n		\n 
URL:https://essft.com/event/central-virginia-english-springer-spaniel-field-trial-club-2/
CATEGORIES:Field Trials - East
END:VEVENT
BEGIN:VEVENT
DTSTART;TZID=America/Chicago:20230121T000000
DTEND;TZID=America/Chicago:20230122T000000
DTSTAMP:20260422T173211
CREATED:20250613T164116Z
LAST-MODIFIED:20250613T164116Z
UID:10010867-1674259200-1674345600@essft.com
SUMMARY:North Texas Sporting Spaniel Club
DESCRIPTION:Entries Close: Tuesday\, January 10\, 2023 11:59:59 PM Eastern Time(ET) on Hunt Secretary \nJudges: Mike McGinty and Josh Riddle
URL:https://essft.com/event/north-texas-sporting-spaniel-club-6-2/
CATEGORIES:Field Trials - Rocky Mountain
END:VEVENT
BEGIN:VEVENT
DTSTART;TZID=America/Chicago:20230120T000000
DTEND;TZID=America/Chicago:20230120T000000
DTSTAMP:20260422T173212
CREATED:20250613T164116Z
LAST-MODIFIED:20250613T164116Z
UID:10010866-1674172800-1674172800@essft.com
SUMMARY:COCKER: North Texas
DESCRIPTION:Entries Close: Tuesday\, January 10\, 2023 11:59:59 PM Eastern Time(ET) on Hunt Secretary. \nJudges: Mike McGinty and Josh Riddle
URL:https://essft.com/event/cocker-north-texas/
CATEGORIES:Cocker Trial
END:VEVENT
BEGIN:VEVENT
DTSTART;TZID=America/Chicago:20230116T000000
DTEND;TZID=America/Chicago:20230116T000000
DTSTAMP:20260422T173212
CREATED:20250613T164116Z
LAST-MODIFIED:20250613T164116Z
UID:10010865-1673827200-1673827200@essft.com
SUMMARY:Martin Luther King Jr Day
DESCRIPTION:
URL:https://essft.com/event/martin-luther-king-jr-day-4/
CATEGORIES:Holidays
END:VEVENT
BEGIN:VEVENT
DTSTART;TZID=America/Chicago:20230114T000000
DTEND;TZID=America/Chicago:20230115T000000
DTSTAMP:20260422T173212
CREATED:20250613T164116Z
LAST-MODIFIED:20250613T164116Z
UID:10010863-1673654400-1673740800@essft.com
SUMMARY:Oklahoma Trial #2
DESCRIPTION:Entries Close: Tuesday\, January 3\, 2023 11:59:59 PM Eastern Time(ET) on Hunt Secretary \nJudges: Trent Bosse and Mhari Peschel
URL:https://essft.com/event/oklahoma-trial-2/
CATEGORIES:Field Trials - Rocky Mountain
END:VEVENT
BEGIN:VEVENT
DTSTART;TZID=America/Chicago:20230114T000000
DTEND;TZID=America/Chicago:20230115T000000
DTSTAMP:20260422T173212
CREATED:20250613T164116Z
LAST-MODIFIED:20250613T164116Z
UID:10010864-1673654400-1673740800@essft.com
SUMMARY:Ravenna/MidEast Memorial Field Trial
DESCRIPTION:  \nDue to entry numbers\, the Ravenna/MidEast Memorial Trial\nwill be run on Sat. 1/14 only.  All stakes will be run on 1/14.\n  \nEntries Close: Tuesday\, January 3\, 2023 11:59:59 PM Eastern Time(ET) on Hunt Secretary \nJudges:  Dan Lussen and John Dunn
URL:https://essft.com/event/ravenna-mideast-memorial-field-trial/
LOCATION:Beelman Farm\, 2192 Co Rd 21\, De Graff\, OH 43318\, USA\, De Graff\, Ohio\, 43318\, United States
CATEGORIES:Field Trials - Mid East
GEO:40.36598;-83.944001
X-APPLE-STRUCTURED-LOCATION;VALUE=URI;X-ADDRESS=Beelman Farm 2192 Co Rd 21 De Graff OH 43318 USA De Graff Ohio 43318 United States;X-APPLE-RADIUS=500;X-TITLE=2192 Co Rd 21\, De Graff\, OH 43318\, USA:geo:-83.944001,40.36598
END:VEVENT
BEGIN:VEVENT
DTSTART;TZID=America/Chicago:20230112T000000
DTEND;TZID=America/Chicago:20230113T000000
DTSTAMP:20260422T173212
CREATED:20250613T164112Z
LAST-MODIFIED:20250613T164112Z
UID:10010862-1673481600-1673568000@essft.com
SUMMARY:Oklahoma Trial #1
DESCRIPTION:Entries Close: Tuesday\, January 3\, 2023 11:59:59 PM Eastern Time(ET) on Hunt Secretary \nJudges: Kevin Martineau and Will Pick
URL:https://essft.com/event/oklahoma-trial-1/
CATEGORIES:Field Trials - Rocky Mountain
END:VEVENT
BEGIN:VEVENT
DTSTART;TZID=America/Chicago:20230111T000000
DTEND;TZID=America/Chicago:20230111T000000
DTSTAMP:20260422T173212
CREATED:20250613T164112Z
LAST-MODIFIED:20250613T164112Z
UID:10010861-1673395200-1673395200@essft.com
SUMMARY:Platte River English Springer Spaniel Club Water Test for Springers and Cockers
DESCRIPTION:Springer Entries Close: Tuesday\, December 27\, 2022 11:59:59 PM Eastern Time(ET) on Hunt Secretary \nCocker Entries Close: Tuesday\, December 27\, 2022 11:59:59 PM Eastern Time(ET) on Hunt Secretary  (Different link for entry) \nJudges: Will Pick and Katie Gorecki\n 
URL:https://essft.com/event/platte-river-english-springer-spaniel-club-water-test-for-springers-and-cockers/
CATEGORIES:Water Test
END:VEVENT
BEGIN:VEVENT
DTSTART;TZID=America/Chicago:20230109T000000
DTEND;TZID=America/Chicago:20230110T000000
DTSTAMP:20260422T173212
CREATED:20250613T164112Z
LAST-MODIFIED:20250613T164112Z
UID:10010860-1673222400-1673308800@essft.com
SUMMARY:COCKER: Platte River ESS Club
DESCRIPTION:Entries Close: Tuesday\, December 27\, 2022 11:59:59 PM Eastern Time(ET) on Hunt Secretary \nJudges: Will Pick and Katie Gorecki
URL:https://essft.com/event/cocker-platte-river-ess-club/
CATEGORIES:Cocker Trial
END:VEVENT
BEGIN:VEVENT
DTSTART;TZID=America/Chicago:20230107T000000
DTEND;TZID=America/Chicago:20230108T000000
DTSTAMP:20260422T173212
CREATED:20250613T164112Z
LAST-MODIFIED:20250613T164112Z
UID:10010859-1673049600-1673136000@essft.com
SUMMARY:Platte River ESS Club
DESCRIPTION:Entries Close: Tuesday\, December 27\, 2022 11:59:59 PM Eastern Time(ET) on Hunt Secretary \nJudges: Mike Wallace and John Dunn
URL:https://essft.com/event/platte-river-ess-club/
CATEGORIES:Field Trials - Rocky Mountain
END:VEVENT
BEGIN:VEVENT
DTSTART;TZID=America/Chicago:20230101T000000
DTEND;TZID=America/Chicago:20230101T000000
DTSTAMP:20260422T173212
CREATED:20250613T164112Z
LAST-MODIFIED:20250613T164112Z
UID:10010858-1672531200-1672531200@essft.com
SUMMARY:New Year's Day
DESCRIPTION:
URL:https://essft.com/event/new-years-day-5/
CATEGORIES:Holidays
END:VEVENT
BEGIN:VEVENT
DTSTART;VALUE=DATE:20221225
DTEND;VALUE=DATE:20221226
DTSTAMP:20260422T173212
CREATED:20250613T044501Z
LAST-MODIFIED:20250711T023557Z
UID:10010857-1671926400-1672012799@essft.com
SUMMARY:Christmas
DESCRIPTION:
URL:https://essft.com/event/christmas/
CATEGORIES:Holidays
END:VEVENT
BEGIN:VEVENT
DTSTART;TZID=America/Chicago:20221223T000000
DTEND;TZID=America/Chicago:20221223T000000
DTSTAMP:20260422T173212
CREATED:20250613T044501Z
LAST-MODIFIED:20250613T044501Z
UID:10010856-1671753600-1671753600@essft.com
SUMMARY:ECSCA Specialty - Hunt tests 2023
DESCRIPTION:
URL:https://essft.com/event/ecsca-specialty-hunt-tests-2023/
CATEGORIES:Hunt Tests
END:VEVENT
BEGIN:VEVENT
DTSTART;TZID=America/Chicago:20221212T000000
DTEND;TZID=America/Chicago:20221212T000000
DTSTAMP:20260422T173212
CREATED:20250613T044501Z
LAST-MODIFIED:20250613T044501Z
UID:10010855-1670803200-1670803200@essft.com
SUMMARY:Keystone English Springer Spaniel Club
DESCRIPTION:Entries Close: Thursday\, December 1\, 2022 11:59:59 PM Eastern Time(ET) on Hunt Secretary \nJudges: Todd Agnew and Mike Nolan\n\n		\n			\n			\n		\n\n		\n  \n 
URL:https://essft.com/event/keystone-english-springer-spaniel-club-9/
LOCATION:Sinking Valley\, Tyrone\, PA 16686\, USA\, Tyrone\, Pennsylvania\, 16686\, United States
CATEGORIES:Field Trials - East
ORGANIZER;CN="Barbara Granatir":MAILTO:sandyhilless@comcast.net
GEO:40.670618;-78.238624
X-APPLE-STRUCTURED-LOCATION;VALUE=URI;X-ADDRESS=Sinking Valley Tyrone PA 16686 USA Tyrone Pennsylvania 16686 United States;X-APPLE-RADIUS=500;X-TITLE=Tyrone\, PA 16686\, USA:geo:-78.238624,40.670618
END:VEVENT
BEGIN:VEVENT
DTSTART;TZID=America/Chicago:20221210T000000
DTEND;TZID=America/Chicago:20221211T000000
DTSTAMP:20260422T173212
CREATED:20250613T044446Z
LAST-MODIFIED:20250613T044446Z
UID:10010853-1670630400-1670716800@essft.com
SUMMARY:COCKER: New Jersey Spaniel Field Trial Club
DESCRIPTION:Entries Close: Tuesday\, November 29\, 2022 11:59:59 PM Eastern Time(ET) on Hunt Secretary \nJudges:  Deborah Olszewski and Dan Lussen
URL:https://essft.com/event/cocker-new-jersey-spaniel-field-trial-club-3/
CATEGORIES:Cocker Trial
ORGANIZER;CN="Connie Soper":MAILTO:constancesoper@hotmail.com
END:VEVENT
BEGIN:VEVENT
DTSTART;TZID=America/Chicago:20221210T000000
DTEND;TZID=America/Chicago:20221211T000000
DTSTAMP:20260422T173212
CREATED:20250613T044446Z
LAST-MODIFIED:20250613T044446Z
UID:10010854-1670630400-1670716800@essft.com
SUMMARY:Mid-Penn ESSC Fall Field Trial
DESCRIPTION:Entries Close: Tuesday\, November 29\, 2022 11:59:59 PM Eastern Time(ET) on Hunt Secretary \nJudges: Michael Keogh and John Meyer
URL:https://essft.com/event/mid-penn-essc-fall-field-trial/
LOCATION:Sinking Valley\, Tyrone\, PA 16686\, USA\, Tyrone\, Pennsylvania\, 16686\, United States
CATEGORIES:Field Trials - East
GEO:40.670618;-78.238624
X-APPLE-STRUCTURED-LOCATION;VALUE=URI;X-ADDRESS=Sinking Valley Tyrone PA 16686 USA Tyrone Pennsylvania 16686 United States;X-APPLE-RADIUS=500;X-TITLE=Tyrone\, PA 16686\, USA:geo:-78.238624,40.670618
END:VEVENT
BEGIN:VEVENT
DTSTART;TZID=America/Chicago:20221208T000000
DTEND;TZID=America/Chicago:20221209T000000
DTSTAMP:20260422T173212
CREATED:20250613T044446Z
LAST-MODIFIED:20250613T044446Z
UID:10010852-1670457600-1670544000@essft.com
SUMMARY:Central New England Sporting Spaniel Club
DESCRIPTION:Entries Close: Monday\, November 28\, 2022 11:59:59 PM Eastern Time(ET) on Hunt Secretary \nJudges: Ken Hanson and Randy Manore\n\n		\n			\n			\n		\n\n		\n 
URL:https://essft.com/event/central-new-england-sporting-spaniel-club-14/
LOCATION:Richard Stewart Farm\, Canisteo\, NY 14823\, USA\, Canisteo\, New York\, 14823\, United States
CATEGORIES:Field Trials - East
GEO:42.291091;-77.498077
X-APPLE-STRUCTURED-LOCATION;VALUE=URI;X-ADDRESS=Richard Stewart Farm Canisteo NY 14823 USA Canisteo New York 14823 United States;X-APPLE-RADIUS=500;X-TITLE=Canisteo\, NY 14823\, USA:geo:-77.498077,42.291091
END:VEVENT
BEGIN:VEVENT
DTSTART;TZID=America/Chicago:20221203T000000
DTEND;TZID=America/Chicago:20221204T000000
DTSTAMP:20260422T173212
CREATED:20250613T044446Z
LAST-MODIFIED:20250613T044446Z
UID:10010850-1670025600-1670112000@essft.com
SUMMARY:Cocker Spaniel Specialty Club of Georgia Hunt Test
DESCRIPTION:Entries Close: Tuesday\, November 22\, 2022 11:59:59 PM Eastern Time(ET) on Hunt Secretary
URL:https://essft.com/event/cocker-spaniel-specialty-club-of-georgia-hunt-test/
CATEGORIES:Hunt Tests
END:VEVENT
BEGIN:VEVENT
DTSTART;TZID=America/Chicago:20221203T000000
DTEND;TZID=America/Chicago:20221204T000000
DTSTAMP:20260422T173212
CREATED:20250613T044446Z
LAST-MODIFIED:20250613T044446Z
UID:10010851-1670025600-1670112000@essft.com
SUMMARY:Southern California Sporting Spaniel Club Hunt Test
DESCRIPTION:Entries Close: Monday\, November 21\, 2022 11:59:59 PM Eastern Time(ET) on Hunt Secretary
URL:https://essft.com/event/southern-california-sporting-spaniel-club-hunt-test/
CATEGORIES:Hunt Tests
END:VEVENT
END:VCALENDAR