BEGIN:VCALENDAR
VERSION:2.0
PRODID:-//English Springer Spaniel Field Trials - ECPv6.15.20//NONSGML v1.0//EN
CALSCALE:GREGORIAN
METHOD:PUBLISH
X-WR-CALNAME:English Springer Spaniel Field Trials
X-ORIGINAL-URL:https://essft.com
X-WR-CALDESC:Events for English Springer Spaniel Field Trials
REFRESH-INTERVAL;VALUE=DURATION:PT1H
X-Robots-Tag:noindex
X-PUBLISHED-TTL:PT1H
BEGIN:VTIMEZONE
TZID:America/Chicago
BEGIN:DAYLIGHT
TZOFFSETFROM:-0600
TZOFFSETTO:-0500
TZNAME:CDT
DTSTART:20220313T080000
END:DAYLIGHT
BEGIN:STANDARD
TZOFFSETFROM:-0500
TZOFFSETTO:-0600
TZNAME:CST
DTSTART:20221106T070000
END:STANDARD
BEGIN:DAYLIGHT
TZOFFSETFROM:-0600
TZOFFSETTO:-0500
TZNAME:CDT
DTSTART:20230312T080000
END:DAYLIGHT
BEGIN:STANDARD
TZOFFSETFROM:-0500
TZOFFSETTO:-0600
TZNAME:CST
DTSTART:20231105T070000
END:STANDARD
BEGIN:DAYLIGHT
TZOFFSETFROM:-0600
TZOFFSETTO:-0500
TZNAME:CDT
DTSTART:20240310T080000
END:DAYLIGHT
BEGIN:STANDARD
TZOFFSETFROM:-0500
TZOFFSETTO:-0600
TZNAME:CST
DTSTART:20241103T070000
END:STANDARD
END:VTIMEZONE
BEGIN:VEVENT
DTSTART;TZID=America/Chicago:20230318T000000
DTEND;TZID=America/Chicago:20230319T000000
DTSTAMP:20260423T040719
CREATED:20250613T164955Z
LAST-MODIFIED:20250613T164955Z
UID:10010910-1679097600-1679184000@essft.com
SUMMARY:Stillwater Valley ESS Club
DESCRIPTION:Entries Close: Tuesday\, March 7\, 2023 11:59:59 PM Eastern Time(ET) on Hunt Secretary \nJudges: Mike Pollack and Kevin McGlin\nThe Stillwater Valley ESSC trial on 3/18&19 will be a multiple trial event.  We will be having a springer- open\, amateur and puppy as well at 2 cocker open stakes.  The\ncockers will alternate with each springer stake. \n\n		\n			\n			\n		\n\n		\n 
URL:https://essft.com/event/stillwater-valley-ess-club-12/
LOCATION:Beelman Farm\, 2192 Co Rd 21\, De Graff\, OH 43318\, USA\, De Graff\, Ohio\, 43318\, United States
CATEGORIES:Field Trials - Mid East
GEO:40.36598;-83.944001
X-APPLE-STRUCTURED-LOCATION;VALUE=URI;X-ADDRESS=Beelman Farm 2192 Co Rd 21 De Graff OH 43318 USA De Graff Ohio 43318 United States;X-APPLE-RADIUS=500;X-TITLE=2192 Co Rd 21\, De Graff\, OH 43318\, USA:geo:-83.944001,40.36598
END:VEVENT
BEGIN:VEVENT
DTSTART;TZID=America/Chicago:20230318T000000
DTEND;TZID=America/Chicago:20230319T000000
DTSTAMP:20260423T040719
CREATED:20250613T164955Z
LAST-MODIFIED:20250613T164955Z
UID:10010911-1679097600-1679184000@essft.com
SUMMARY:COCKER: Stillwater Valley ESS Club
DESCRIPTION:Entries Close: Tuesday\, March 7\, 2023 11:59:59 PM Eastern Time(ET) on Hunt Secretary \nJudges: Joe DeMarkis & John Leninger\nThe Stillwater Valley ESSC trial on 3/18&19 will be a multiple trial event.  We will be having a springer- open\, amateur and puppy as well at 2 cocker open stakes.  The\ncockers will alternate with each springer stake.
URL:https://essft.com/event/cocker-stillwater-valley-ess-club/
LOCATION:Beelman Farm\, 2192 Co Rd 21\, De Graff\, OH 43318\, USA\, De Graff\, Ohio\, 43318\, United States
CATEGORIES:Cocker Trial
GEO:40.36598;-83.944001
X-APPLE-STRUCTURED-LOCATION;VALUE=URI;X-ADDRESS=Beelman Farm 2192 Co Rd 21 De Graff OH 43318 USA De Graff Ohio 43318 United States;X-APPLE-RADIUS=500;X-TITLE=2192 Co Rd 21\, De Graff\, OH 43318\, USA:geo:-83.944001,40.36598
END:VEVENT
BEGIN:VEVENT
DTSTART;TZID=America/Chicago:20230318T000000
DTEND;TZID=America/Chicago:20230319T000000
DTSTAMP:20260423T040719
CREATED:20250613T164754Z
LAST-MODIFIED:20250613T164754Z
UID:10010906-1679097600-1679184000@essft.com
SUMMARY:Sportsmen's Spaniel Club of Calumet
DESCRIPTION:Entries Close: Tuesday\, March 7\, 2023 11:59:59 PM Eastern Time(ET) on Hunt Secretary \nJudges:  Mike Ludwig and Brent LeMaster\n\n		\n			\n			\n		\n\n		\n 
URL:https://essft.com/event/sportsmens-spaniel-club-of-calumet-11-3/
CATEGORIES:Field Trials - Mid West
END:VEVENT
BEGIN:VEVENT
DTSTART;TZID=America/Chicago:20230318T000000
DTEND;TZID=America/Chicago:20230319T000000
DTSTAMP:20260423T040719
CREATED:20250613T164754Z
LAST-MODIFIED:20250613T164754Z
UID:10010907-1679097600-1679184000@essft.com
SUMMARY:COCKER: Southern California Sporting Spaniel Club
DESCRIPTION:Entries Close: Tuesday\, March 7\, 2023 11:59:59 PM Eastern Time(ET) on Hunt Secretary \nJudges: Dan Murray and Renee Shannon
URL:https://essft.com/event/cocker-southern-california-sporting-spaniel-club-4/
LOCATION:Etiwanda Game Association\, 18950 CA-173\, Hesperia\, CA 92345\, USA\, Hesperia\, California\, 92345\, United States
CATEGORIES:Cocker Trial
GEO:34.3089;-117.322115
X-APPLE-STRUCTURED-LOCATION;VALUE=URI;X-ADDRESS=Etiwanda Game Association 18950 CA-173 Hesperia CA 92345 USA Hesperia California 92345 United States;X-APPLE-RADIUS=500;X-TITLE=18950 CA-173\, Hesperia\, CA 92345\, USA:geo:-117.322115,34.3089
END:VEVENT
BEGIN:VEVENT
DTSTART;TZID=America/Chicago:20230316T000000
DTEND;TZID=America/Chicago:20230319T000000
DTSTAMP:20260423T040719
CREATED:20250613T164754Z
LAST-MODIFIED:20250613T164754Z
UID:10010904-1678924800-1679184000@essft.com
SUMMARY:Springer Spaniel Club of Central Kansas
DESCRIPTION:There will be lunches available. \nThere will be a “get together” meal March 17 for everyone after the trial ends. \nI would like to have a head count for lunches each day and DEFINITELY for the “banquet” on the 17th. \nEmail me pls – tridoness@sutv.com \nI would like \n____ lunches on Thursday \n___ lunches on Friday \n___ lunches on Saturday \n___ lunches on Sunday \n___  will attend the “banquet” on the 17th \nEntries Close: Monday\, March 6\, 2023 11:59:59 PM Eastern Time(ET) on Hunt Secretary \nTrial #1 Judges: Robert Bullard and Tom Ness\nTrial #2 Judges:  John Bishop and Richard Paquin
URL:https://essft.com/event/springer-spaniel-club-of-central-kansas-6-4/
LOCATION:Springer Hollow Farm\, 12826 SW 77 Ave\, Zenda\, KS 67159\, USA\, Zenda\, Kansas\, 67159\, United States
CATEGORIES:Field Trials - Rocky Mountain
GEO:37.460004;-98.259078
X-APPLE-STRUCTURED-LOCATION;VALUE=URI;X-ADDRESS=Springer Hollow Farm 12826 SW 77 Ave Zenda KS 67159 USA Zenda Kansas 67159 United States;X-APPLE-RADIUS=500;X-TITLE=12826 SW 77 Ave\, Zenda\, KS 67159\, USA:geo:-98.259078,37.460004
END:VEVENT
BEGIN:VEVENT
DTSTART;TZID=America/Chicago:20230316T000000
DTEND;TZID=America/Chicago:20230316T000000
DTSTAMP:20260423T040719
CREATED:20250613T164754Z
LAST-MODIFIED:20250613T164754Z
UID:10010905-1678924800-1678924800@essft.com
SUMMARY:Welsh Springer Spaniel Club of America National Hunt Test
DESCRIPTION:Entries Close: Monday\, March 6\, 2023 11:59:59 PM Eastern Time(ET) on Hunt Secretary \n  \nPREFERENCE TO WELSH SPRINGER SPANIELS\nThis hunt test is in conjunction with the WSS National and preferenced to Welsh Springer Spaniels. All dogs must be six months of age or over on the day of the Hunting Test
URL:https://essft.com/event/welsh-springer-spaniel-club-of-america-national-hunt-test/
CATEGORIES:Hunt Tests
END:VEVENT
BEGIN:VEVENT
DTSTART;TZID=America/Chicago:20230312T000000
DTEND;TZID=America/Chicago:20230312T000000
DTSTAMP:20260423T040719
CREATED:20250613T164753Z
LAST-MODIFIED:20250613T164753Z
UID:10010903-1678579200-1678579200@essft.com
SUMMARY:Daylight Savings Time Begins (Spring Forward)
DESCRIPTION:
URL:https://essft.com/event/daylight-savings-time-begins-spring-forward/
CATEGORIES:Holidays
END:VEVENT
BEGIN:VEVENT
DTSTART;TZID=America/Chicago:20230311T000000
DTEND;TZID=America/Chicago:20230312T000000
DTSTAMP:20260423T040719
CREATED:20250613T164738Z
LAST-MODIFIED:20250613T164738Z
UID:10010900-1678492800-1678579200@essft.com
SUMMARY:Wateree Spaniel Club Hunt Test March 2023
DESCRIPTION:Entries Close: Tuesday\, February 28\, 2023 11:59:59 PM Eastern Time(ET) on Hunt Secretary
URL:https://essft.com/event/wateree-spaniel-club-hunt-test-march-2023/
CATEGORIES:Hunt Tests
END:VEVENT
BEGIN:VEVENT
DTSTART;TZID=America/Chicago:20230311T000000
DTEND;TZID=America/Chicago:20230312T000000
DTSTAMP:20260423T040719
CREATED:20250613T164738Z
LAST-MODIFIED:20250613T164738Z
UID:10010901-1678492800-1678579200@essft.com
SUMMARY:Mid-Penn ESSC Spring Field Trial 2023
DESCRIPTION:Entries Close: Tuesday\, February 28\, 2023 11:59:59 PM Eastern Time(ET) on Hunt Secretary \nJudges:  Bob Davis and Bob Merrill
URL:https://essft.com/event/mid-penn-essc-spring-field-trial-2023/
CATEGORIES:Field Trials - Mid East
END:VEVENT
BEGIN:VEVENT
DTSTART;TZID=America/Chicago:20230311T000000
DTEND;TZID=America/Chicago:20230312T000000
DTSTAMP:20260423T040719
CREATED:20250613T164738Z
LAST-MODIFIED:20250613T164738Z
UID:10010902-1678492800-1678579200@essft.com
SUMMARY:COCKER: Valley Forge Field Trial Assn
DESCRIPTION:Entries Close: Tuesday\, February 28\, 2023 11:59:59 PM Eastern Time(ET) on Hunt Secretary\nJudges: Deb Olszewski and Dana Poray\n\n		\n			\n			\n		\n\n		\n 
URL:https://essft.com/event/cocker-valley-forge-field-trial-assn/
CATEGORIES:Cocker Trial
ORGANIZER;CN="Connie Soper":MAILTO:constancesoper@hotmail.com
END:VEVENT
BEGIN:VEVENT
DTSTART;TZID=America/Chicago:20230311T000000
DTEND;TZID=America/Chicago:20230312T000000
DTSTAMP:20260423T040719
CREATED:20250613T164738Z
LAST-MODIFIED:20250613T164738Z
UID:10010898-1678492800-1678579200@essft.com
SUMMARY:Inland Empire ESS Club
DESCRIPTION:Cancelled due to bird supplier issues.
URL:https://essft.com/event/inland-empire-ess-club-7/
CATEGORIES:Field Trials - West
END:VEVENT
BEGIN:VEVENT
DTSTART;TZID=America/Chicago:20230311T000000
DTEND;TZID=America/Chicago:20230312T000000
DTSTAMP:20260423T040719
CREATED:20250613T164738Z
LAST-MODIFIED:20250613T164738Z
UID:10010899-1678492800-1678579200@essft.com
SUMMARY:Northern Colorado SS Club Springer Field Trial
DESCRIPTION:Entries Close: Monday\, February 27\, 2023 11:59:59 PM Eastern Time(ET) on Hunt Secretary \nJudges: James O’Shea and Mark Hairfield\nWe will be holding the Cocker trial near Weld County Road 37 between Weld County Roads 16 and 18\, just a few miles east of Fort Lupton\, Colorado. \nThe Springer Trial will be held at near Heritage Sporting Club in LaSalle\, CO. approximately 15 minutes from original grounds. \n 
URL:https://essft.com/event/northern-colorado-ss-club-springer-field-trial/
CATEGORIES:Field Trials - Rocky Mountain
END:VEVENT
BEGIN:VEVENT
DTSTART;TZID=America/Chicago:20230310T000000
DTEND;TZID=America/Chicago:20230310T000000
DTSTAMP:20260423T040719
CREATED:20250613T164617Z
LAST-MODIFIED:20250613T164617Z
UID:10010897-1678406400-1678406400@essft.com
SUMMARY:Keystone ESSC Spring Field Trial - OPEN ONLY
DESCRIPTION:Entries Close: Monday\, February 27\, 2023 11:59:59 PM Eastern Time(ET) on Hunt Secretary \nJudges:  Peter Renwick and Charles Urland
URL:https://essft.com/event/keystone-essc-spring-field-trial-open-only/
CATEGORIES:Field Trials - East
ORGANIZER;CN="Barbara Granatir":MAILTO:sandyhilless@comcast.net
END:VEVENT
BEGIN:VEVENT
DTSTART;TZID=America/Chicago:20230309T000000
DTEND;TZID=America/Chicago:20230310T000000
DTSTAMP:20260423T040719
CREATED:20250613T164617Z
LAST-MODIFIED:20250613T164617Z
UID:10010896-1678320000-1678406400@essft.com
SUMMARY:COCKER: Northern Colorado Springer Spaniel Club
DESCRIPTION:Judges:  James O’Shea and Mark Hairfield \nStand by for more information…
URL:https://essft.com/event/cocker-northern-colorado-springer-spaniel-club/
CATEGORIES:Cocker Trial
END:VEVENT
BEGIN:VEVENT
DTSTART;TZID=America/Chicago:20230304T000000
DTEND;TZID=America/Chicago:20230305T000000
DTSTAMP:20260423T040719
CREATED:20250613T164617Z
LAST-MODIFIED:20250613T164617Z
UID:10010893-1677888000-1677974400@essft.com
SUMMARY:Cincinnati English Springer Spaniel Field Trial Club
DESCRIPTION:Entries Close: Tuesday\, February 21\, 2023 11:59:59 PM Eastern Time(ET) on Hunt Secretary Hunt Secretary  \nJudges:  Mike Keough and George Akkouris
URL:https://essft.com/event/cincinnati-english-springer-spaniel-field-trial-club-7/
CATEGORIES:Field Trials - Mid East
ORGANIZER;CN="Amy Haering":MAILTO:cessftc@yahoo.com
END:VEVENT
BEGIN:VEVENT
DTSTART;TZID=America/Chicago:20230304T000000
DTEND;TZID=America/Chicago:20230305T000000
DTSTAMP:20260423T040719
CREATED:20250613T164617Z
LAST-MODIFIED:20250613T164617Z
UID:10010894-1677888000-1677974400@essft.com
SUMMARY:Boykin Spaniel Club & Breeders Assoc. America National Specialty
DESCRIPTION:Entries Close: Tuesday\, February 21\, 2023 11:59:59 PM Eastern Time(ET) on Hunt Secretary \nPREFERENCE TO BOYKIN SPANIELS – OPEN TO AKC ELIGIBLE BREEDS OF SPANIELS/RETRIEVERS
URL:https://essft.com/event/boykin-spaniel-club-breeders-assoc-america-national-specialty/
CATEGORIES:Hunt Tests
END:VEVENT
BEGIN:VEVENT
DTSTART;TZID=America/Chicago:20230304T000000
DTEND;TZID=America/Chicago:20230305T000000
DTSTAMP:20260423T040719
CREATED:20250613T164617Z
LAST-MODIFIED:20250613T164617Z
UID:10010895-1677888000-1677974400@essft.com
SUMMARY:COCKER: Mid-Atlantic Hunting Spaniel Club
DESCRIPTION:Entries Close: Tuesday\, February 21\, 2023 11:59:59 PM Eastern Time(ET) on Hunt Secretary \nJudges: Jack Glinsky and Ralph Botti\n\n		\n			\n			\n		\n\n		\n 
URL:https://essft.com/event/cocker-mid-atlantic-hunting-spaniel-club-4/
CATEGORIES:Cocker Trial
END:VEVENT
BEGIN:VEVENT
DTSTART;TZID=America/Chicago:20230304T000000
DTEND;TZID=America/Chicago:20230305T000000
DTSTAMP:20260423T040719
CREATED:20250613T164418Z
LAST-MODIFIED:20250613T164418Z
UID:10010892-1677888000-1677974400@essft.com
SUMMARY:Rocky Mountain Sporting Spaniel Club
DESCRIPTION:Entries Close: Tuesday\, February 21\, 2023 11:59:59 PM Eastern Time(ET) on Hunt Secretary \nJudges: Randy Bartsch and Chuck Petrmichl\n\n		\n			\n			\n		\n\n		\n 
URL:https://essft.com/event/rocky-mountain-sporting-spaniel-club/
CATEGORIES:Field Trials - Rocky Mountain
END:VEVENT
BEGIN:VEVENT
DTSTART;TZID=America/Chicago:20230304T000000
DTEND;TZID=America/Chicago:20230305T000000
DTSTAMP:20260423T040719
CREATED:20250613T164417Z
LAST-MODIFIED:20250613T164417Z
UID:10010891-1677888000-1677974400@essft.com
SUMMARY:Tamarin Spaniel Field Trial Club
DESCRIPTION:Entries Close: Monday\, February 20\, 2023 11:59:59 PM Eastern Time(ET) on Hunt Secretary \nJudges: Dan Lussen and Kevin McGlin\n\n		\n			\n			\n		\n\n		\n 
URL:https://essft.com/event/tamarin-spaniel-field-trial-club-6-2/
CATEGORIES:Field Trials - West
END:VEVENT
BEGIN:VEVENT
DTSTART;TZID=America/Chicago:20230303T000000
DTEND;TZID=America/Chicago:20230304T000000
DTSTAMP:20260423T040719
CREATED:20250613T164417Z
LAST-MODIFIED:20250613T164417Z
UID:10010890-1677801600-1677888000@essft.com
SUMMARY:COCKER: Tamarin Spaniel Field Trial Club
DESCRIPTION:Entries Close: Monday\, February 20\, 2023 11:59:59 PM Eastern Time(ET) on Hunt Secretary \nJudges: Dan Lussen and Kevin McGlin
URL:https://essft.com/event/cocker-tamarin-spaniel-field-trial-club-3/
CATEGORIES:Cocker Trial
END:VEVENT
BEGIN:VEVENT
DTSTART;TZID=America/Chicago:20230225T000000
DTEND;TZID=America/Chicago:20230226T000000
DTSTAMP:20260423T040719
CREATED:20250613T164417Z
LAST-MODIFIED:20250613T164417Z
UID:10010888-1677283200-1677369600@essft.com
SUMMARY:Central Virginia ESS Field Trial Club
DESCRIPTION:Stand by for more info.
URL:https://essft.com/event/central-virginia-ess-field-trial-club-8/
CATEGORIES:Field Trials - East
END:VEVENT
BEGIN:VEVENT
DTSTART;TZID=America/Chicago:20230225T000000
DTEND;TZID=America/Chicago:20230226T000000
DTSTAMP:20260423T040719
CREATED:20250613T164417Z
LAST-MODIFIED:20250613T164417Z
UID:10010889-1677283200-1677369600@essft.com
SUMMARY:Chattahoochee English Springer Spaniel Club of Greater Atlanta\, Inc.
DESCRIPTION:Entries Close: Tuesday\, February 14\, 2023 11:59:59 PM Eastern Time(ET) on Hunt Secretary \n 
URL:https://essft.com/event/chattahoochee-english-springer-spaniel-club-of-greater-atlanta-inc-3/
CATEGORIES:Hunt Tests
END:VEVENT
BEGIN:VEVENT
DTSTART;TZID=America/Chicago:20230225T000000
DTEND;TZID=America/Chicago:20230226T000000
DTSTAMP:20260423T040719
CREATED:20250613T164402Z
LAST-MODIFIED:20250613T164402Z
UID:10010886-1677283200-1677369600@essft.com
SUMMARY:Missouri Hunting Spaniel Club
DESCRIPTION:Entries Close: Tuesday\, February 14\, 2023 11:59:59 PM Eastern Time(ET) on Hunt Secretary \nJudges: Mark Haglin and Morgan Haglin
URL:https://essft.com/event/missouri-hunting-spaniel-club-20/
CATEGORIES:Field Trials - Rocky Mountain
END:VEVENT
BEGIN:VEVENT
DTSTART;TZID=America/Chicago:20230225T000000
DTEND;TZID=America/Chicago:20230226T000000
DTSTAMP:20260423T040720
CREATED:20250613T164402Z
LAST-MODIFIED:20250613T164402Z
UID:10010887-1677283200-1677369600@essft.com
SUMMARY:COCKER: ECSCA
DESCRIPTION:Entries Close: Tuesday\, February 14\, 2023 11:59:59 PM Eastern Time(ET) on Hunt Secretary \nJudges: Jason Givens and Bob Fink
URL:https://essft.com/event/cocker-ecsca/
CATEGORIES:Cocker Trial
END:VEVENT
BEGIN:VEVENT
DTSTART;TZID=America/Chicago:20230220T000000
DTEND;TZID=America/Chicago:20230220T000000
DTSTAMP:20260423T040720
CREATED:20250613T164402Z
LAST-MODIFIED:20250613T164402Z
UID:10010884-1676851200-1676851200@essft.com
SUMMARY:COCKER:  Arrowhead
DESCRIPTION:Stand by for more info.
URL:https://essft.com/event/cocker-arrowhead/
CATEGORIES:Cocker Trial
END:VEVENT
BEGIN:VEVENT
DTSTART;TZID=America/Chicago:20230220T000000
DTEND;TZID=America/Chicago:20230220T000000
DTSTAMP:20260423T040720
CREATED:20250613T164402Z
LAST-MODIFIED:20250613T164402Z
UID:10010885-1676851200-1676851200@essft.com
SUMMARY:President's Day
DESCRIPTION:
URL:https://essft.com/event/presidents-day-4/
CATEGORIES:Holidays
END:VEVENT
BEGIN:VEVENT
DTSTART;TZID=America/Chicago:20230218T000000
DTEND;TZID=America/Chicago:20230219T000000
DTSTAMP:20260423T040720
CREATED:20250613T164402Z
LAST-MODIFIED:20250613T164402Z
UID:10010883-1676678400-1676764800@essft.com
SUMMARY:Houston ESSC Spaniel Hunt Test
DESCRIPTION:Entries Close: Tuesday\, February 7\, 2023 11:59:59 PM Eastern Time(ET) on Hunt Secretary \n 
URL:https://essft.com/event/houston-essc-spaniel-hunt-test-4/
LOCATION:Springer Creek Ranch\, 4918 FM1374\, Huntsville\, TX 77340\, USA\, Huntsville\, Texas\, 77340\, United States
CATEGORIES:Hunt Tests
GEO:30.613039;-95.621861
X-APPLE-STRUCTURED-LOCATION;VALUE=URI;X-ADDRESS=Springer Creek Ranch 4918 FM1374 Huntsville TX 77340 USA Huntsville Texas 77340 United States;X-APPLE-RADIUS=500;X-TITLE=4918 FM1374\, Huntsville\, TX 77340\, USA:geo:-95.621861,30.613039
END:VEVENT
BEGIN:VEVENT
DTSTART;TZID=America/Chicago:20230218T000000
DTEND;TZID=America/Chicago:20230219T000000
DTSTAMP:20260423T040720
CREATED:20250613T164258Z
LAST-MODIFIED:20250613T164258Z
UID:10010881-1676678400-1676764800@essft.com
SUMMARY:Arrowhead ESS Club
DESCRIPTION:Entries Close: Tuesday\, February 7\, 2023 11:59:59 PM Eastern Time(ET) on Hunt Secretary \nJudges: Randy Manore and Tim Lindsay
URL:https://essft.com/event/arrowhead-ess-club-10/
CATEGORIES:Field Trials - West
END:VEVENT
BEGIN:VEVENT
DTSTART;TZID=America/Chicago:20230218T000000
DTEND;TZID=America/Chicago:20230219T000000
DTSTAMP:20260423T040720
CREATED:20250613T164258Z
LAST-MODIFIED:20250613T164258Z
UID:10010882-1676678400-1676764800@essft.com
SUMMARY:COCKER: Central Maine Spaniel Club
DESCRIPTION:Entries Close: Monday\, February 6\, 2023 11:59:59 PM Eastern Time(ET) on Hunt Secretary \nJudges: Bill Cosgrove and Michel Bourdeau
URL:https://essft.com/event/cocker-central-maine-spaniel-club-5/
CATEGORIES:Cocker Trial
END:VEVENT
BEGIN:VEVENT
DTSTART;TZID=America/Chicago:20230217T000000
DTEND;TZID=America/Chicago:20230219T000000
DTSTAMP:20260423T040720
CREATED:20250613T164258Z
LAST-MODIFIED:20250613T164258Z
UID:10010880-1676592000-1676764800@essft.com
SUMMARY:Central Maine Spaniel Club
DESCRIPTION:Entries Close: Monday\, February 6\, 2023 11:59:59 PM Eastern Time(ET) on Hunt Secretary \nJudges: Bill Cosgrove and Michel Bourdeau\n\n		\n			\n			\n		\n\n		\n 
URL:https://essft.com/event/central-maine-spaniel-club-10/
CATEGORIES:Field Trials - East
END:VEVENT
END:VCALENDAR