BEGIN:VCALENDAR
VERSION:2.0
PRODID:-//English Springer Spaniel Field Trials - ECPv6.15.20//NONSGML v1.0//EN
CALSCALE:GREGORIAN
METHOD:PUBLISH
X-WR-CALNAME:English Springer Spaniel Field Trials
X-ORIGINAL-URL:https://essft.com
X-WR-CALDESC:Events for English Springer Spaniel Field Trials
REFRESH-INTERVAL;VALUE=DURATION:PT1H
X-Robots-Tag:noindex
X-PUBLISHED-TTL:PT1H
BEGIN:VTIMEZONE
TZID:America/Chicago
BEGIN:DAYLIGHT
TZOFFSETFROM:-0600
TZOFFSETTO:-0500
TZNAME:CDT
DTSTART:20250309T080000
END:DAYLIGHT
BEGIN:STANDARD
TZOFFSETFROM:-0500
TZOFFSETTO:-0600
TZNAME:CST
DTSTART:20251102T070000
END:STANDARD
BEGIN:DAYLIGHT
TZOFFSETFROM:-0600
TZOFFSETTO:-0500
TZNAME:CDT
DTSTART:20260308T080000
END:DAYLIGHT
BEGIN:STANDARD
TZOFFSETFROM:-0500
TZOFFSETTO:-0600
TZNAME:CST
DTSTART:20261101T070000
END:STANDARD
BEGIN:DAYLIGHT
TZOFFSETFROM:-0600
TZOFFSETTO:-0500
TZNAME:CDT
DTSTART:20270314T080000
END:DAYLIGHT
BEGIN:STANDARD
TZOFFSETFROM:-0500
TZOFFSETTO:-0600
TZNAME:CST
DTSTART:20271107T070000
END:STANDARD
END:VTIMEZONE
BEGIN:VEVENT
DTSTART;VALUE=DATE:20260221
DTEND;VALUE=DATE:20260223
DTSTAMP:20260421T154542
CREATED:20260112T023726Z
LAST-MODIFIED:20260112T023726Z
UID:10011796-1771632000-1771804799@essft.com
SUMMARY:Savannah River Upland Poodle Club Spaniel Hunt Test
DESCRIPTION:Entries Close: Tuesday\, February 3\, 2026 11:59:59 PM Eastern Time(ET) on Hunt Secretary.
URL:https://essft.com/event/savannah-river-upland-poodle-club-spaniel-hunt-test-4/
LOCATION:Louter Creek Farm\, 270 Oscar Walton Road Tignall\, GA\, Louter Creek Farm\, 270 Oscar Walton Road Tignall\, GA
CATEGORIES:Hunt Tests
ORGANIZER;CN="Roger Ivester":MAILTO:savannahriverupc@gmail.com
END:VEVENT
BEGIN:VEVENT
DTSTART;VALUE=DATE:20260227
DTEND;VALUE=DATE:20260228
DTSTAMP:20260421T154542
CREATED:20251121T232736Z
LAST-MODIFIED:20260112T024324Z
UID:10011737-1772150400-1772236799@essft.com
SUMMARY:Tamarin Spaniel Field Trail Club COCKER FT
DESCRIPTION:Entries Close: Monday\, February 16\, 2026 11:59:59 PM Eastern Time(ET) on Hunt Secretary.
URL:https://essft.com/event/tamarin-spaniel-field-trail-club/
LOCATION:Gray Lodge Wildlife Refuge Gridley\, CA\, Gray Lodge Wildlife Refuge Gridley\, CA
CATEGORIES:Cocker Trial,Field Trials - West
ORGANIZER;CN="Cheri Wiley":MAILTO:wileycoyote@sunset.net
END:VEVENT
BEGIN:VEVENT
DTSTART;VALUE=DATE:20260228
DTEND;VALUE=DATE:20260301
DTSTAMP:20260421T154542
CREATED:20251115T041951Z
LAST-MODIFIED:20260228T024451Z
UID:10011730-1772236800-1772323199@essft.com
SUMMARY:Valley Forge Field Trial Association Cocker Field Trial
DESCRIPTION:More information TBA
URL:https://essft.com/event/valley-forge-field-trial-association-cocker-field-trial-2/
LOCATION:Califon\, NJ\, Califon\, NJ
CATEGORIES:Cocker Trial
END:VEVENT
BEGIN:VEVENT
DTSTART;VALUE=DATE:20260228
DTEND;VALUE=DATE:20260302
DTSTAMP:20260421T154542
CREATED:20251216T161330Z
LAST-MODIFIED:20260210T011813Z
UID:10011758-1772236800-1772409599@essft.com
SUMMARY:Rocky Mountain Springer Spaniel Club SPRINGER Field Trial
DESCRIPTION:Entries Close: Tuesday\, February 17\, 2026 11:59:59 PM Eastern Time(ET) on Hunt Secretary.
URL:https://essft.com/event/rocky-mountain-springer-spaniel-club-5/
LOCATION:Heritage Sporting Club Lasalle\, CO\, Heritage Sporting Club Lasalle\, CO
CATEGORIES:Field Trials - Rocky Mountain
ORGANIZER;CN="Mhari Peschel":MAILTO:mharipeschel@yahoo.com
END:VEVENT
BEGIN:VEVENT
DTSTART;VALUE=DATE:20260228
DTEND;VALUE=DATE:20260302
DTSTAMP:20260421T154542
CREATED:20251216T172709Z
LAST-MODIFIED:20260206T041738Z
UID:10011767-1772236800-1772409599@essft.com
SUMMARY:Cincinnati English Springer Spaniel Field Trial Club
DESCRIPTION:Entries Close: Tuesday\, February 17\, 2026 11:59:59 PM Eastern Time(ET) on Hunt Secretary.
URL:https://essft.com/event/cincinnati-2/
LOCATION:Joe N. Dresbach Farm Chillicothe\, OH\, Joe N. Dresbach Farm Chillicothe\, OH
CATEGORIES:Field Trials - Mid East
ORGANIZER;CN="Amy Haering":MAILTO:cessftc@yahoo.com
END:VEVENT
BEGIN:VEVENT
DTSTART;VALUE=DATE:20260228
DTEND;VALUE=DATE:20260302
DTSTAMP:20260421T154542
CREATED:20260112T024634Z
LAST-MODIFIED:20260129T024050Z
UID:10011797-1772236800-1772409599@essft.com
SUMMARY:North Texas Sporting Spaniel Hunt Test
DESCRIPTION:**Cancelled due to grounds** \n  \nEntries Close: Tuesday\, February 17\, 2026 11:59:59 PM Eastern Time(ET) on Hunt Secretary.
URL:https://essft.com/event/north-tx-sporting-spaniel-hunt-test/
LOCATION:Bad Habit Gun Dogs Ranch St Jo\, TX\, United States
CATEGORIES:Hunt Tests
ORGANIZER;CN="Jennifer Sherman":MAILTO:jensherman@sbcglobal.net
END:VEVENT
BEGIN:VEVENT
DTSTART;VALUE=DATE:20260228
DTEND;VALUE=DATE:20260302
DTSTAMP:20260421T154542
CREATED:20260112T025034Z
LAST-MODIFIED:20260112T025034Z
UID:10011798-1772236800-1772409599@essft.com
SUMMARY:Tamarin Spaniel Field Trial Club
DESCRIPTION:Entries Close: Monday\, February 16\, 2026 11:59:59 PM Eastern Time(ET) on Hunt Secretary.
URL:https://essft.com/event/tamarin-spaniel-field-trial-club-6-4/
LOCATION:Gray Lodge Wildlife Refuge Gridley\, CA\, Gray Lodge Wildlife Refuge Gridley\, CA
CATEGORIES:Field Trials - West
ORGANIZER;CN="Cheri Wiley":MAILTO:wileycoyote@sunset.net
END:VEVENT
BEGIN:VEVENT
DTSTART;VALUE=DATE:20260302
DTEND;VALUE=DATE:20260303
DTSTAMP:20260421T154542
CREATED:20260129T025643Z
LAST-MODIFIED:20260210T012147Z
UID:10011809-1772409600-1772495999@essft.com
SUMMARY:Rocky Mountain Springer Spaniel Association COCKER Field Trial
DESCRIPTION:Entries Close: Tuesday\, February 17\, 2026 11:59:59 PM Eastern Time(ET) on Hunt Secretary \n\n		\n			\n			\n		\n\n		\n  \n  \n 
URL:https://essft.com/event/rocky-mountain-springer-spaniel-association-spring-field-trial-march-2026-cocker/
LOCATION:Heritage Sporting Club Lasalle\, CO\, Heritage Sporting Club Lasalle\, CO
CATEGORIES:Cocker Trial
ORGANIZER;CN="Mhari Peschel":MAILTO:mharipeschel@yahoo.com
END:VEVENT
BEGIN:VEVENT
DTSTART;VALUE=DATE:20260305
DTEND;VALUE=DATE:20260307
DTSTAMP:20260421T154542
CREATED:20260130T185052Z
LAST-MODIFIED:20260130T185052Z
UID:10011812-1772668800-1772841599@essft.com
SUMMARY:Northern Colorado SS Club COCKER Field Trial
DESCRIPTION:Entries Close: Monday\, February 23\, 2026 11:59:59 PM Eastern Time(ET) on Hunt Secretary.
URL:https://essft.com/event/northern-colorado-ss-club-cocker-field-trial/
LOCATION:DiPaolo Farm Fort Lupton\, CO\, DiPaolo Farm Fort Lupton\, CO
CATEGORIES:Cocker Trial
ORGANIZER;CN="Mhari Peschel":MAILTO:mharipeschel@yahoo.com
END:VEVENT
BEGIN:VEVENT
DTSTART;VALUE=DATE:20260307
DTEND;VALUE=DATE:20260309
DTSTAMP:20260421T154542
CREATED:20251121T232854Z
LAST-MODIFIED:20260130T025144Z
UID:10011738-1772841600-1773014399@essft.com
SUMMARY:Inland Empire ESS Club
DESCRIPTION:Entries Close: Tuesday\, February 24\, 2026 11:59:59 PM Eastern Time(ET) on Hunt Secretary \n\n		\n			\n			\n		\n\n		\n  \n 
URL:https://essft.com/event/inland-empire-ess-club-11/
LOCATION:Sheffels Farm\, 8505 Douglas Road East Wilbur\, WA\, Sheffels Farm\, 8505 Douglas Road East Wilbur\, WA
CATEGORIES:Field Trials - West
ORGANIZER;CN="Kathy Stermolle":MAILTO:stermolle@yahoo.com
END:VEVENT
BEGIN:VEVENT
DTSTART;VALUE=DATE:20260307
DTEND;VALUE=DATE:20260309
DTSTAMP:20260421T154542
CREATED:20251216T161702Z
LAST-MODIFIED:20260206T035218Z
UID:10011759-1772841600-1773014399@essft.com
SUMMARY:Northern Colorado SS Club Spring Field Trial March 2026- SPRINGER
DESCRIPTION:Entries Close: Monday\, February 23\, 2026 11:59:59 PM Eastern Time(ET) on Hunt Secretary
URL:https://essft.com/event/northern-colorado/
LOCATION:DiPaolo Farm Fort Lupton\, CO\, DiPaolo Farm Fort Lupton\, CO
CATEGORIES:Field Trials - Rocky Mountain
ORGANIZER;CN="Mhari Peschel":MAILTO:mharipeschel@yahoo.com
END:VEVENT
BEGIN:VEVENT
DTSTART;VALUE=DATE:20260307
DTEND;VALUE=DATE:20260309
DTSTAMP:20260421T154542
CREATED:20251216T172851Z
LAST-MODIFIED:20251216T172851Z
UID:10011768-1772841600-1773014399@essft.com
SUMMARY:Mid-Penn
DESCRIPTION:
URL:https://essft.com/event/mid-penn-4/
CATEGORIES:Field Trials - Mid East
END:VEVENT
BEGIN:VEVENT
DTSTART;VALUE=DATE:20260307
DTEND;VALUE=DATE:20260309
DTSTAMP:20260421T154542
CREATED:20260112T025420Z
LAST-MODIFIED:20260210T011217Z
UID:10011799-1772841600-1773014399@essft.com
SUMMARY:Wateree Spaniel Club Hunt Test
DESCRIPTION:Entries Close: Tuesday\, February 24\, 2026 11:59:59 PM Eastern Time(ET) on Hunt Secretary.
URL:https://essft.com/event/wateree-spaniel-club-hunt-test-6/
LOCATION:Atkinson Farm Kingstree\, SC\, Atkinson Farm Kingstree\, SC
CATEGORIES:Hunt Tests
ORGANIZER;CN="Angie Tschantz":MAILTO:maat4z@hotmail.com
END:VEVENT
BEGIN:VEVENT
DTSTART;VALUE=DATE:20260308
DTEND;VALUE=DATE:20260309
DTSTAMP:20260421T154542
CREATED:20250614T194449Z
LAST-MODIFIED:20251216T155910Z
UID:10011573-1772928000-1773014399@essft.com
SUMMARY:Daylight Saving Time Starts
DESCRIPTION:
URL:https://essft.com/event/daylight-saving-time-starts-2/
CATEGORIES:Holidays
END:VEVENT
BEGIN:VEVENT
DTSTART;VALUE=DATE:20260312
DTEND;VALUE=DATE:20260316
DTSTAMP:20260421T154542
CREATED:20251216T170643Z
LAST-MODIFIED:20260120T031011Z
UID:10011760-1773273600-1773619199@essft.com
SUMMARY:Springer Spaniel Club of Central Kansas
DESCRIPTION:Entries Close: Monday\, March 2\, 2026 11:59:59 PM Eastern Time(ET) on Hunt Secretary.
URL:https://essft.com/event/sscck-kansas/
LOCATION:Bramwell Residence Zenda\, KS\, Bramwell Residence Zenda\, KS
CATEGORIES:Field Trials - Rocky Mountain
ORGANIZER;CN="Jill Hankins":MAILTO:692hankins@gmail.com
END:VEVENT
BEGIN:VEVENT
DTSTART;VALUE=DATE:20260313
DTEND;VALUE=DATE:20260315
DTSTAMP:20260421T154542
CREATED:20251121T233421Z
LAST-MODIFIED:20260130T191912Z
UID:10011740-1773360000-1773532799@essft.com
SUMMARY:Stockton ESSTC COCKER Spaniel Field Trial
DESCRIPTION:Entries Close: Monday\, March 2\, 2026 11:59:59 PM Eastern Time(ET) on Hunt Secretary. \n 
URL:https://essft.com/event/stockton-ess-training-club-8/
LOCATION:Black Butte Lake\, CA Orland\, CA\, Black Butte Lake\, CA Orland\, CA
CATEGORIES:Cocker Trial
ORGANIZER;CN="Page Sorensen":MAILTO:pagesorensen@gmail.com
END:VEVENT
BEGIN:VEVENT
DTSTART;VALUE=DATE:20260313
DTEND;VALUE=DATE:20260315
DTSTAMP:20260421T154542
CREATED:20251216T174001Z
LAST-MODIFIED:20260130T190806Z
UID:10011771-1773360000-1773532799@essft.com
SUMMARY:English Springer Spaniel Field Trial Club of Illinois
DESCRIPTION:Entries Close: Monday\, March 2\, 2026 11:59:59 PM Eastern Time(ET) on Hunt Secretary. \n  \n\n		\n			\n			\n		\n\n		\n  \n 
URL:https://essft.com/event/english-springer-spaniel-field-trial-club-of-illinois-9/
LOCATION:Des Plaines State Fish & Wildlife Area Wilmington\, IL\, Des Plaines State Fish & Wildlife Area Wilmington\, IL
CATEGORIES:Field Trials - Mid West
ORGANIZER;CN="Steve Tozier":MAILTO:sjtozier@comcast.net
END:VEVENT
BEGIN:VEVENT
DTSTART;VALUE=DATE:20260313
DTEND;VALUE=DATE:20260316
DTSTAMP:20260421T154542
CREATED:20251121T233047Z
LAST-MODIFIED:20260130T191255Z
UID:10011739-1773360000-1773619199@essft.com
SUMMARY:Green Valley Spaniel Club SPRINGER Spaniel Trials
DESCRIPTION:Entries Close: Monday\, March 2\, 2026 11:59:59 PM Eastern Time(ET) on Hunt Secretary.
URL:https://essft.com/event/green-valley-spaniel-club-8-3/
LOCATION:Black Butte Lake\, CA Orland\, CA\, Black Butte Lake\, CA Orland\, CA
CATEGORIES:Field Trials - West
ORGANIZER;CN="Page Sorensen":MAILTO:pagesorensen@gmail.com
END:VEVENT
BEGIN:VEVENT
DTSTART;VALUE=DATE:20260314
DTEND;VALUE=DATE:20260316
DTSTAMP:20260421T154542
CREATED:20251216T172505Z
LAST-MODIFIED:20260216T035105Z
UID:10011766-1773446400-1773619199@essft.com
SUMMARY:Stillwater Valley ESSC Springer Field Trial
DESCRIPTION:Entries Close: Tuesday\, March 3\, 2026 11:59:59 PM Eastern Time(ET) on Hunt Secretary.
URL:https://essft.com/event/stillwater/
LOCATION:Beelman Farm\, 2192 CR 21\, DeGraff\, OH.\, Beelman Farm\, 2192 CR 21\, DeGraff\, OH.
CATEGORIES:Field Trials - Mid East
ORGANIZER;CN="Brian Young":MAILTO:bjyoung@watchtv.net
END:VEVENT
BEGIN:VEVENT
DTSTART;VALUE=DATE:20260314
DTEND;VALUE=DATE:20260316
DTSTAMP:20260421T154542
CREATED:20260210T012746Z
LAST-MODIFIED:20260216T034728Z
UID:10011826-1773446400-1773619199@essft.com
SUMMARY:Stillwater Valley ESSC COCKER Field Trial
DESCRIPTION:Entries Close: Tuesday\, March 3\, 2026 11:59:59 PM Eastern Time(ET) on Hunt Secretary.
URL:https://essft.com/event/stillwater-valley-essc-7/
LOCATION:Beelman Farm\, 2192 CR 21\, DeGraff\, OH.\, Beelman Farm\, 2192 CR 21\, DeGraff\, OH.
CATEGORIES:Cocker Trial
ORGANIZER;CN="Brian Young":MAILTO:springair.jlb@gmail.com
END:VEVENT
BEGIN:VEVENT
DTSTART;VALUE=DATE:20260315
DTEND;VALUE=DATE:20260316
DTSTAMP:20260421T154542
CREATED:20260112T030229Z
LAST-MODIFIED:20260130T024048Z
UID:10011800-1773532800-1773619199@essft.com
SUMMARY:English Springer Spaniel Field Trial Club of Illinois - COCKER SPANIEL
DESCRIPTION:Entries Close: Monday\, March 2\, 2026 11:59:59 PM Eastern Time(ET) on Hunt Secretary.
URL:https://essft.com/event/english-springer-spaniel-field-trial-club-of-illinois-cocker-spaniel/
LOCATION:Des Plaines State Fish & Wildlife Area Wilmington\, IL\, Des Plaines State Fish & Wildlife Area Wilmington\, IL
CATEGORIES:Cocker Trial
ORGANIZER;CN="Steve Tozier":MAILTO:sjtozier@comcast.net
END:VEVENT
BEGIN:VEVENT
DTSTART;VALUE=DATE:20260317
DTEND;VALUE=DATE:20260318
DTSTAMP:20260421T154542
CREATED:20250614T194449Z
LAST-MODIFIED:20251216T160227Z
UID:10011574-1773705600-1773791999@essft.com
SUMMARY:Saint Patrick's Day
DESCRIPTION:
URL:https://essft.com/event/saint-patricks-day-2/
CATEGORIES:Holidays
END:VEVENT
BEGIN:VEVENT
DTSTART;VALUE=DATE:20260320
DTEND;VALUE=DATE:20260322
DTSTAMP:20260421T154542
CREATED:20251121T233715Z
LAST-MODIFIED:20260323T024446Z
UID:10011741-1773964800-1774137599@essft.com
SUMMARY:Utah Springer Spaniel Club Field Trial
DESCRIPTION:Entries Close: Monday\, March 9\, 2026 11:59:59 PM Eastern Time(ET) on Hunt Secretary.
URL:https://essft.com/event/utah-springer-spaniel-club-29/
LOCATION:Clarkston Field Trial Grounds Clarkston\, UT\, Clarkston Field Trial Grounds Clarkston\, UT
CATEGORIES:Field Trials - West
ORGANIZER;CN="Alan Baugh":MAILTO:acbaughdmd@yahoo.com
END:VEVENT
BEGIN:VEVENT
DTSTART;VALUE=DATE:20260321
DTEND;VALUE=DATE:20260322
DTSTAMP:20260421T154542
CREATED:20251216T171114Z
LAST-MODIFIED:20260130T223230Z
UID:10011761-1774051200-1774137599@essft.com
SUMMARY:ESSC of East Nebraska Field Trial
DESCRIPTION:Entries Close: Tuesday\, March 10\, 2026 11:59:59 PM Eastern Time(ET) on Hunt Secretary. \n\n		\n			\n			\n		\n\n		\n 
URL:https://essft.com/event/esscen-eastern-nebraska/
LOCATION:Kramer Farm 610 Ave and 724 Rd\, Crab Orchard\, NE\, Kramer Farm 610 Ave and 724 Rd\, Crab Orchard\, NE
CATEGORIES:Field Trials - Rocky Mountain
END:VEVENT
BEGIN:VEVENT
DTSTART;VALUE=DATE:20260321
DTEND;VALUE=DATE:20260322
DTSTAMP:20260421T154542
CREATED:20260130T222502Z
LAST-MODIFIED:20260228T024828Z
UID:10011813-1774051200-1774137599@essft.com
SUMMARY:Central New England Sporting Spaniel Club SPRINGER Field Trial
DESCRIPTION:More information TBA.
URL:https://essft.com/event/central-new-england-sporting-spaniel-club-springer-field-trial/
LOCATION:Southwick\, MA\, Southwick\, MA
CATEGORIES:Field Trials - East
END:VEVENT
BEGIN:VEVENT
DTSTART;VALUE=DATE:20260321
DTEND;VALUE=DATE:20260323
DTSTAMP:20260421T154542
CREATED:20251216T173023Z
LAST-MODIFIED:20260301T210018Z
UID:10011769-1774051200-1774223999@essft.com
SUMMARY:Euclid Sporting Spaniel Club COCKER Trial
DESCRIPTION:Entries Close: Tuesday\, March 10\, 2026 11:59:59 PM Eastern Time(ET) on Hunt Secretary.
URL:https://essft.com/event/euclid/
LOCATION:5210 Lansing Ave. Jackson\, MI\, 5210 Lansing Ave. Jackson\, MI
CATEGORIES:Field Trials - Mid East
ORGANIZER;CN="Bethann Wiley":MAILTO:bethannwiley@yahoo.com
END:VEVENT
BEGIN:VEVENT
DTSTART;VALUE=DATE:20260321
DTEND;VALUE=DATE:20260323
DTSTAMP:20260421T154542
CREATED:20251216T174123Z
LAST-MODIFIED:20251216T174123Z
UID:10011772-1774051200-1774223999@essft.com
SUMMARY:Southern Wisconsin Sporting Spaniel Club
DESCRIPTION:
URL:https://essft.com/event/southern-wisconsin-sporting-spaniel-club-13/
CATEGORIES:Field Trials - Mid West
END:VEVENT
BEGIN:VEVENT
DTSTART;VALUE=DATE:20260321
DTEND;VALUE=DATE:20260323
DTSTAMP:20260421T154542
CREATED:20260112T030707Z
LAST-MODIFIED:20260112T030707Z
UID:10011801-1774051200-1774223999@essft.com
SUMMARY:Treasure Coast Gun Dog Club Spaniel Hunt Test
DESCRIPTION:Entries Close: Tuesday\, March 10\, 2026 11:59:59 PM Eastern Time(ET) on Hunt Secretary.
URL:https://essft.com/event/treasure-coast-gun-dog-club-spaniel-hunt-test/
LOCATION:QHF Ranch Palm City\, FL\, QHF Ranch Palm City\, FL
CATEGORIES:Hunt Tests
ORGANIZER;CN="Helen Pare":MAILTO:helenlesleyvarble@aol.com
END:VEVENT
BEGIN:VEVENT
DTSTART;VALUE=DATE:20260321
DTEND;VALUE=DATE:20260323
DTSTAMP:20260421T154542
CREATED:20260224T033235Z
LAST-MODIFIED:20260312T040003Z
UID:10011834-1774051200-1774223999@essft.com
SUMMARY:Southern Michigan SSTC English Springer Spaniel Field Trial
DESCRIPTION:Entries Close: Tuesday\, March 10\, 2026 11:59:59 PM Eastern Time(ET) on Hunt Secretary. \nNote:  The club is using chukar. \nThe Springer Series will start after the second series of the Cockers each day.
URL:https://essft.com/event/southern-michigan-sstc-english-springer-spaniel-field-trial-3/
LOCATION:Fourway Properties Jackson\, MI\, Fourway Properties Jackson\, MI
CATEGORIES:Field Trials - Mid West
ORGANIZER;CN="Steve Collins":MAILTO:slcollins73@frontier.com
END:VEVENT
BEGIN:VEVENT
DTSTART;VALUE=DATE:20260328
DTEND;VALUE=DATE:20260330
DTSTAMP:20260421T154542
CREATED:20251216T171311Z
LAST-MODIFIED:20260228T025603Z
UID:10011762-1774656000-1774828799@essft.com
SUMMARY:Loup River Valley Sporting Spaniel Club ESS Trial
DESCRIPTION:Entries Close: Tuesday\, March 17\, 2026 11:59:59 PM Eastern Time(ET) on Hunt Secretary.
URL:https://essft.com/event/lressc-loup-river-nebraska/
LOCATION:The Kingdom Outfitters Fullerton\, NE\, The Kingdom Outfitters Fullerton\, NE
CATEGORIES:Field Trials - Rocky Mountain
ORGANIZER;CN="Wendy Kozal":MAILTO:kozew@netins.net
END:VEVENT
END:VCALENDAR