BEGIN:VCALENDAR
VERSION:2.0
PRODID:-//English Springer Spaniel Field Trials - ECPv6.15.20//NONSGML v1.0//EN
CALSCALE:GREGORIAN
METHOD:PUBLISH
X-WR-CALNAME:English Springer Spaniel Field Trials
X-ORIGINAL-URL:https://essft.com
X-WR-CALDESC:Events for English Springer Spaniel Field Trials
REFRESH-INTERVAL;VALUE=DURATION:PT1H
X-Robots-Tag:noindex
X-PUBLISHED-TTL:PT1H
BEGIN:VTIMEZONE
TZID:America/Chicago
BEGIN:DAYLIGHT
TZOFFSETFROM:-0600
TZOFFSETTO:-0500
TZNAME:CDT
DTSTART:20200308T080000
END:DAYLIGHT
BEGIN:STANDARD
TZOFFSETFROM:-0500
TZOFFSETTO:-0600
TZNAME:CST
DTSTART:20201101T070000
END:STANDARD
BEGIN:DAYLIGHT
TZOFFSETFROM:-0600
TZOFFSETTO:-0500
TZNAME:CDT
DTSTART:20210314T080000
END:DAYLIGHT
BEGIN:STANDARD
TZOFFSETFROM:-0500
TZOFFSETTO:-0600
TZNAME:CST
DTSTART:20211107T070000
END:STANDARD
BEGIN:DAYLIGHT
TZOFFSETFROM:-0600
TZOFFSETTO:-0500
TZNAME:CDT
DTSTART:20220313T080000
END:DAYLIGHT
BEGIN:STANDARD
TZOFFSETFROM:-0500
TZOFFSETTO:-0600
TZNAME:CST
DTSTART:20221106T070000
END:STANDARD
END:VTIMEZONE
BEGIN:VEVENT
DTSTART;TZID=America/Chicago:20210905T000000
DTEND;TZID=America/Chicago:20210905T000000
DTSTAMP:20260423T023932
CREATED:20250613T034318Z
LAST-MODIFIED:20250613T034318Z
UID:10010486-1630800000-1630800000@essft.com
SUMMARY:Clumber Spaniel Club of America Fall Hunt Test
DESCRIPTION:Entries Close: Monday\, August 23\, 2021 11:59:59 PM Eastern Time(ET) on Hunt Secretary
URL:https://essft.com/event/clumber-spaniel-club-of-america-fall-hunt-test-2/
CATEGORIES:Hunt Tests
END:VEVENT
BEGIN:VEVENT
DTSTART;TZID=America/Chicago:20210904T000000
DTEND;TZID=America/Chicago:20210905T000000
DTSTAMP:20260423T023932
CREATED:20250613T034318Z
LAST-MODIFIED:20250613T034318Z
UID:10010485-1630713600-1630800000@essft.com
SUMMARY:Minnesota Hunting Spaniel Association Fall 2021 Hunt Tests
DESCRIPTION:Entries Close: Tuesday\, August 24\, 2021 11:59:59 PM Eastern Time(ET) on Hunt Secretary
URL:https://essft.com/event/minnesota-hunting-spaniel-association-fall-2021-hunt-tests/
CATEGORIES:Hunt Tests
END:VEVENT
BEGIN:VEVENT
DTSTART;TZID=America/Chicago:20210904T000000
DTEND;TZID=America/Chicago:20210905T000000
DTSTAMP:20260423T023932
CREATED:20250613T034303Z
LAST-MODIFIED:20250613T034303Z
UID:10010482-1630713600-1630800000@essft.com
SUMMARY:Wisconsin English Springer Spaniel Assn Hunt Tests
DESCRIPTION:Entries Close: Tuesday\, August 24\, 2021 11:59:59 PM Eastern Time(ET) on Hunt Secretary
URL:https://essft.com/event/wisconsin-english-springer-spaniel-assn-hunt-tests/
LOCATION:Rock River Kennels\, Beaver Dam\, WI 53916\, USA\, Beaver Dam\, Wisconsin\, 53916\, United States
CATEGORIES:Hunt Tests
GEO:43.457769;-88.837329
X-APPLE-STRUCTURED-LOCATION;VALUE=URI;X-ADDRESS=Rock River Kennels Beaver Dam WI 53916 USA Beaver Dam Wisconsin 53916 United States;X-APPLE-RADIUS=500;X-TITLE=Beaver Dam\, WI 53916\, USA:geo:-88.837329,43.457769
END:VEVENT
BEGIN:VEVENT
DTSTART;TZID=America/Chicago:20210904T000000
DTEND;TZID=America/Chicago:20210905T000000
DTSTAMP:20260423T023932
CREATED:20250613T034303Z
LAST-MODIFIED:20250613T034303Z
UID:10010483-1630713600-1630800000@essft.com
SUMMARY:Flushing Dog Seminar with Hall of Fame Trainer Ray Cacchio
DESCRIPTION:Seminar Location: Green Point Wildlife Management Area Dresden\, Maine 04342\nInstructors: Ray and Alex Cacchio \nCost:\nHandler with dog (2 Days) $350.00 – Limited to 10\nAuditor/Spectator (2 Days) $150.00 (1 Day) $85.00 – Limited to 5 each day \nRay and Alex will be working with all age levels of flushing dogs\, from 12 week old pups through adult dogs. They also welcome handlers of all levels of experience and interests. \nCoffee\, pastries\, and lunch are included each day.
URL:https://essft.com/event/flushing-dog-seminar-with-hall-of-fame-trainer-ray-cacchio/
LOCATION:Green Point Wildlife Management Area\, Dresden\, ME 04342\, USA\, Dresden\, Maine\, 4342\, United States
CATEGORIES:Training Seminar
GEO:44.077448;-69.738418
X-APPLE-STRUCTURED-LOCATION;VALUE=URI;X-ADDRESS=Green Point Wildlife Management Area Dresden ME 04342 USA Dresden Maine 4342 United States;X-APPLE-RADIUS=500;X-TITLE=Dresden\, ME 04342\, USA:geo:-69.738418,44.077448
END:VEVENT
BEGIN:VEVENT
DTSTART;TZID=America/Chicago:20210904T000000
DTEND;TZID=America/Chicago:20210904T000000
DTSTAMP:20260423T023932
CREATED:20250613T034303Z
LAST-MODIFIED:20250613T034303Z
UID:10010484-1630713600-1630713600@essft.com
SUMMARY:Western Washington ESS Club Hunt Test
DESCRIPTION:Entries Close: Monday\, August 23\, 2021 11:59:59 PM Eastern Time(ET) on Hunt Secretary
URL:https://essft.com/event/western-washington-ess-club-hunt-test/
CATEGORIES:Hunt Tests
ORGANIZER;CN="Kathy Stermolle":MAILTO:stermolle@yahoo.com
END:VEVENT
BEGIN:VEVENT
DTSTART;TZID=America/Chicago:20210903T000000
DTEND;TZID=America/Chicago:20210903T000000
DTSTAMP:20260423T023932
CREATED:20250613T034303Z
LAST-MODIFIED:20250613T034303Z
UID:10010481-1630627200-1630627200@essft.com
SUMMARY:Mount Rainier Sporting Spaniel Assoc. Spaniel Hunt Test
DESCRIPTION:Entries Close: Monday\, August 23\, 2021 11:59:59 PM Eastern Time(ET) on Hunt Secretary
URL:https://essft.com/event/mount-rainier-sporting-spaniel-assoc-spaniel-hunt-test/
CATEGORIES:Hunt Tests
END:VEVENT
BEGIN:VEVENT
DTSTART;TZID=America/Chicago:20210901T000000
DTEND;TZID=America/Chicago:20210903T000000
DTSTAMP:20260423T023932
CREATED:20250613T034303Z
LAST-MODIFIED:20250613T034303Z
UID:10010480-1630454400-1630627200@essft.com
SUMMARY:Prairie Spaniel Club
DESCRIPTION:
URL:https://essft.com/event/prairie-spaniel-club-4/
CATEGORIES:Canadian FT
END:VEVENT
BEGIN:VEVENT
DTSTART;TZID=America/Chicago:20210828T000000
DTEND;TZID=America/Chicago:20210829T000000
DTSTAMP:20260423T023932
CREATED:20250613T034248Z
LAST-MODIFIED:20250613T034248Z
UID:10010476-1630108800-1630195200@essft.com
SUMMARY:Central Connecticut Spaniel Club
DESCRIPTION:Entries Close: Tuesday\, August 17\, 2021 11:59:59 PM Eastern Time(ET) on Hunt Secretary \nJudges: Gary Soper and Michael Pollack
URL:https://essft.com/event/central-connecticut-spaniel-club-8/
CATEGORIES:Field Trials - East
END:VEVENT
BEGIN:VEVENT
DTSTART;TZID=America/Chicago:20210828T000000
DTEND;TZID=America/Chicago:20210829T000000
DTSTAMP:20260423T023932
CREATED:20250613T034248Z
LAST-MODIFIED:20250613T034248Z
UID:10010477-1630108800-1630195200@essft.com
SUMMARY:Ohio Valley Hunt Test
DESCRIPTION:Entries Close: Tuesday\, August 17\, 2021 11:59:59 PM Eastern Time(ET) on Hunt Secretary \n\n		\n			\n			\n		\n\n		\n 
URL:https://essft.com/event/ohio-valley-hunt-test/
LOCATION:Elk Ridge Game Farm\, 5146 OH-96\, Bucyrus\, OH 44820\, USA\, Bucyrus\, Ohio\, 44820\, United States
CATEGORIES:Hunt Tests
END:VEVENT
BEGIN:VEVENT
DTSTART;TZID=America/Chicago:20210828T000000
DTEND;TZID=America/Chicago:20210829T000000
DTSTAMP:20260423T023932
CREATED:20250613T034248Z
LAST-MODIFIED:20250613T034248Z
UID:10010479-1630108800-1630195200@essft.com
SUMMARY:ABDA Flushing Dog Hunt Test
DESCRIPTION:Entries Close: Tuesday\, August 17\, 2021 11:59:59 PM Eastern Time(ET) on Hunt Secretary
URL:https://essft.com/event/abda-flushing-dog-hunt-test/
CATEGORIES:Hunt Tests
END:VEVENT
BEGIN:VEVENT
DTSTART;TZID=America/Chicago:20210828T000000
DTEND;TZID=America/Chicago:20210828T000000
DTSTAMP:20260423T023932
CREATED:20250613T034248Z
LAST-MODIFIED:20250613T034248Z
UID:10010478-1630108800-1630108800@essft.com
SUMMARY:Inland Empire ESS Club Training Seminar with Rob Barlow
DESCRIPTION:8/25: This event has been cancelled.
URL:https://essft.com/event/inland-empire-ess-club-training-seminar-with-rob-barlow/
CATEGORIES:Training Seminar
ORGANIZER;CN="Darlene Cherry":MAILTO:inlandempireessc@gmail.com
END:VEVENT
BEGIN:VEVENT
DTSTART;TZID=America/Chicago:20210821T000000
DTEND;TZID=America/Chicago:20210822T000000
DTSTAMP:20260423T023932
CREATED:20250613T034248Z
LAST-MODIFIED:20250613T034248Z
UID:10010475-1629504000-1629590400@essft.com
SUMMARY:NORTHWEST ENGLISH SPRINGER SPANIEL CLUB
DESCRIPTION:Entries will close with the Hunt Test Secretary Monday\, August 16\, 2021 at 6:00pm PST. \nThe drawing will take place at 7225 Ridgeway Rd\, Sheridan\, OR 97378 on Monday\, August 16\, 2021 at 6:30pm PST. \nNo phone entries will be accepted. Email entries may be sent to jjohn@onlinenw.com and must be received by 6:00 PST on Saturday\, August 11\, 2019. \nFees for emailed entries must be received by the hunt test secretary no later than 8:00am PST on the day of the test. Prior payment is greatly appreciated. \n2021 Northwest Hunt Test \n 
URL:https://essft.com/event/northwest-english-springer-spaniel-club-6/
LOCATION:Luckiamute Valley Pheasants\, Monmouth\, OR\, USA\, Monmouth\, Oregon\, United States
CATEGORIES:Hunt Tests
GEO:44.848452;-123.233989
X-APPLE-STRUCTURED-LOCATION;VALUE=URI;X-ADDRESS=Luckiamute Valley Pheasants Monmouth OR USA Monmouth Oregon United States;X-APPLE-RADIUS=500;X-TITLE=Monmouth\, OR\, USA:geo:-123.233989,44.848452
END:VEVENT
BEGIN:VEVENT
DTSTART;TZID=America/Chicago:20210814T000000
DTEND;TZID=America/Chicago:20210815T000000
DTSTAMP:20260423T023932
CREATED:20250613T034233Z
LAST-MODIFIED:20250613T034233Z
UID:10010474-1628899200-1628985600@essft.com
SUMMARY:Central Maine Spaniel Club Hunt Test August 2021
DESCRIPTION:Entries Close: Tuesday\, August 3\, 2021 11:59:59 PM Eastern Time(ET) on Hunt Secretary
URL:https://essft.com/event/central-maine-spaniel-club-hunt-test-august-2021/
LOCATION:Wildwind Kennels\, 1368 Webb Rd\, Thorndike\, ME\, United States
CATEGORIES:Hunt Tests
GEO:44.530132;-69.209867
X-APPLE-STRUCTURED-LOCATION;VALUE=URI;X-ADDRESS=Wildwind Kennels 1368 Webb Rd Thorndike ME United States;X-APPLE-RADIUS=500;X-TITLE=1368 Webb Rd:geo:-69.209867,44.530132
END:VEVENT
BEGIN:VEVENT
DTSTART;TZID=America/Chicago:20210814T000000
DTEND;TZID=America/Chicago:20210814T000000
DTSTAMP:20260423T023932
CREATED:20250613T034233Z
LAST-MODIFIED:20250613T034233Z
UID:10010473-1628899200-1628899200@essft.com
SUMMARY:MN AKC Spaniel Field Trial Judging Seminar for English Springer Spaniels and Cocker Spaniel Field Trials
DESCRIPTION:Start Time:  8:26 am\nModerator: Mark Haglin – Morgan Haglin \nJudges Panel:  John Hall\, Paul McGagh\, Tom Meyer \nThis panel is subject to change based on travel and unknown emergency commitments. \nCost:  $75    Checks to NMESSC includes lunch\, snacks\, beverages \nThe schedule will include classroom discussion on judging scenarios and time observing dogs in actual field judging situations. \nAlthough current spaniel judges are not required to attend seminars\, I am asking current judges to attend this seminar.  Current judges can provide discussion on judging situations that they have encountered while judging and learn about judging scenarios that experienced judges have encountered.  I believe we all can learn how others have handled judging situations and why the decisions were made in certain situations. \nAttending this seminar is one of the Parent Club qualifications required to judge springer and cocker field trials. \nTo Register:\nSend name\, address and contact information to Mark Haglin via email or phone message. \nContact:  Mark Haglin 218.821.1295  or mark@pineshadows.com
URL:https://essft.com/event/mn-akc-spaniel-field-trial-judging-seminar-for-english-springer-spaniels-and-cocker-spaniel-field-trials/
CATEGORIES:Judging Seminar
END:VEVENT
BEGIN:VEVENT
DTSTART;TZID=America/Chicago:20210813T000000
DTEND;TZID=America/Chicago:20210814T000000
DTSTAMP:20260423T023932
CREATED:20250613T034233Z
LAST-MODIFIED:20250613T034233Z
UID:10010471-1628812800-1628899200@essft.com
SUMMARY:Utah  AKC Spaniel Field Trial Judging Seminar
DESCRIPTION:Utah/Timpanogos Clubs Hosting the Event\nWhere: 1200 N 400 W Trenton\, Utah 84338 (TRENTON\, not Tremonton)\n\nCost-$75 Judging Seminar for AKC licensed Field Trials for English Springer & Cocker Spaniels\nWater Test- $40 Saturday upon completion of the Field Work of the Judging Seminar\nDate-Friday and Saturday August 13 & 14th\nJudging Panel-Bob Child\, Gary Riddle\, Gary Fluckiger\nAgenda–\nStart Time-1 PM Friday with the classroom portion of the Judging Seminar we will have a lunch provided prior to the start of the seminar starting at Noon.\nSaturday-Field Work of the Judging Seminar starting at 8 AM. Pheasants will be available for the field session.\nUpon Completion of the Field work of the Seminar we will then set up for a Water Test. Lunch will be provided at the water test. This will be around 12 or 1 PM.\n\nRegistration:\n\nPlease contact Josh Riddle if you would like to attend.\n8016167615 or jimmyriddle2@gmail.com\n\nPayment will be accepted at the beginning and sign in of the seminar and the Water Test.
URL:https://essft.com/event/utah-akc-spaniel-field-trial-judging-seminar/
CATEGORIES:Judging Seminar
END:VEVENT
BEGIN:VEVENT
DTSTART;TZID=America/Chicago:20210813T000000
DTEND;TZID=America/Chicago:20210814T000000
DTSTAMP:20260423T023932
CREATED:20250613T034233Z
LAST-MODIFIED:20250613T034233Z
UID:10010472-1628812800-1628899200@essft.com
SUMMARY:Utah Water Test
DESCRIPTION:Utah/Timpanogos Clubs Hosting the Event\nWhere: 1200 N 400 W Trenton\, Utah 84338 (TRENTON\, not Tremonton)\n\nCost-$75 Judging Seminar for AKC licensed Field Trials for English Springer & Cocker Spaniels\nWater Test- $40 Saturday upon completion of the Field Work of the Judging Seminar\nDate-Friday and Saturday August 13 & 14th\nJudging Panel-Bob Child\, Gary Riddle\, Gary Fluckiger\nAgenda–\nStart Time-1 PM Friday with the classroom portion of the Judging Seminar we will have a lunch provided prior to the start of the seminar starting at Noon.\nSaturday-Field Work of the Judging Seminar starting at 8 AM. Pheasants will be available for the field session.\nUpon Completion of the Field work of the Seminar we will then set up for a Water Test. Lunch will be provided at the water test. This will be around 12 or 1 PM.\n\nRegistration:\n\nPlease contact Josh Riddle if you would like to attend.\n8016167615 or jimmyriddle2@gmail.com\n\nPayment will be accepted at the beginning and sign in of the seminar and the Water Test.
URL:https://essft.com/event/utah-water-test/
CATEGORIES:Water Test
END:VEVENT
BEGIN:VEVENT
DTSTART;TZID=America/Chicago:20210731T000000
DTEND;TZID=America/Chicago:20210801T000000
DTSTAMP:20260423T023932
CREATED:20250613T034233Z
LAST-MODIFIED:20250613T034233Z
UID:10010470-1627689600-1627776000@essft.com
SUMMARY:Arctic Bird Dog Association Flushing Breed Hunt Test
DESCRIPTION:Entries Close: Tuesday\, July 20\, 2021 11:59:59 PM Eastern Time(ET) on Hunt Secretary. \n 
URL:https://essft.com/event/arctic-bird-dog-association-flushing-breed-hunt-test-2/
CATEGORIES:Hunt Tests
END:VEVENT
BEGIN:VEVENT
DTSTART;TZID=America/Chicago:20210731T000000
DTEND;TZID=America/Chicago:20210731T000000
DTSTAMP:20260423T023932
CREATED:20250613T034218Z
LAST-MODIFIED:20250613T034218Z
UID:10010469-1627689600-1627689600@essft.com
SUMMARY:Gunning Seminar for Springers and Cockers Sponsored by Northern MN ESS Club
DESCRIPTION:Seminar is July 31\, 2021 start time 8:30 am. \nCost:  $75  Mail check made out to NMESSC or bring with on day of registration.  Includes seminar and lunch \nChecks can be mailed to: Pine Shadows\, 14752 Three Mile Road Brainerd\, MN 56401 Or bring check or cash on the day of the seminar. \nPlease contact Mark with any questions or reserve your spot. You can email him at mark@pineshadows.com \n 
URL:https://essft.com/event/gunning-seminar-for-springers-and-cockers-sponsored-by-northern-mn-ess-club-2/
CATEGORIES:Gunning Seminars
END:VEVENT
BEGIN:VEVENT
DTSTART;TZID=America/Chicago:20210724T000000
DTEND;TZID=America/Chicago:20210725T000000
DTSTAMP:20260423T023932
CREATED:20250613T034218Z
LAST-MODIFIED:20250613T034218Z
UID:10010468-1627084800-1627171200@essft.com
SUMMARY:NTSSC Gunning Seminar
DESCRIPTION:
URL:https://essft.com/event/ntssc-gunning-seminar/
CATEGORIES:Gunning Seminars
END:VEVENT
BEGIN:VEVENT
DTSTART;TZID=America/Chicago:20210704T000000
DTEND;TZID=America/Chicago:20210704T000000
DTSTAMP:20260423T023932
CREATED:20250613T034218Z
LAST-MODIFIED:20250613T034218Z
UID:10010467-1625356800-1625356800@essft.com
SUMMARY:Independence Day
DESCRIPTION:
URL:https://essft.com/event/independence-day-3/
CATEGORIES:Holidays
END:VEVENT
BEGIN:VEVENT
DTSTART;TZID=America/Chicago:20210626T000000
DTEND;TZID=America/Chicago:20210627T000000
DTSTAMP:20260423T023932
CREATED:20250613T034218Z
LAST-MODIFIED:20250613T034218Z
UID:10010465-1624665600-1624752000@essft.com
SUMMARY:Central Virginia ESS Field Trial Club
DESCRIPTION:4/12/2021:  This event is cancelled.
URL:https://essft.com/event/central-virginia-ess-field-trial-club-4/
CATEGORIES:Field Trials - East
END:VEVENT
BEGIN:VEVENT
DTSTART;TZID=America/Chicago:20210626T000000
DTEND;TZID=America/Chicago:20210627T000000
DTSTAMP:20260423T023932
CREATED:20250613T034218Z
LAST-MODIFIED:20250613T034218Z
UID:10010466-1624665600-1624752000@essft.com
SUMMARY:Eastern Slopes Spaniel Association
DESCRIPTION:
URL:https://essft.com/event/eastern-slopes-spaniel-association-9/
CATEGORIES:Canadian FT
END:VEVENT
BEGIN:VEVENT
DTSTART;TZID=America/Chicago:20210620T000000
DTEND;TZID=America/Chicago:20210620T000000
DTSTAMP:20260423T023932
CREATED:20250613T034204Z
LAST-MODIFIED:20250613T034204Z
UID:10010464-1624147200-1624147200@essft.com
SUMMARY:Father's Day
DESCRIPTION:
URL:https://essft.com/event/fathers-day-3/
CATEGORIES:Holidays
END:VEVENT
BEGIN:VEVENT
DTSTART;TZID=America/Chicago:20210619T000000
DTEND;TZID=America/Chicago:20210620T000000
DTSTAMP:20260423T023932
CREATED:20250613T034203Z
LAST-MODIFIED:20250613T034203Z
UID:10010460-1624060800-1624147200@essft.com
SUMMARY:Missouri Headwaters Gun Dog Club (MT)
DESCRIPTION:Hunt Test \nClass Judge Entry Fee\nJunior Hunter: Greg Johnson Kerri Payne\n$50.00 \nSenior Hunter: Greg Johnson Kerri Payne\n$70.00 \nMaster Hunter: Greg Johnson Kerri Payne\n$80.00 \n 
URL:https://essft.com/event/missouri-headwaters-gun-dog-club-mt/
CATEGORIES:Hunt Tests
END:VEVENT
BEGIN:VEVENT
DTSTART;TZID=America/Chicago:20210619T000000
DTEND;TZID=America/Chicago:20210620T000000
DTSTAMP:20260423T023932
CREATED:20250613T034203Z
LAST-MODIFIED:20250613T034203Z
UID:10010461-1624060800-1624147200@essft.com
SUMMARY:North Dakota Springer Spaniel Club
DESCRIPTION:Entries Close: Tuesday\, June 8\, 2021 11:59:59 PM Eastern Time(ET) on Hunt Secretary \nJudges: Will Pick and Bob Merrill\n\n		\n			\n			\n		\n\n		\n 
URL:https://essft.com/event/north-dakota-springer-spaniel-club/
CATEGORIES:Field Trials - Rocky Mountain
END:VEVENT
BEGIN:VEVENT
DTSTART;TZID=America/Chicago:20210619T000000
DTEND;TZID=America/Chicago:20210620T000000
DTSTAMP:20260423T023932
CREATED:20250613T034203Z
LAST-MODIFIED:20250613T034203Z
UID:10010462-1624060800-1624147200@essft.com
SUMMARY:Tilden Valley English Springer Spaniel Club Hunt Test
DESCRIPTION:Entries Close: Tuesday\, June 8\, 2021 11:59:59 PM Eastern Time(ET) on Hunt Secretary \n\n		\n			\n			\n		\n\n		\n 
URL:https://essft.com/event/tilden-valley-english-springer-spaniel-club-hunt-test-2/
CATEGORIES:Hunt Tests
END:VEVENT
BEGIN:VEVENT
DTSTART;TZID=America/Chicago:20210619T000000
DTEND;TZID=America/Chicago:20210620T000000
DTSTAMP:20260423T023932
CREATED:20250613T034203Z
LAST-MODIFIED:20250613T034203Z
UID:10010463-1624060800-1624147200@essft.com
SUMMARY:Tilden Valley English Springer Spaniel Club Water Test for English Springer Spaniels
DESCRIPTION:Entries Close: Tuesday\, June 8\, 2021 11:59:59 PM Eastern Time(ET) on Hunt Secretary
URL:https://essft.com/event/tilden-valley-english-springer-spaniel-club-water-test-for-english-springer-spaniels/
CATEGORIES:Water Test
END:VEVENT
BEGIN:VEVENT
DTSTART;TZID=America/Chicago:20210619T000000
DTEND;TZID=America/Chicago:20210620T000000
DTSTAMP:20260423T023932
CREATED:20250613T034148Z
LAST-MODIFIED:20250613T034148Z
UID:10010459-1624060800-1624147200@essft.com
SUMMARY:Maine Spaniel Field Trial Club  Hunt Tests
DESCRIPTION:Entries Close: Tuesday\, June 8\, 2021 11:59:59 PM Eastern Time(ET) on Hunt Secretary
URL:https://essft.com/event/maine-spaniel-field-trial-club-hunt-tests-3/
CATEGORIES:Hunt Tests
END:VEVENT
BEGIN:VEVENT
DTSTART;TZID=America/Chicago:20210612T000000
DTEND;TZID=America/Chicago:20210613T000000
DTSTAMP:20260423T023932
CREATED:20250613T034148Z
LAST-MODIFIED:20250613T034148Z
UID:10010457-1623456000-1623542400@essft.com
SUMMARY:Cocker: North Dakota Sporting Spaniel Club
DESCRIPTION:Entries Close: Tuesday\, June 1\, 2021 11:59:59 PM Eastern Time(ET) on Hunt Secretary \nJudges:  Bob Iverson and Curt Poquette\n\n		\n			\n			\n		\n\n		\n  \n 
URL:https://essft.com/event/cocker-north-dakota-sporting-spaniel-club-6/
CATEGORIES:Cocker Trial
END:VEVENT
BEGIN:VEVENT
DTSTART;TZID=America/Chicago:20210612T000000
DTEND;TZID=America/Chicago:20210613T000000
DTSTAMP:20260423T023932
CREATED:20250613T034148Z
LAST-MODIFIED:20250613T034148Z
UID:10010458-1623456000-1623542400@essft.com
SUMMARY:COCKER: Central Maine Spaniel Club
DESCRIPTION:Entries Close: Tuesday\, June 1\, 2021 11:59:59 PM Eastern Time(ET) on Hunt Secretary \nJudges: Mark Haglin and Alex Cacchio   Apprentice Judge: Pat Berry
URL:https://essft.com/event/cocker-central-maine-spaniel-club-2/
CATEGORIES:Cocker Trial
END:VEVENT
END:VCALENDAR