BEGIN:VCALENDAR
VERSION:2.0
PRODID:-//English Springer Spaniel Field Trials - ECPv6.15.20//NONSGML v1.0//EN
CALSCALE:GREGORIAN
METHOD:PUBLISH
X-WR-CALNAME:English Springer Spaniel Field Trials
X-ORIGINAL-URL:https://essft.com
X-WR-CALDESC:Events for English Springer Spaniel Field Trials
REFRESH-INTERVAL;VALUE=DURATION:PT1H
X-Robots-Tag:noindex
X-PUBLISHED-TTL:PT1H
BEGIN:VTIMEZONE
TZID:America/Chicago
BEGIN:DAYLIGHT
TZOFFSETFROM:-0600
TZOFFSETTO:-0500
TZNAME:CDT
DTSTART:20210314T080000
END:DAYLIGHT
BEGIN:STANDARD
TZOFFSETFROM:-0500
TZOFFSETTO:-0600
TZNAME:CST
DTSTART:20211107T070000
END:STANDARD
BEGIN:DAYLIGHT
TZOFFSETFROM:-0600
TZOFFSETTO:-0500
TZNAME:CDT
DTSTART:20220313T080000
END:DAYLIGHT
BEGIN:STANDARD
TZOFFSETFROM:-0500
TZOFFSETTO:-0600
TZNAME:CST
DTSTART:20221106T070000
END:STANDARD
BEGIN:DAYLIGHT
TZOFFSETFROM:-0600
TZOFFSETTO:-0500
TZNAME:CDT
DTSTART:20230312T080000
END:DAYLIGHT
BEGIN:STANDARD
TZOFFSETFROM:-0500
TZOFFSETTO:-0600
TZNAME:CST
DTSTART:20231105T070000
END:STANDARD
END:VTIMEZONE
BEGIN:VEVENT
DTSTART;TZID=America/Chicago:20221028T000000
DTEND;TZID=America/Chicago:20221029T000000
DTSTAMP:20260422T185641
CREATED:20250613T044331Z
LAST-MODIFIED:20250613T044331Z
UID:10010829-1666915200-1667001600@essft.com
SUMMARY:Utah Springer Spaniel Club
DESCRIPTION:Entries Close: Monday\, October 17\, 2022 11:59:59 PM Eastern Time(ET) on Hunt Secretary \nJudges: Gary Davis and Brent Blundell\nDaylight Savings Time Ends on Sunday (Fall Back 1 Hour)
URL:https://essft.com/event/utah-springer-spaniel-club-19/
CATEGORIES:Field Trials - West
ORGANIZER;CN="Charles Tatton%2C FTS":MAILTO:tatton@brentblundell.com
END:VEVENT
BEGIN:VEVENT
DTSTART;TZID=America/Chicago:20221026T000000
DTEND;TZID=America/Chicago:20221030T000000
DTSTAMP:20260422T185641
CREATED:20250613T044331Z
LAST-MODIFIED:20250628T014214Z
UID:10010828-1666742400-1667088000@essft.com
SUMMARY:2022 Cocker National Open Championship (NCC)
DESCRIPTION:Entries Close: TBD \nJudges: Mark Mercie and Mike Wallace\n 
URL:https://essft.com/event/2022-cocker-national-open-championship-ncc/
CATEGORIES:NATIONAL FIELD TRIALS
END:VEVENT
BEGIN:VEVENT
DTSTART;TZID=America/Chicago:20221022T000000
DTEND;TZID=America/Chicago:20221023T000000
DTSTAMP:20260422T185641
CREATED:20250613T044331Z
LAST-MODIFIED:20250613T044331Z
UID:10010825-1666396800-1666483200@essft.com
SUMMARY:Ravenna Field Trial Club
DESCRIPTION:Entries Close: Tuesday\, October 11\, 2022 11:59:59 PM Eastern Time(ET) on Hunt Secretary \nJudges: Justin Smith and Bill Pierson\n\n		\n			\n			\n		\n\n		\n 
URL:https://essft.com/event/ravenna-field-trial-club-8/
CATEGORIES:Field Trials - Mid East
END:VEVENT
BEGIN:VEVENT
DTSTART;TZID=America/Chicago:20221022T000000
DTEND;TZID=America/Chicago:20221023T000000
DTSTAMP:20260422T185641
CREATED:20250613T044331Z
LAST-MODIFIED:20250613T044331Z
UID:10010826-1666396800-1666483200@essft.com
SUMMARY:Savannah River Upland Poodle Club Spaniel Hunt Test
DESCRIPTION:Entries Close: Tuesday\, October 11\, 2022 11:59:59 PM Eastern Time(ET) on Hunt Secretary
URL:https://essft.com/event/savannah-river-upland-poodle-club-spaniel-hunt-test/
CATEGORIES:Hunt Tests
END:VEVENT
BEGIN:VEVENT
DTSTART;TZID=America/Chicago:20221022T000000
DTEND;TZID=America/Chicago:20221023T000000
DTSTAMP:20260422T185641
CREATED:20250613T044331Z
LAST-MODIFIED:20250613T044331Z
UID:10010827-1666396800-1666483200@essft.com
SUMMARY:Sudbury & District Kennel Club
DESCRIPTION:Waiting for more information…
URL:https://essft.com/event/sudbury-district-kennel-club/
CATEGORIES:Canadian FT
END:VEVENT
BEGIN:VEVENT
DTSTART;TZID=America/Chicago:20221022T000000
DTEND;TZID=America/Chicago:20221023T000000
DTSTAMP:20260422T185641
CREATED:20250613T044316Z
LAST-MODIFIED:20250613T044316Z
UID:10010822-1666396800-1666483200@essft.com
SUMMARY:English Springer Spaniel Club of the Central States
DESCRIPTION:Entries Close: Monday\, October 10\, 2022 11:59:59 PM Eastern Time(ET) on Hunt Secretary \nJudges: Todd Agnew and Kathy Sleavin\n 
URL:https://essft.com/event/english-springer-spaniel-club-of-the-central-states-2/
CATEGORIES:Field Trials - Mid West
END:VEVENT
BEGIN:VEVENT
DTSTART;TZID=America/Chicago:20221022T000000
DTEND;TZID=America/Chicago:20221023T000000
DTSTAMP:20260422T185641
CREATED:20250613T044316Z
LAST-MODIFIED:20250613T044316Z
UID:10010823-1666396800-1666483200@essft.com
SUMMARY:Eastern Nebraska
DESCRIPTION:Cancelled as of 10/12/22. \n  \nEntries Close: Tuesday\, October 11\, 2022 11:59:59 PM Eastern Time(ET) on Hunt Secretary \nJudges: Alice Stewart and Bob Davis\n\n		\n			\n			\n		\n\n		\n 
URL:https://essft.com/event/eastern-nebraska-2/
CATEGORIES:Field Trials - Rocky Mountain
END:VEVENT
BEGIN:VEVENT
DTSTART;TZID=America/Chicago:20221022T000000
DTEND;TZID=America/Chicago:20221023T000000
DTSTAMP:20260422T185641
CREATED:20250613T044316Z
LAST-MODIFIED:20250613T044316Z
UID:10010824-1666396800-1666483200@essft.com
SUMMARY:New Jersey Spaniel Field Trial Club
DESCRIPTION:Entries Close: Tuesday\, October 11\, 2022 11:59:59 PM Eastern Time(ET) on Hunt Secretary \nJudges: Brian Bilotta and Doug Regnet
URL:https://essft.com/event/new-jersey-spaniel-field-trial-club-10/
CATEGORIES:Field Trials - East
END:VEVENT
BEGIN:VEVENT
DTSTART;TZID=America/Chicago:20221022T000000
DTEND;TZID=America/Chicago:20221023T000000
DTSTAMP:20260422T185641
CREATED:20250613T044316Z
LAST-MODIFIED:20250613T044316Z
UID:10010821-1666396800-1666483200@essft.com
SUMMARY:Inland Empire ESS Club
DESCRIPTION:Entries Close: Tuesday\, October 11\, 2022 11:59:59 PM Eastern Time(ET) on Hunt Secretary \nJudges: Gary Fluckiger and Gregory Kuhlman
URL:https://essft.com/event/inland-empire-ess-club-6/
CATEGORIES:Field Trials - West
ORGANIZER;CN="Darlene Cherry":MAILTO:inlandempireessc@gmail.com
END:VEVENT
BEGIN:VEVENT
DTSTART;TZID=America/Chicago:20221020T000000
DTEND;TZID=America/Chicago:20221021T000000
DTSTAMP:20260422T185641
CREATED:20250613T044316Z
LAST-MODIFIED:20250613T044316Z
UID:10010820-1666224000-1666310400@essft.com
SUMMARY:Mid-Penn ESS Club
DESCRIPTION:Entries Close: Tuesday\, November 29\, 2022 11:59:59 PM Eastern Time(ET) on Hunt Secretary  \nJudges: George Kittle and John Meyer
URL:https://essft.com/event/mid-penn-ess-club-5/
LOCATION:Sinking Valley\, Tyrone\, PA 16686\, USA\, Tyrone\, Pennsylvania\, 16686\, United States
CATEGORIES:Field Trials - Mid East
GEO:40.670618;-78.238624
X-APPLE-STRUCTURED-LOCATION;VALUE=URI;X-ADDRESS=Sinking Valley Tyrone PA 16686 USA Tyrone Pennsylvania 16686 United States;X-APPLE-RADIUS=500;X-TITLE=Tyrone\, PA 16686\, USA:geo:-78.238624,40.670618
END:VEVENT
BEGIN:VEVENT
DTSTART;TZID=America/Chicago:20221020T000000
DTEND;TZID=America/Chicago:20221021T000000
DTSTAMP:20260422T185641
CREATED:20250613T044302Z
LAST-MODIFIED:20250613T044302Z
UID:10010819-1666224000-1666310400@essft.com
SUMMARY:Platte River ESSC
DESCRIPTION:CANCELED  10/12\n  \n  \nEntries Close: Monday\, October 10\, 2022 11:59:59 PM Eastern Time(ET) on Hunt Secretary \nJudges: Michael McGinty and Jim O’Keefe
URL:https://essft.com/event/platte-river-essc-5/
LOCATION:Theye Farm\, Liberty\, NE 68381\, USA\, Liberty\, Nebraska\, 68381\, United States
CATEGORIES:Field Trials - Rocky Mountain
GEO:40.084723;-96.482796
X-APPLE-STRUCTURED-LOCATION;VALUE=URI;X-ADDRESS=Theye Farm Liberty NE 68381 USA Liberty Nebraska 68381 United States;X-APPLE-RADIUS=500;X-TITLE=Liberty\, NE 68381\, USA:geo:-96.482796,40.084723
END:VEVENT
BEGIN:VEVENT
DTSTART;TZID=America/Chicago:20221020T000000
DTEND;TZID=America/Chicago:20221021T000000
DTSTAMP:20260422T185641
CREATED:20250613T044301Z
LAST-MODIFIED:20250613T044301Z
UID:10010818-1666224000-1666310400@essft.com
SUMMARY:Central Wisconsin Sporting Spaniel Club
DESCRIPTION:Entries Close: Monday\, October 10\, 2022 11:59:59 PM Eastern Time(ET) on Hunt Secretary \nJudges: John Meyer and Paul Johannes\n 
URL:https://essft.com/event/central-wisconsin-sporting-spaniel-club-10-2/
LOCATION:Oasis Game Farm\, New Glarus\, WI 53574\, USA\, New Glarus\, Wisconsin\, 53574\, United States
CATEGORIES:Field Trials - Mid West
GEO:42.837895;-89.729012
X-APPLE-STRUCTURED-LOCATION;VALUE=URI;X-ADDRESS=Oasis Game Farm New Glarus WI 53574 USA New Glarus Wisconsin 53574 United States;X-APPLE-RADIUS=500;X-TITLE=New Glarus\, WI 53574\, USA:geo:-89.729012,42.837895
END:VEVENT
BEGIN:VEVENT
DTSTART;TZID=America/Chicago:20221017T000000
DTEND;TZID=America/Chicago:20221018T000000
DTSTAMP:20260422T185641
CREATED:20250613T044301Z
LAST-MODIFIED:20250613T044301Z
UID:10010817-1665964800-1666051200@essft.com
SUMMARY:Euclid Sporting Spaniels Club
DESCRIPTION:START TIME –  8:00 AM EACH MORNING\n  \nEntries Close: Tuesday\, October 4\, 2022 11:59:59 PM Eastern Time(ET)  on Hunt Secretary \nJudge Change  10/5   Pat Gilligan and Dana Poray
URL:https://essft.com/event/euclid-sporting-spaniels-club/
CATEGORIES:Field Trials - Mid East
END:VEVENT
BEGIN:VEVENT
DTSTART;TZID=America/Chicago:20221015T000000
DTEND;TZID=America/Chicago:20221016T000000
DTSTAMP:20260422T185641
CREATED:20250613T044301Z
LAST-MODIFIED:20250613T044301Z
UID:10010815-1665792000-1665878400@essft.com
SUMMARY:Fox River Field Spaniel Club Fall Hunt Test
DESCRIPTION:Entries Close: Tuesday\, October 4\, 2022 11:59:59 PM Eastern Time(ET) on Hunt Secretary
URL:https://essft.com/event/fox-river-field-spaniel-club-fall-hunt-test-2/
CATEGORIES:Hunt Tests
END:VEVENT
BEGIN:VEVENT
DTSTART;TZID=America/Chicago:20221015T000000
DTEND;TZID=America/Chicago:20221016T000000
DTSTAMP:20260422T185641
CREATED:20250613T044301Z
LAST-MODIFIED:20250613T044301Z
UID:10010816-1665792000-1665878400@essft.com
SUMMARY:COCKER: Euclid Field Trial Association
DESCRIPTION:Entries Close: Tuesday\, October 4\, 2022 11:59:59 PM Eastern Time(ET) on Hunt Secretary \nJudges: Robert Clayton and Bill Boeckman
URL:https://essft.com/event/cocker-euclid-field-trial-association/
LOCATION:5210 Lansing Ave\, Jackson\, MI\, United States
CATEGORIES:Cocker Trial
GEO:42.248979;-84.421104
END:VEVENT
BEGIN:VEVENT
DTSTART;TZID=America/Chicago:20221015T000000
DTEND;TZID=America/Chicago:20221016T000000
DTSTAMP:20260422T185641
CREATED:20250613T044246Z
LAST-MODIFIED:20250613T044246Z
UID:10010814-1665792000-1665878400@essft.com
SUMMARY:Cincinnati ESS Field Trial Club
DESCRIPTION:Entries Close: Tuesday\, October 4\, 2022 11:59:59 PM Eastern Time(ET) on Hunt Secretary \nJudges: Robert Fink and Terry Sworsky
URL:https://essft.com/event/cincinnati-ess-field-trial-club-4/
CATEGORIES:Field Trials - Mid East
ORGANIZER;CN="Amy Haering":MAILTO:cessftc@yahoo.com
END:VEVENT
BEGIN:VEVENT
DTSTART;TZID=America/Chicago:20221015T000000
DTEND;TZID=America/Chicago:20221016T000000
DTSTAMP:20260422T185641
CREATED:20250613T044246Z
LAST-MODIFIED:20250613T044246Z
UID:10010811-1665792000-1665878400@essft.com
SUMMARY:Sportsmen’s Spaniel Club of Calumet
DESCRIPTION:Entries Close: Tuesday\, October 4\, 2022 11:59:59 PM Eastern Time(ET) on Hunt Secretary \nJudges: Kevin Martineau and Mhari Peschel
URL:https://essft.com/event/sportsmens-spaniel-club-of-calumet-10/
CATEGORIES:Field Trials - Mid West
END:VEVENT
BEGIN:VEVENT
DTSTART;TZID=America/Chicago:20221015T000000
DTEND;TZID=America/Chicago:20221016T000000
DTSTAMP:20260422T185641
CREATED:20250613T044246Z
LAST-MODIFIED:20250613T044246Z
UID:10010812-1665792000-1665878400@essft.com
SUMMARY:Missouri Hunting Spaniel Club
DESCRIPTION:Entries Close: Tuesday\, October 4\, 2022 11:59:59 PM Eastern Time(ET) on Hunt Secretary \nJudges: Bob Merrill and Skip Smith
URL:https://essft.com/event/missouri-hunting-spaniel-club-19/
CATEGORIES:Field Trials - Rocky Mountain
END:VEVENT
BEGIN:VEVENT
DTSTART;TZID=America/Chicago:20221015T000000
DTEND;TZID=America/Chicago:20221016T000000
DTSTAMP:20260422T185641
CREATED:20250613T044246Z
LAST-MODIFIED:20250613T044246Z
UID:10010813-1665792000-1665878400@essft.com
SUMMARY:Cocker Spaniel Field Trial of America
DESCRIPTION:Entries Close: Tuesday\, October 4\, 2022 11:59:59 PM Eastern Time(ET) on Hunt Secretary \nJudges: John Bruggeman and Michael Keough \n\n		\n			\n			\n		\n\n		\n 
URL:https://essft.com/event/cocker-spaniel-field-trial-of-america-3/
CATEGORIES:Field Trials - East
END:VEVENT
BEGIN:VEVENT
DTSTART;TZID=America/Chicago:20221014T000000
DTEND;TZID=America/Chicago:20221015T000000
DTSTAMP:20260422T185641
CREATED:20250613T044246Z
LAST-MODIFIED:20250613T044246Z
UID:10010810-1665705600-1665792000@essft.com
SUMMARY:Utah Springer Spaniel Club
DESCRIPTION:Entries Close: Monday\, October 3\, 2022 11:59:59 PM Eastern Time(ET) on Hunt Secretary \nJudges: Greg Kuhlman and Nick Campanelli
URL:https://essft.com/event/utah-springer-spaniel-club-18/
CATEGORIES:Field Trials - West
ORGANIZER;CN="Charles Tatton%2C FTS":MAILTO:tatton@brentblundell.com
END:VEVENT
BEGIN:VEVENT
DTSTART;TZID=America/Chicago:20221010T000000
DTEND;TZID=America/Chicago:20221010T000000
DTSTAMP:20260422T185641
CREATED:20250613T044231Z
LAST-MODIFIED:20250613T044231Z
UID:10010809-1665360000-1665360000@essft.com
SUMMARY:Columbus Day
DESCRIPTION:
URL:https://essft.com/event/columbus-day-2/
CATEGORIES:Holidays
END:VEVENT
BEGIN:VEVENT
DTSTART;TZID=America/Chicago:20221008T000000
DTEND;TZID=America/Chicago:20221009T000000
DTSTAMP:20260422T185641
CREATED:20250613T044231Z
LAST-MODIFIED:20250613T044231Z
UID:10010806-1665187200-1665273600@essft.com
SUMMARY:Great Lakes ESS Field Training Association
DESCRIPTION:Entries: TBD \nJudges: TBD \nPlease stand by… waiting for more information from the club.
URL:https://essft.com/event/great-lakes-ess-field-training-association-3/
CATEGORIES:Field Trials - Mid East
END:VEVENT
BEGIN:VEVENT
DTSTART;TZID=America/Chicago:20221008T000000
DTEND;TZID=America/Chicago:20221009T000000
DTSTAMP:20260422T185641
CREATED:20250613T044231Z
LAST-MODIFIED:20250613T044231Z
UID:10010807-1665187200-1665273600@essft.com
SUMMARY:COCKER: Arrowhead ESS Club
DESCRIPTION:ENTRIES WILL CLOSE  AT: 8:00 PM (PST) Wednesday\, September 28th\, 2022 \nPLEASE MAKE CHECKS PAYABLE TO ARROWHEAD ENGLISH\nSPRINGER SPANIEL CLUB AND MAIL WITH ENTRIES TO:\nChip Bunker\, Field Trial Secretary\n5111 Solias Road\, Fallon NV 89406\nEmail: chip@hjsys.com\nEmail will be accepted but entry fees must be paid prior to trial. \nJudges: Mike Pollack (MI) and Dave Anderson (OR)\n\n		\n			\n			\n		\n\n		\n 
URL:https://essft.com/event/cocker-arrowhead-ess-club-3/
LOCATION:Lahontan Valley Bird Dog Club\, Fallon\, NV 89406\, USA\, Fallon\, Nevada\, 89406\, United States
CATEGORIES:Cocker Trial
GEO:39.474869;-118.777041
X-APPLE-STRUCTURED-LOCATION;VALUE=URI;X-ADDRESS=Lahontan Valley Bird Dog Club Fallon NV 89406 USA Fallon Nevada 89406 United States;X-APPLE-RADIUS=500;X-TITLE=Fallon\, NV 89406\, USA:geo:-118.777041,39.474869
END:VEVENT
BEGIN:VEVENT
DTSTART;TZID=America/Chicago:20221008T000000
DTEND;TZID=America/Chicago:20221009T000000
DTSTAMP:20260422T185641
CREATED:20250613T044231Z
LAST-MODIFIED:20250613T044231Z
UID:10010808-1665187200-1665273600@essft.com
SUMMARY:COCKER: Minnesota Hunting Spaniel Association
DESCRIPTION:Entries Close: Tuesday\, September 27\, 2022 11:59:59 PM Eastern Time(ET) on Hunt Secretary \nJudges: Randy Bartsch and Mike Keough
URL:https://essft.com/event/cocker-minnesota-hunting-spaniel-association-4/
LOCATION:Long Pond Elk Farm\, 10940 293rd Ave NW\, Princeton\, MN 55371\, USA\, Princeton\, Minnesota\, 55371\, United States
CATEGORIES:Cocker Trial
GEO:45.510557;-93.554875
X-APPLE-STRUCTURED-LOCATION;VALUE=URI;X-ADDRESS=Long Pond Elk Farm 10940 293rd Ave NW Princeton MN 55371 USA Princeton Minnesota 55371 United States;X-APPLE-RADIUS=500;X-TITLE=10940 293rd Ave NW\, Princeton\, MN 55371\, USA:geo:-93.554875,45.510557
END:VEVENT
BEGIN:VEVENT
DTSTART;TZID=America/Chicago:20221008T000000
DTEND;TZID=America/Chicago:20221009T000000
DTSTAMP:20260422T185641
CREATED:20250613T044231Z
LAST-MODIFIED:20250613T044231Z
UID:10010805-1665187200-1665273600@essft.com
SUMMARY:English Springer Spaniel Club of Long Island
DESCRIPTION:Entries Close: Tuesday\, September 27\, 2022 11:59:59 PM Eastern Time(ET) on Hunt Secretary \nJudges: Jim O’Keefe and Elaine O’Keefe
URL:https://essft.com/event/english-springer-spaniel-club-of-long-island-6-2/
CATEGORIES:Field Trials - East
ORGANIZER;CN="Kevin Dolan":MAILTO:kdcups@gmail.com
END:VEVENT
BEGIN:VEVENT
DTSTART;TZID=America/Chicago:20221008T000000
DTEND;TZID=America/Chicago:20221009T000000
DTSTAMP:20260422T185641
CREATED:20250613T044216Z
LAST-MODIFIED:20250613T044216Z
UID:10010803-1665187200-1665273600@essft.com
SUMMARY:Arrowhead ESS Club
DESCRIPTION:Entries Close:8:00 PM (PST) Wednesday\, September 28th\, 2022 \nPLEASE MAKE CHECKS PAYABLE TO ARROWHEAD ENGLISH\nSPRINGER SPANIEL CLUB AND MAIL WITH ENTRIES TO:\nChip Bunker\, Field Trial Secretary\n5111 Solias Road\, Fallon NV 89406\nEmail: chip@hjsys.com\nEmail will be accepted but entry fees must be paid prior to trial. \nJudges:  Mike Pollack (MI)  and Dave Anderson (OR)
URL:https://essft.com/event/arrowhead-ess-club-9/
LOCATION:Lahontan Valley Bird Dog Club\, Fallon\, NV 89406\, USA\, Fallon\, Nevada\, 89406\, United States
CATEGORIES:Field Trials - West
GEO:39.474869;-118.777041
X-APPLE-STRUCTURED-LOCATION;VALUE=URI;X-ADDRESS=Lahontan Valley Bird Dog Club Fallon NV 89406 USA Fallon Nevada 89406 United States;X-APPLE-RADIUS=500;X-TITLE=Fallon\, NV 89406\, USA:geo:-118.777041,39.474869
END:VEVENT
BEGIN:VEVENT
DTSTART;TZID=America/Chicago:20221008T000000
DTEND;TZID=America/Chicago:20221009T000000
DTSTAMP:20260422T185642
CREATED:20250613T044216Z
LAST-MODIFIED:20250613T044216Z
UID:10010804-1665187200-1665273600@essft.com
SUMMARY:Northern Colorado SSC
DESCRIPTION:Entries Close: Tuesday\, September 27\, 2022 11:59:59 PM Eastern Time(ET) on Hunt Secretary \nJudges: Jim Naber and Don Maue\n\n		\n			\n			\n		\n\n		\n 
URL:https://essft.com/event/northern-colorado-ssc-3/
CATEGORIES:Field Trials - Rocky Mountain
END:VEVENT
BEGIN:VEVENT
DTSTART;TZID=America/Chicago:20221007T000000
DTEND;TZID=America/Chicago:20221009T000000
DTSTAMP:20260422T185642
CREATED:20250613T044216Z
LAST-MODIFIED:20250613T044216Z
UID:10010800-1665100800-1665273600@essft.com
SUMMARY:St. Croix Valley Spaniel Club - 2 Trials!
DESCRIPTION:Entries Close: Monday\, September 26\, 2022 11:59:59 PM Eastern Time(ET) on Hunt Secretary ST CROIX TRIAL #1 \nFriday Judges: John Hall and Mike Nolan\nSaturday / Sunday Judges: John Hall and Bob Montler\n\n		\n			\n			\n		\n\n		\nEntries Close: Monday\, September 26\, 2022 11:59:59 PM Eastern Time(ET) on Hunt Secretary ST CROIX TRIAL #2 \n\n		\n			\n			\n		\n\n		\n  \n  \n  \n 
URL:https://essft.com/event/st-croix-valley-spaniel-club-2-trials/
CATEGORIES:Field Trials - Mid West
END:VEVENT
BEGIN:VEVENT
DTSTART;TZID=America/Chicago:20221007T000000
DTEND;TZID=America/Chicago:20221009T000000
DTSTAMP:20260422T185642
CREATED:20250613T044216Z
LAST-MODIFIED:20250613T044216Z
UID:10010802-1665100800-1665273600@essft.com
SUMMARY:COCKER:  Spaniel Association of Western NY
DESCRIPTION:Entries Close: Tuesday\, September 27\, 2022 11:59:59 PM Eastern Time(ET) on Hunt Secretary \nOpen Judges: Brian Bilotta and Ted McCue\nAmateur Judges: Pete Rizzo and Keith Meissner
URL:https://essft.com/event/cocker-spaniel-association-of-western-ny/
LOCATION:One Forty Five North\, LLC\, 8045 Tonawanda Creek Rd\, Lockport\, NY 14094\, USA\, Lockport\, New York\, 14094\, United States
CATEGORIES:Cocker Trial
GEO:43.08423;-78.589279
X-APPLE-STRUCTURED-LOCATION;VALUE=URI;X-ADDRESS=One Forty Five North LLC 8045 Tonawanda Creek Rd Lockport NY 14094 USA Lockport New York 14094 United States;X-APPLE-RADIUS=500;X-TITLE=8045 Tonawanda Creek Rd\, Lockport\, NY 14094\, USA:geo:-78.589279,43.08423
END:VEVENT
BEGIN:VEVENT
DTSTART;TZID=America/Chicago:20221007T000000
DTEND;TZID=America/Chicago:20221007T000000
DTSTAMP:20260422T185642
CREATED:20250613T044216Z
LAST-MODIFIED:20250613T044216Z
UID:10010801-1665100800-1665100800@essft.com
SUMMARY:St Croix Valley
DESCRIPTION:Entries Close: TBD \nJudges: John Hall and Mike Nolan
URL:https://essft.com/event/st-croix-valley-2/
CATEGORIES:Field Trials - Mid West
END:VEVENT
END:VCALENDAR