BEGIN:VCALENDAR
VERSION:2.0
PRODID:-//English Springer Spaniel Field Trials - ECPv6.15.20//NONSGML v1.0//EN
CALSCALE:GREGORIAN
METHOD:PUBLISH
X-WR-CALNAME:English Springer Spaniel Field Trials
X-ORIGINAL-URL:https://essft.com
X-WR-CALDESC:Events for English Springer Spaniel Field Trials
REFRESH-INTERVAL;VALUE=DURATION:PT1H
X-Robots-Tag:noindex
X-PUBLISHED-TTL:PT1H
BEGIN:VTIMEZONE
TZID:America/Chicago
BEGIN:DAYLIGHT
TZOFFSETFROM:-0600
TZOFFSETTO:-0500
TZNAME:CDT
DTSTART:20200308T080000
END:DAYLIGHT
BEGIN:STANDARD
TZOFFSETFROM:-0500
TZOFFSETTO:-0600
TZNAME:CST
DTSTART:20201101T070000
END:STANDARD
BEGIN:DAYLIGHT
TZOFFSETFROM:-0600
TZOFFSETTO:-0500
TZNAME:CDT
DTSTART:20210314T080000
END:DAYLIGHT
BEGIN:STANDARD
TZOFFSETFROM:-0500
TZOFFSETTO:-0600
TZNAME:CST
DTSTART:20211107T070000
END:STANDARD
BEGIN:DAYLIGHT
TZOFFSETFROM:-0600
TZOFFSETTO:-0500
TZNAME:CDT
DTSTART:20220313T080000
END:DAYLIGHT
BEGIN:STANDARD
TZOFFSETFROM:-0500
TZOFFSETTO:-0600
TZNAME:CST
DTSTART:20221106T070000
END:STANDARD
END:VTIMEZONE
BEGIN:VEVENT
DTSTART;TZID=America/Chicago:20210306T000000
DTEND;TZID=America/Chicago:20210307T000000
DTSTAMP:20260423T053437
CREATED:20250613T025911Z
LAST-MODIFIED:20250613T025911Z
UID:10010388-1614988800-1615075200@essft.com
SUMMARY:Cincinnati English Springer Spaniel Field Trial Club
DESCRIPTION:Entries Close: Tuesday\, February 23\, 2021 11:59:59 PM Eastern Time(ET) on Hunt Secretary \nJudges:  Will Pick and Kevin Martineau
URL:https://essft.com/event/cincinnati-english-springer-spaniel-field-trial-club-5/
LOCATION:South Dakota
CATEGORIES:Field Trials - Mid East
ORGANIZER;CN="Amy Haering":MAILTO:cessftc@yahoo.com
END:VEVENT
BEGIN:VEVENT
DTSTART;TZID=America/Chicago:20210306T000000
DTEND;TZID=America/Chicago:20210307T000000
DTSTAMP:20260423T053437
CREATED:20250613T025911Z
LAST-MODIFIED:20250613T025911Z
UID:10010389-1614988800-1615075200@essft.com
SUMMARY:North Texas Sporting Spaniel Club Hunt Test
DESCRIPTION:Entries Close: Tuesday\, February 23\, 2021 11:59:59 PM Eastern Time(ET) on Hunt Secretary \nJudges: Lisa Pyle and Donny Pyle
URL:https://essft.com/event/north-texas-sporting-spaniel-club-hunt-test-5/
LOCATION:South Dakota
CATEGORIES:Hunt Tests
END:VEVENT
BEGIN:VEVENT
DTSTART;TZID=America/Chicago:20210306T000000
DTEND;TZID=America/Chicago:20210307T000000
DTSTAMP:20260423T053437
CREATED:20250613T025911Z
LAST-MODIFIED:20250613T025911Z
UID:10010385-1614988800-1615075200@essft.com
SUMMARY:Inland Empire ESS Club
DESCRIPTION:1/17/2021 – Trial Cancelled. \n 
URL:https://essft.com/event/inland-empire-ess-club-3/
LOCATION:South Dakota
CATEGORIES:Field Trials - West
END:VEVENT
BEGIN:VEVENT
DTSTART;TZID=America/Chicago:20210306T000000
DTEND;TZID=America/Chicago:20210307T000000
DTSTAMP:20260423T053437
CREATED:20250613T025911Z
LAST-MODIFIED:20250613T025911Z
UID:10010386-1614988800-1615075200@essft.com
SUMMARY:Rocky Mountain Springer Spaniel Association
DESCRIPTION:2/1:  This trial is a go!  We look forward to seeing you and your dogs in Colorado! \nEntries Close: Tuesday\, February 23\, 2021 11:59:59 PM Eastern Time(ET) on Hunt Secretary \nJudges: Charles Petrmichl and Richard Paquin
URL:https://essft.com/event/rocky-mountain-springer-spaniel-association-3-2/
LOCATION:South Dakota
CATEGORIES:Field Trials - Rocky Mountain
END:VEVENT
BEGIN:VEVENT
DTSTART;TZID=America/Chicago:20210304T000000
DTEND;TZID=America/Chicago:20210305T000000
DTSTAMP:20260423T053437
CREATED:20250613T025717Z
LAST-MODIFIED:20250613T025717Z
UID:10010384-1614816000-1614902400@essft.com
SUMMARY:Pawnee Flushing Spaniel
DESCRIPTION:1/11: Pawnee Trial Cancelled –  Rocky Mountain is still a go as of this time.
URL:https://essft.com/event/pawnee-flushing-spaniel/
LOCATION:South Dakota
CATEGORIES:Field Trials - Rocky Mountain
END:VEVENT
BEGIN:VEVENT
DTSTART;TZID=America/Chicago:20210227T000000
DTEND;TZID=America/Chicago:20210228T000000
DTSTAMP:20260423T053437
CREATED:20250613T025717Z
LAST-MODIFIED:20250613T025717Z
UID:10010380-1614384000-1614470400@essft.com
SUMMARY:Missouri Hunting Spaniel Club
DESCRIPTION:Entries Close: Tuesday\, February 16\, 2021 11:59:59 PM Eastern Time(ET) on Hunt Secretary \nJudges: Rumi Schroeder and Katie Gorecki\nNote:  Get your Mt Vernon hotels rooms ASAP!  There is a volleyball tournament in town that weekend.
URL:https://essft.com/event/missouri-hunting-spaniel-club-15/
LOCATION:South Dakota
CATEGORIES:Field Trials - Rocky Mountain
END:VEVENT
BEGIN:VEVENT
DTSTART;TZID=America/Chicago:20210227T000000
DTEND;TZID=America/Chicago:20210228T000000
DTSTAMP:20260423T053437
CREATED:20250613T025717Z
LAST-MODIFIED:20250613T025717Z
UID:10010381-1614384000-1614470400@essft.com
SUMMARY:Central Viriginia ESS Field Trial Club
DESCRIPTION:Entries Close: Tuesday\, February 16\, 2021 11:59:59 PM Eastern Time(ET) on Hunt Secretary \nJudges: Dean Rienke and Justin Smith
URL:https://essft.com/event/central-viriginia-ess-field-trial-club/
LOCATION:South Dakota
CATEGORIES:Field Trials - East
END:VEVENT
BEGIN:VEVENT
DTSTART;TZID=America/Chicago:20210227T000000
DTEND;TZID=America/Chicago:20210228T000000
DTSTAMP:20260423T053437
CREATED:20250613T025717Z
LAST-MODIFIED:20250613T025717Z
UID:10010382-1614384000-1614470400@essft.com
SUMMARY:Chattahoochee English Springer Spaniel Club of Greater Atlanta
DESCRIPTION:Entries Close: Tuesday\, February 16\, 2021 11:59:59 PM Eastern Time(ET) on Hunt Secretary \nEntries are full.
URL:https://essft.com/event/chattahoochee-english-springer-spaniel-club-of-greater-atlanta-2/
LOCATION:South Dakota
CATEGORIES:Hunt Tests
END:VEVENT
BEGIN:VEVENT
DTSTART;TZID=America/Chicago:20210227T000000
DTEND;TZID=America/Chicago:20210228T000000
DTSTAMP:20260423T053437
CREATED:20250613T025717Z
LAST-MODIFIED:20250613T025717Z
UID:10010383-1614384000-1614470400@essft.com
SUMMARY:COCKER: Tamarin Spaniel Field Trial Club
DESCRIPTION:Entries Close: Tuesday\, February 16\, 2021 11:59:59 PM Eastern Time(ET) on Hunt Secretaryhttps://www.huntsecretary.com/eventinfo_A.asp?mhuntid=1004311 \nSaturday Judges: Ron Anderson and Steve Bender \nSunday Judges: Cindy Williams and Ron Anderson \n\n		\n			\n			\n		\n\n		\n 
URL:https://essft.com/event/cocker-tamarin-spaniel-field-trial-club/
LOCATION:South Dakota
CATEGORIES:Cocker Trial
END:VEVENT
BEGIN:VEVENT
DTSTART;TZID=America/Chicago:20210227T000000
DTEND;TZID=America/Chicago:20210228T000000
DTSTAMP:20260423T053437
CREATED:20250613T025524Z
LAST-MODIFIED:20250613T025524Z
UID:10010379-1614384000-1614470400@essft.com
SUMMARY:Tamarin Spaniel Field Trial Club
DESCRIPTION:Entries Close: Tuesday\, February 16\, 2021 11:59:59 PM Eastern Time(ET) on Hunt Secretary \nJudges: Cindy Williams and Steve Bender\n\n		\n			\n			\n		\n\n		\n 
URL:https://essft.com/event/tamarin-spaniel-field-trial-club-4/
LOCATION:South Dakota
CATEGORIES:Field Trials - West
END:VEVENT
BEGIN:VEVENT
DTSTART;TZID=America/Chicago:20210220T000000
DTEND;TZID=America/Chicago:20210221T000000
DTSTAMP:20260423T053437
CREATED:20250613T025524Z
LAST-MODIFIED:20250613T025524Z
UID:10010377-1613779200-1613865600@essft.com
SUMMARY:Southern California Sporting Spaniel Club
DESCRIPTION:Entries Close: Tuesday\, February 9\, 2021 11:59:59 PM Eastern Time(ET) on Hunt Secretary \nJudges: Kathy Nestor and Don Mock\n\n		\n			\n			\n		\n\n		\n 
URL:https://essft.com/event/southern-california-sporting-spaniel-club-6/
LOCATION:Etiwanda Game Association\, 18950 CA-173\, Hesperia\, CA 92345\, USA\, Hesperia\, California\, 92345\, United States
CATEGORIES:Field Trials - West
GEO:34.3089;-117.322115
X-APPLE-STRUCTURED-LOCATION;VALUE=URI;X-ADDRESS=Etiwanda Game Association 18950 CA-173 Hesperia CA 92345 USA Hesperia California 92345 United States;X-APPLE-RADIUS=500;X-TITLE=18950 CA-173\, Hesperia\, CA 92345\, USA:geo:-117.322115,34.3089
END:VEVENT
BEGIN:VEVENT
DTSTART;TZID=America/Chicago:20210220T000000
DTEND;TZID=America/Chicago:20210221T000000
DTSTAMP:20260423T053437
CREATED:20250613T025524Z
LAST-MODIFIED:20250613T025524Z
UID:10010378-1613779200-1613865600@essft.com
SUMMARY:Houston ESSC Spaniel Hunt Test
DESCRIPTION: 
URL:https://essft.com/event/houston-essc-spaniel-hunt-test-3/
LOCATION:Springer Creek Ranch\, 4918 FM1374\, Huntsville\, TX 77340\, USA\, Huntsville\, Texas\, 77340\, United States
CATEGORIES:Hunt Tests
GEO:30.613039;-95.621861
X-APPLE-STRUCTURED-LOCATION;VALUE=URI;X-ADDRESS=Springer Creek Ranch 4918 FM1374 Huntsville TX 77340 USA Huntsville Texas 77340 United States;X-APPLE-RADIUS=500;X-TITLE=4918 FM1374\, Huntsville\, TX 77340\, USA:geo:-95.621861,30.613039
END:VEVENT
BEGIN:VEVENT
DTSTART;TZID=America/Chicago:20210215T000000
DTEND;TZID=America/Chicago:20210215T000000
DTSTAMP:20260423T053437
CREATED:20250613T025524Z
LAST-MODIFIED:20250613T025524Z
UID:10010376-1613347200-1613347200@essft.com
SUMMARY:President's Day
DESCRIPTION:
URL:https://essft.com/event/presidents-day-3/
LOCATION:South Dakota
CATEGORIES:Holidays
END:VEVENT
BEGIN:VEVENT
DTSTART;TZID=America/Chicago:20210215T000000
DTEND;TZID=America/Chicago:20210215T000000
DTSTAMP:20260423T053437
CREATED:20250613T025523Z
LAST-MODIFIED:20250613T025523Z
UID:10010375-1613347200-1613347200@essft.com
SUMMARY:San Fernando Valley Springer Spaniel Club
DESCRIPTION:1/8/21: New Location – 5030 Ave 68\, Alpaugh\, CA.  Approximately 40 miles SW of Porterville. \nEntries Close: 8:00 PM (PST) February 3\, 2021 with the FTS \nJudges: Renee Shannon  and  Gary Davis\n\n		\n			\n			\n		\n\n		\n 
URL:https://essft.com/event/san-fernando-valley-springer-spaniel-club-4/
LOCATION:South Dakota
CATEGORIES:Field Trials - West
END:VEVENT
BEGIN:VEVENT
DTSTART;TZID=America/Chicago:20210213T000000
DTEND;TZID=America/Chicago:20210214T000000
DTSTAMP:20260423T053437
CREATED:20250613T025313Z
LAST-MODIFIED:20250613T025313Z
UID:10010374-1613174400-1613260800@essft.com
SUMMARY:Arrowhead ESS Club
DESCRIPTION:1/8/21: New Location – 5030 Ave 68\, Alpaugh\, CA.  Approximately 40 miles SW of Porterville.  Also Judge Change:  Michel Bourdeau cannot leave Canada and is being replaced by Renee Shannon. \n  \nEntries Close: 8:00 PM (PST) February 3\, 2021 with the Field Trial Secretary \nJudges: Renee Shannon and Bob Bullard\n 
URL:https://essft.com/event/arrowhead-ess-club-6/
LOCATION:South Dakota
CATEGORIES:Field Trials - West
END:VEVENT
BEGIN:VEVENT
DTSTART;TZID=America/Chicago:20210206T000000
DTEND;TZID=America/Chicago:20210207T000000
DTSTAMP:20260423T053437
CREATED:20250613T025312Z
LAST-MODIFIED:20250613T025312Z
UID:10010371-1612569600-1612656000@essft.com
SUMMARY:Stockton ESSTC English Springer Spaniel 2021 Field Trial
DESCRIPTION:Entries Close: Tuesday\, January 26\, 2021 11:59:59 PM Eastern Time(ET) on Hunt Secretary \nJudges as of 2/1:  Mhari Peschel and Lynn Miller
URL:https://essft.com/event/stockton-esstc-english-springer-spaniel-2021-field-trial/
LOCATION:Clear Creek Ranch
CATEGORIES:Field Trials - West
END:VEVENT
BEGIN:VEVENT
DTSTART;TZID=America/Chicago:20210206T000000
DTEND;TZID=America/Chicago:20210207T000000
DTSTAMP:20260423T053437
CREATED:20250613T025312Z
LAST-MODIFIED:20250613T025312Z
UID:10010372-1612569600-1612656000@essft.com
SUMMARY:COCKER: Stockton ESSTC Cocker Spaniel 2021 Field Trial
DESCRIPTION:Entries Close: Tuesday\, January 26\, 2021 11:59:59 PM Eastern Time(ET) on Hunt Secretary \nJudges as of 2/1:  Mhari Peschel and Lynn Miller
URL:https://essft.com/event/cocker-stockton-esstc-cocker-spaniel-2021-field-trial/
LOCATION:Clear Creek Ranch
CATEGORIES:Cocker Trial
END:VEVENT
BEGIN:VEVENT
DTSTART;TZID=America/Chicago:20210206T000000
DTEND;TZID=America/Chicago:20210207T000000
DTSTAMP:20260423T053437
CREATED:20250613T025312Z
LAST-MODIFIED:20250613T025312Z
UID:10010373-1612569600-1612656000@essft.com
SUMMARY:The Boykin Spaniel Club And Breeders Association Of America Spring 2021
DESCRIPTION:Entries Close: Tuesday\, January 26\, 2021 11:59:59 PM Eastern Time(ET) on Hunt Secretary \n  \nPREFERENCE TO BOYKIN SPANIELS – OPEN TO AKC ELIGIBLE BREEDS OF SPANIELS/RETRIEVERS\nWhen the limit is reached\, a maintained wait list will be available. However\, if the event is full and a Boykin Spaniel wants to enter this event\, BSCBAA holds the right to bump the last entered non-Boykin Spaniel dog to the wait list.\nPlease contact HuntSecretary.com if you would like to put your dog(s) on the waitlist or have any questions about the policy.
URL:https://essft.com/event/the-boykin-spaniel-club-and-breeders-association-of-america-spring-2021/
LOCATION:South Dakota
CATEGORIES:Hunt Tests
END:VEVENT
BEGIN:VEVENT
DTSTART;TZID=America/Chicago:20210205T000000
DTEND;TZID=America/Chicago:20210206T000000
DTSTAMP:20260423T053437
CREATED:20250613T025312Z
LAST-MODIFIED:20250613T025312Z
UID:10010370-1612483200-1612569600@essft.com
SUMMARY:Volunteer English Springer Spaniel Club - Hall of Fame Trial 2
DESCRIPTION:Entries Close: Monday\, January 25\, 2021 11:59:59 PM Eastern Time(ET) on Hunt Secretary \nJudges: George Kittle and Chris Jensen\n  \nThe Hall of Fame II starts on Friday\, February 5 with BOTH Open and Amateur in alternating stakes. Plan is to finish the 3rd on Saturday.
URL:https://essft.com/event/volunteer-english-springer-spaniel-club-hall-of-fame-trial-2-2/
LOCATION:South Dakota
CATEGORIES:Field Trials - Rocky Mountain
END:VEVENT
BEGIN:VEVENT
DTSTART;TZID=America/Chicago:20210203T000000
DTEND;TZID=America/Chicago:20210204T000000
DTSTAMP:20260423T053437
CREATED:20250613T025112Z
LAST-MODIFIED:20250613T025112Z
UID:10010369-1612310400-1612396800@essft.com
SUMMARY:Volunteer Club of Tennessee - Hall of Fame Trial 1
DESCRIPTION:Entries Close: Monday\, January 25\, 2021 11:59:59 PM Eastern Time(ET) on Hunt Secretary \nJudges: Mark Haglin and Morgan Haglin
URL:https://essft.com/event/volunteer-club-of-tennessee-hall-of-fame-trial-1/
LOCATION:South Dakota
CATEGORIES:Field Trials - Rocky Mountain
END:VEVENT
BEGIN:VEVENT
DTSTART;TZID=America/Chicago:20210130T000000
DTEND;TZID=America/Chicago:20210131T000000
DTSTAMP:20260423T053437
CREATED:20250613T025112Z
LAST-MODIFIED:20250613T025112Z
UID:10010367-1611964800-1612051200@essft.com
SUMMARY:English Springer Spaniel Club of Southern California
DESCRIPTION:Due to COVID the Army Corp of Engineers is not issuing permits to use the grounds at Lake Success.
URL:https://essft.com/event/english-springer-spaniel-club-of-southern-california-2/
LOCATION:South Dakota
CATEGORIES:Field Trials - West
END:VEVENT
BEGIN:VEVENT
DTSTART;TZID=America/Chicago:20210130T000000
DTEND;TZID=America/Chicago:20210131T000000
DTSTAMP:20260423T053437
CREATED:20250613T025112Z
LAST-MODIFIED:20250613T025112Z
UID:10010368-1611964800-1612051200@essft.com
SUMMARY:COCKER: Wateree Spaniel Club Cocker Field Trial
DESCRIPTION:Entries Close: Tuesday\, January 19\, 2021 11:59:59 PM Eastern Time(ET) on Hunt Secretary \nJudge Change 1/12: William Gates Pat Keliher and Terry Oliver        Apprentice Ted McCue
URL:https://essft.com/event/cocker-wateree-spaniel-club-cocker-field-trial/
LOCATION:H. Cooper Black Jr. Memorial Field Trial & Recreation Area\, Cheraw\, SC 29520\, USA\, Cheraw\, South Carolina\, 29520\, United States
CATEGORIES:Cocker Trial
GEO:34.697656;-79.883397
X-APPLE-STRUCTURED-LOCATION;VALUE=URI;X-ADDRESS=H. Cooper Black Jr. Memorial Field Trial & Recreation Area Cheraw SC 29520 USA Cheraw South Carolina 29520 United States;X-APPLE-RADIUS=500;X-TITLE=Cheraw\, SC 29520\, USA:geo:-79.883397,34.697656
END:VEVENT
BEGIN:VEVENT
DTSTART;TZID=America/Chicago:20210124T000000
DTEND;TZID=America/Chicago:20210125T000000
DTSTAMP:20260423T053437
CREATED:20250613T025112Z
LAST-MODIFIED:20250613T025112Z
UID:10010366-1611446400-1611532800@essft.com
SUMMARY:COCKER: Houston ESS Club
DESCRIPTION:Entries Close: Tuesday\, January 12\, 2021 11:59:59 PM Eastern Time(ET) on Hunt Secretary \nJudges: Robert Clayton and Mike Pollack \n 
URL:https://essft.com/event/cocker-houston-ess-club/
LOCATION:Springer Creek Ranch\, 4918 FM1374\, Huntsville\, TX 77340\, USA\, Huntsville\, Texas\, 77340\, United States
CATEGORIES:Cocker Trial
GEO:30.613039;-95.621861
X-APPLE-STRUCTURED-LOCATION;VALUE=URI;X-ADDRESS=Springer Creek Ranch 4918 FM1374 Huntsville TX 77340 USA Huntsville Texas 77340 United States;X-APPLE-RADIUS=500;X-TITLE=4918 FM1374\, Huntsville\, TX 77340\, USA:geo:-95.621861,30.613039
END:VEVENT
BEGIN:VEVENT
DTSTART;TZID=America/Chicago:20210123T000000
DTEND;TZID=America/Chicago:20210124T000000
DTSTAMP:20260423T053437
CREATED:20250613T025112Z
LAST-MODIFIED:20250613T025112Z
UID:10010365-1611360000-1611446400@essft.com
SUMMARY:COCKER: English Cocker Spaniel Club of America Field Trial January 2021
DESCRIPTION:Entries Close: Tuesday\, January 12\, 2021 11:59:59 PM Eastern Time(ET) on Hunt Secretary \nJudges:  Nelson Benson and Katie Gorecki
URL:https://essft.com/event/cocker-english-cocker-spaniel-club-of-america-field-trial-january-2021/
LOCATION:Lime Rock Cockers Preserve\, East Bend\, NC 27018\, USA\, East Bend\, North Carolina\, 27018\, United States
CATEGORIES:Cocker Trial
GEO:36.216528;-80.512558
X-APPLE-STRUCTURED-LOCATION;VALUE=URI;X-ADDRESS=Lime Rock Cockers Preserve East Bend NC 27018 USA East Bend North Carolina 27018 United States;X-APPLE-RADIUS=500;X-TITLE=East Bend\, NC 27018\, USA:geo:-80.512558,36.216528
END:VEVENT
BEGIN:VEVENT
DTSTART;TZID=America/Chicago:20210123T000000
DTEND;TZID=America/Chicago:20210124T000000
DTSTAMP:20260423T053437
CREATED:20250613T025057Z
LAST-MODIFIED:20250613T025057Z
UID:10010363-1611360000-1611446400@essft.com
SUMMARY:Southeast Texas English Springer Spaniel Club
DESCRIPTION:Entries Close: Tuesday\, January 12\, 2021 11:59:59 PM Eastern Time(ET) on Hunt Secretary \nJudges: Bob Krause and Chad Betts
URL:https://essft.com/event/southeast-texas-english-springer-spaniel-club-3-3/
LOCATION:Springer Creek Ranch\, 4918 FM1374\, Huntsville\, TX 77340\, USA\, Huntsville\, Texas\, 77340\, United States
CATEGORIES:Field Trials - Rocky Mountain
GEO:30.613039;-95.621861
X-APPLE-STRUCTURED-LOCATION;VALUE=URI;X-ADDRESS=Springer Creek Ranch 4918 FM1374 Huntsville TX 77340 USA Huntsville Texas 77340 United States;X-APPLE-RADIUS=500;X-TITLE=4918 FM1374\, Huntsville\, TX 77340\, USA:geo:-95.621861,30.613039
END:VEVENT
BEGIN:VEVENT
DTSTART;TZID=America/Chicago:20210123T000000
DTEND;TZID=America/Chicago:20210124T000000
DTSTAMP:20260423T053437
CREATED:20250613T025057Z
LAST-MODIFIED:20250613T025057Z
UID:10010364-1611360000-1611446400@essft.com
SUMMARY:Central Virginia ESS Field Trial Club
DESCRIPTION:Entries Close: Tuesday\, January 12\, 2021 11:59:59 PM Eastern Time(ET) on Hunt Secretary \nJudges: Richard Whalen and Donnie Wagner
URL:https://essft.com/event/central-virginia-ess-field-trial-club-3/
LOCATION:South Dakota
CATEGORIES:Field Trials - East
END:VEVENT
BEGIN:VEVENT
DTSTART;TZID=America/Chicago:20210122T000000
DTEND;TZID=America/Chicago:20210122T000000
DTSTAMP:20260423T053437
CREATED:20250613T025057Z
LAST-MODIFIED:20250613T025057Z
UID:10010362-1611273600-1611273600@essft.com
SUMMARY:St. Croix Valley Spaniel Club
DESCRIPTION:Entries Close: \nJudges: TBD \nMore information to follow.  Please be patient.
URL:https://essft.com/event/st-croix-valley-spaniel-club-8/
LOCATION:South Dakota
CATEGORIES:Field Trials - Mid West
END:VEVENT
BEGIN:VEVENT
DTSTART;TZID=America/Chicago:20210121T000000
DTEND;TZID=America/Chicago:20210122T000000
DTSTAMP:20260423T053437
CREATED:20250613T025057Z
LAST-MODIFIED:20250613T025057Z
UID:10010361-1611187200-1611273600@essft.com
SUMMARY:Houston ESS Club
DESCRIPTION:  \nEntries Close: Monday\, January 11\, 2021 11:59:59 PM Eastern Time(ET) on Hunt Secretary \nJudges: Randy Curtis and Mark Hairfield with John Bishop apprenticing\n1/5/2021: Added a Water Test to the event – Judges Mhari Peschel and Steve Kane
URL:https://essft.com/event/houston-ess-club/
LOCATION:Springer Creek Ranch\, 4918 FM1374\, Huntsville\, TX 77340\, USA\, Huntsville\, Texas\, 77340\, United States
CATEGORIES:Field Trials - Rocky Mountain
GEO:30.613039;-95.621861
X-APPLE-STRUCTURED-LOCATION;VALUE=URI;X-ADDRESS=Springer Creek Ranch 4918 FM1374 Huntsville TX 77340 USA Huntsville Texas 77340 United States;X-APPLE-RADIUS=500;X-TITLE=4918 FM1374\, Huntsville\, TX 77340\, USA:geo:-95.621861,30.613039
END:VEVENT
BEGIN:VEVENT
DTSTART;TZID=America/Chicago:20210118T000000
DTEND;TZID=America/Chicago:20210118T000000
DTSTAMP:20260423T053437
CREATED:20250613T025056Z
LAST-MODIFIED:20250613T025057Z
UID:10010360-1610928000-1610928000@essft.com
SUMMARY:Martin Luther King Jr. Day
DESCRIPTION:
URL:https://essft.com/event/martin-luther-king-jr-day-2/
LOCATION:South Dakota
CATEGORIES:Holidays
END:VEVENT
BEGIN:VEVENT
DTSTART;TZID=America/Chicago:20210116T000000
DTEND;TZID=America/Chicago:20210117T000000
DTSTAMP:20260423T053437
CREATED:20250613T025053Z
LAST-MODIFIED:20250613T025053Z
UID:10010359-1610755200-1610841600@essft.com
SUMMARY:North Texas SSC
DESCRIPTION:Cancelled
URL:https://essft.com/event/north-texas-ssc-3/
LOCATION:South Dakota
CATEGORIES:Field Trials - Rocky Mountain
END:VEVENT
END:VCALENDAR