BEGIN:VCALENDAR
VERSION:2.0
PRODID:-//English Springer Spaniel Field Trials - ECPv6.15.20//NONSGML v1.0//EN
CALSCALE:GREGORIAN
METHOD:PUBLISH
X-WR-CALNAME:English Springer Spaniel Field Trials
X-ORIGINAL-URL:https://essft.com
X-WR-CALDESC:Events for English Springer Spaniel Field Trials
REFRESH-INTERVAL;VALUE=DURATION:PT1H
X-Robots-Tag:noindex
X-PUBLISHED-TTL:PT1H
BEGIN:VTIMEZONE
TZID:America/Chicago
BEGIN:DAYLIGHT
TZOFFSETFROM:-0600
TZOFFSETTO:-0500
TZNAME:CDT
DTSTART:20200308T080000
END:DAYLIGHT
BEGIN:STANDARD
TZOFFSETFROM:-0500
TZOFFSETTO:-0600
TZNAME:CST
DTSTART:20201101T070000
END:STANDARD
BEGIN:DAYLIGHT
TZOFFSETFROM:-0600
TZOFFSETTO:-0500
TZNAME:CDT
DTSTART:20210314T080000
END:DAYLIGHT
BEGIN:STANDARD
TZOFFSETFROM:-0500
TZOFFSETTO:-0600
TZNAME:CST
DTSTART:20211107T070000
END:STANDARD
BEGIN:DAYLIGHT
TZOFFSETFROM:-0600
TZOFFSETTO:-0500
TZNAME:CDT
DTSTART:20220313T080000
END:DAYLIGHT
BEGIN:STANDARD
TZOFFSETFROM:-0500
TZOFFSETTO:-0600
TZNAME:CST
DTSTART:20221106T070000
END:STANDARD
END:VTIMEZONE
BEGIN:VEVENT
DTSTART;TZID=America/Chicago:20210430T000000
DTEND;TZID=America/Chicago:20210502T000000
DTSTAMP:20260422T212343
CREATED:20250613T031118Z
LAST-MODIFIED:20250613T031118Z
UID:10010430-1619740800-1619913600@essft.com
SUMMARY:Iowa Sporting Spaniel Club
DESCRIPTION:No Trial this spring.
URL:https://essft.com/event/iowa-sporting-spaniel-club-3/
CATEGORIES:Field Trials - Mid West
END:VEVENT
BEGIN:VEVENT
DTSTART;TZID=America/Chicago:20210424T000000
DTEND;TZID=America/Chicago:20210425T000000
DTSTAMP:20260422T212343
CREATED:20250613T030918Z
LAST-MODIFIED:20250613T030918Z
UID:10010428-1619222400-1619308800@essft.com
SUMMARY:Northern Minnesota English Springer Spaniel Club
DESCRIPTION:  \nEntries Close: Tuesday\, April 13\, 2021 11:59:59 PM Eastern Time(ET) on Hunt Secretary \nJudge Change 4/6: Jeff Johannes Don Brunn and David Jones
URL:https://essft.com/event/northern-minnesota-english-springer-spaniel-club-3/
CATEGORIES:Field Trials - Mid West
ORGANIZER;CN="Sophie Haglin":MAILTO:mark@pineshadows.com
END:VEVENT
BEGIN:VEVENT
DTSTART;TZID=America/Chicago:20210424T000000
DTEND;TZID=America/Chicago:20210425T000000
DTSTAMP:20260422T212343
CREATED:20250613T030918Z
LAST-MODIFIED:20250613T030918Z
UID:10010429-1619222400-1619308800@essft.com
SUMMARY:COCKER: North Dakota Sporting Spaniel Club
DESCRIPTION:Entries Close: Tuesday\, April 13\, 2021 11:59:59 PM Eastern Time(ET) on Hunt Secretary \nJudges: Clay Earl and Tom Nabity
URL:https://essft.com/event/cocker-north-dakota-sporting-spaniel-club-5/
CATEGORIES:Cocker Trial
END:VEVENT
BEGIN:VEVENT
DTSTART;TZID=America/Chicago:20210417T000000
DTEND;TZID=America/Chicago:20210418T000000
DTSTAMP:20260422T212343
CREATED:20250613T030918Z
LAST-MODIFIED:20250613T030918Z
UID:10010425-1618617600-1618704000@essft.com
SUMMARY:Minnesota English Springer Spaniel Club
DESCRIPTION:Entries Close: Tuesday\, April 6\, 2021 11:59:59 PM Eastern Time(ET) Hunt Secretary \nJudges: Paul Johannes and Todd Stelzer
URL:https://essft.com/event/minnesota-english-springer-spaniel-club-7/
CATEGORIES:Field Trials - Mid West
END:VEVENT
BEGIN:VEVENT
DTSTART;TZID=America/Chicago:20210417T000000
DTEND;TZID=America/Chicago:20210418T000000
DTSTAMP:20260422T212343
CREATED:20250613T030918Z
LAST-MODIFIED:20250613T030918Z
UID:10010426-1618617600-1618704000@essft.com
SUMMARY:Ohio Valley ESS Club
DESCRIPTION:  \nEntries Close: April 13\, 2021 at 6:00 PM with the Field Trial Secretary \nEntries made in advance may be sent with checks made payable to OVESS Club to:\nMark Gebert; Field Trial Secretary\n1104 W Liberty Ann Arbor\, MI 48103\nEntries close with the FT Secretary at: 6:00p.m. April 13\, 2021 \nJudges:  Mike Ludwig and Dan Tuttle\n\n		\n			\n			\n		\n\n		\n 
URL:https://essft.com/event/ohio-valley-ess-club-6/
LOCATION:Elk Ridge Game Farm\, 5146 OH-96\, Bucyrus\, OH 44820\, USA\, Bucyrus\, Ohio\, 44820\, United States
CATEGORIES:Field Trials - Mid East
END:VEVENT
BEGIN:VEVENT
DTSTART;TZID=America/Chicago:20210417T000000
DTEND;TZID=America/Chicago:20210418T000000
DTSTAMP:20260422T212343
CREATED:20250613T030918Z
LAST-MODIFIED:20250613T030918Z
UID:10010427-1618617600-1618704000@essft.com
SUMMARY:COCKER: ECSCA/Parent Club Cocker Field Trial April 17 & 18 2021
DESCRIPTION:Entries Close: Tuesday\, April 6\, 2021 11:59:59 PM Eastern Time(ET) on Hunt Secretary \nJudges:  Mark Mercie and Will Pick
URL:https://essft.com/event/cocker-ecsca-parent-club-cocker-field-trial-april-17-18-2021/
CATEGORIES:Cocker Trial
END:VEVENT
BEGIN:VEVENT
DTSTART;TZID=America/Chicago:20210417T000000
DTEND;TZID=America/Chicago:20210418T000000
DTSTAMP:20260422T212343
CREATED:20250613T030719Z
LAST-MODIFIED:20250613T030719Z
UID:10010424-1618617600-1618704000@essft.com
SUMMARY:NWESSC: Northwest ESS Club
DESCRIPTION:3/1/2021: Cancelled \n  \n 
URL:https://essft.com/event/nwessc-northwest-ess-club/
CATEGORIES:Field Trials - West
END:VEVENT
BEGIN:VEVENT
DTSTART;TZID=America/Chicago:20210415T000000
DTEND;TZID=America/Chicago:20210416T000000
DTSTAMP:20260422T212344
CREATED:20250613T030719Z
LAST-MODIFIED:20250613T030719Z
UID:10010423-1618444800-1618531200@essft.com
SUMMARY:St. Croix Valley Spaniel Club
DESCRIPTION:Entries Close: Monday\, April 5\, 2021 11:59:59 PM Eastern Time(ET) on Hunt Secretary \nJudges: Kevin Martineau and Morgan Haglin – Mike Nolan is Apprenticing\n\n		\n			\n			\n		\n\n		\n 
URL:https://essft.com/event/st-croix-valley-spaniel-club-9/
CATEGORIES:Field Trials - Mid West
END:VEVENT
BEGIN:VEVENT
DTSTART;TZID=America/Chicago:20210410T000000
DTEND;TZID=America/Chicago:20210411T000000
DTSTAMP:20260422T212344
CREATED:20250613T030719Z
LAST-MODIFIED:20250613T030719Z
UID:10010422-1618012800-1618099200@essft.com
SUMMARY:COCKER:  Cocker Spaniel Field Trial Club of America
DESCRIPTION:Entries Close: Tuesday\, March 30\, 2021 11:59:59 PM Eastern Time(ET) on Hunt Secretary \nJudges: Ray Cacchio and Pat Keliher
URL:https://essft.com/event/cocker-cocker-spaniel-field-trial-club-of-america/
CATEGORIES:Cocker Trial
END:VEVENT
BEGIN:VEVENT
DTSTART;TZID=America/Chicago:20210410T000000
DTEND;TZID=America/Chicago:20210411T000000
DTSTAMP:20260422T212344
CREATED:20250613T030719Z
LAST-MODIFIED:20250613T030719Z
UID:10010420-1618012800-1618099200@essft.com
SUMMARY:Mid-Atlantic Hunting Spaniel Club
DESCRIPTION:2/20/21:  Date change to April 10/11 because of Easter. \nEntries Close: Tuesday\, March 30\, 2021 11:59:59 PM Eastern Time(ET) on Hunt Secretary \nJudges: Mike Pollack and Brian Bilotta
URL:https://essft.com/event/mid-atlantic-hunting-spaniel-club-6/
CATEGORIES:Field Trials - East
END:VEVENT
BEGIN:VEVENT
DTSTART;TZID=America/Chicago:20210410T000000
DTEND;TZID=America/Chicago:20210411T000000
DTSTAMP:20260422T212344
CREATED:20250613T030719Z
LAST-MODIFIED:20250613T030719Z
UID:10010421-1618012800-1618099200@essft.com
SUMMARY:Minnesota Heartland English Springer Spaniel Club
DESCRIPTION:Entries Close: Tuesday\, March 30\, 2021 11:59:59 PM Eastern Time(ET) on Hunt Secretary \nJudges: Bob Fink and Randy Manore
URL:https://essft.com/event/minnesota-heartland-english-springer-spaniel-club/
CATEGORIES:Field Trials - Mid West
END:VEVENT
BEGIN:VEVENT
DTSTART;TZID=America/Chicago:20210410T000000
DTEND;TZID=America/Chicago:20210411T000000
DTSTAMP:20260422T212344
CREATED:20250613T030518Z
LAST-MODIFIED:20250613T030518Z
UID:10010419-1618012800-1618099200@essft.com
SUMMARY:English Cocker Spaniel Club of America National Specialty Spaniel Hunt Tests
DESCRIPTION:
URL:https://essft.com/event/english-cocker-spaniel-club-of-america-national-specialty-spaniel-hunt-tests/
CATEGORIES:Hunt Tests
END:VEVENT
BEGIN:VEVENT
DTSTART;TZID=America/Chicago:20210409T000000
DTEND;TZID=America/Chicago:20210410T000000
DTSTAMP:20260422T212344
CREATED:20250613T030518Z
LAST-MODIFIED:20250613T030518Z
UID:10010417-1617926400-1618012800@essft.com
SUMMARY:Timpanogos Hunting Spaniel
DESCRIPTION:Entries Close: Monday\, March 29\, 2021 11:59:59 PM Eastern Time(ET) on Hunt Secretary \nJudges: Steve Bender and Jerry Livingston\n 
URL:https://essft.com/event/timpanogos-hunting-spaniel/
LOCATION:Clarkston Trial Grounds\, 4900 W 11000 N\, Clarkston\, UT 84305\, USA\, Clarkston\, Utah\, 84305\, United States
CATEGORIES:Field Trials - West
GEO:41.931805;-112.01117
X-APPLE-STRUCTURED-LOCATION;VALUE=URI;X-ADDRESS=Clarkston Trial Grounds 4900 W 11000 N Clarkston UT 84305 USA Clarkston Utah 84305 United States;X-APPLE-RADIUS=500;X-TITLE=4900 W 11000 N\, Clarkston\, UT 84305\, USA:geo:-112.01117,41.931805
END:VEVENT
BEGIN:VEVENT
DTSTART;TZID=America/Chicago:20210409T000000
DTEND;TZID=America/Chicago:20210410T000000
DTSTAMP:20260422T212344
CREATED:20250613T030518Z
LAST-MODIFIED:20250613T030518Z
UID:10010418-1617926400-1618012800@essft.com
SUMMARY:COCKER: Timpanogos Hunting Spaniel
DESCRIPTION:Entries Close: Monday\, March 29\, 2021 11:59:59 PM Eastern Time(ET) on Hunt Secretary  \nJudges: Steve Bender and Jerry Livingston
URL:https://essft.com/event/cocker-timpanogos-hunting-spaniel/
LOCATION:Clarkston Trial Grounds\, 4900 W 11000 N\, Clarkston\, UT 84305\, USA\, Clarkston\, Utah\, 84305\, United States
CATEGORIES:Cocker Trial
GEO:41.931805;-112.01117
X-APPLE-STRUCTURED-LOCATION;VALUE=URI;X-ADDRESS=Clarkston Trial Grounds 4900 W 11000 N Clarkston UT 84305 USA Clarkston Utah 84305 United States;X-APPLE-RADIUS=500;X-TITLE=4900 W 11000 N\, Clarkston\, UT 84305\, USA:geo:-112.01117,41.931805
END:VEVENT
BEGIN:VEVENT
DTSTART;TZID=America/Chicago:20210404T000000
DTEND;TZID=America/Chicago:20210404T000000
DTSTAMP:20260422T212344
CREATED:20250613T030518Z
LAST-MODIFIED:20250613T030518Z
UID:10010416-1617494400-1617494400@essft.com
SUMMARY:Easter Sunday
DESCRIPTION:
URL:https://essft.com/event/easter-sunday/
CATEGORIES:Holidays
END:VEVENT
BEGIN:VEVENT
DTSTART;TZID=America/Chicago:20210402T000000
DTEND;TZID=America/Chicago:20210403T000000
DTSTAMP:20260422T212344
CREATED:20250613T030318Z
LAST-MODIFIED:20250613T030318Z
UID:10010414-1617321600-1617408000@essft.com
SUMMARY:COCKER: Fox Valley English Cocker Club
DESCRIPTION:Entries: TBD on Hunt Secretary \nJudges: TBD
URL:https://essft.com/event/cocker-fox-valley-english-cocker-club-2/
CATEGORIES:Cocker Trial
END:VEVENT
BEGIN:VEVENT
DTSTART;TZID=America/Chicago:20210402T000000
DTEND;TZID=America/Chicago:20210403T000000
DTSTAMP:20260422T212344
CREATED:20250613T030318Z
LAST-MODIFIED:20250613T030318Z
UID:10010413-1617321600-1617408000@essft.com
SUMMARY:Central Wisconsin Sporting Spaniel Club
DESCRIPTION:Entries Close: Monday\, March 22\, 2021 11:59:59 PM Eastern Time(ET) on Hunt Secretary  \nJudges: Chad Betts and Bill Boeckman
URL:https://essft.com/event/central-wisconsin-sporting-spaniel-club-7/
LOCATION:Oasis Game Farm\, New Glarus\, WI 53574\, USA\, New Glarus\, Wisconsin\, 53574\, United States
CATEGORIES:Field Trials - Mid West
GEO:42.837895;-89.729012
X-APPLE-STRUCTURED-LOCATION;VALUE=URI;X-ADDRESS=Oasis Game Farm New Glarus WI 53574 USA New Glarus Wisconsin 53574 United States;X-APPLE-RADIUS=500;X-TITLE=New Glarus\, WI 53574\, USA:geo:-89.729012,42.837895
END:VEVENT
BEGIN:VEVENT
DTSTART;TZID=America/Chicago:20210402T000000
DTEND;TZID=America/Chicago:20210402T000000
DTSTAMP:20260422T212344
CREATED:20250613T030518Z
LAST-MODIFIED:20250613T030518Z
UID:10010415-1617321600-1617321600@essft.com
SUMMARY:Northern Colorado SS Club Spring Field Trial - ESS *** Rescheduled Amateur/Puppy***
DESCRIPTION:DUE TO SNOW STORM THE AMATEUR AND PUPPY STAKES HAVE BEEN MOVED TO FRIDAY\, APRIL 2nd.  Approved by the AKC. \nEntries Close: Monday\, March 29\, 2021 11:59:59 PM Eastern Time(ET) on Hunt Secretary \nJudges:  Ray Jack and Steve Beyers
URL:https://essft.com/event/northern-colorado-ss-club-spring-field-trial-ess-rescheduled-amateur-puppy/
CATEGORIES:Field Trials - Rocky Mountain
END:VEVENT
BEGIN:VEVENT
DTSTART;TZID=America/Chicago:20210327T000000
DTEND;TZID=America/Chicago:20210328T000000
DTSTAMP:20260422T212344
CREATED:20250613T030318Z
LAST-MODIFIED:20250613T030318Z
UID:10010410-1616803200-1616889600@essft.com
SUMMARY:Susquehanna Valley ESSC
DESCRIPTION:Entries Close: Tuesday\, March 16\, 2021 11:59:59 PM Eastern Time(ET) on Hunt Secretary \nJudges:  Roland Snyder and Garry Soper
URL:https://essft.com/event/susquehanna-valley-essc-3/
CATEGORIES:Field Trials - Mid East
END:VEVENT
BEGIN:VEVENT
DTSTART;TZID=America/Chicago:20210327T000000
DTEND;TZID=America/Chicago:20210328T000000
DTSTAMP:20260422T212344
CREATED:20250613T030318Z
LAST-MODIFIED:20250613T030318Z
UID:10010411-1616803200-1616889600@essft.com
SUMMARY:Southern Wisconsin Sporting Spaniel Club
DESCRIPTION:  \n***Cancelled due to Snow Amounts***\n  \nEntries Close: Tuesday\, March 16\, 2021 11:59:59 PM Eastern Time(ET) on Hunt Secretary \nJudges: Dan Tuttle and Richard Paquin
URL:https://essft.com/event/southern-wisconsin-sporting-spaniel-club-6/
CATEGORIES:Field Trials - Mid West
END:VEVENT
BEGIN:VEVENT
DTSTART;TZID=America/Chicago:20210327T000000
DTEND;TZID=America/Chicago:20210328T000000
DTSTAMP:20260422T212344
CREATED:20250613T030318Z
LAST-MODIFIED:20250613T030318Z
UID:10010412-1616803200-1616889600@essft.com
SUMMARY:AWSC Spring/March AKC Spaniel Hunt Test
DESCRIPTION:Entries Close: Tuesday\, March 16\, 2021 11:59:59 PM Eastern Time(ET) on Hunt Secretary \nJudges: Beth Wiley and Kim Wiley\n 
URL:https://essft.com/event/awsc-spring-march-akc-spaniel-hunt-test/
CATEGORIES:Hunt Tests
END:VEVENT
BEGIN:VEVENT
DTSTART;TZID=America/Chicago:20210327T000000
DTEND;TZID=America/Chicago:20210328T000000
DTSTAMP:20260422T212344
CREATED:20250613T030118Z
LAST-MODIFIED:20250613T030118Z
UID:10010407-1616803200-1616889600@essft.com
SUMMARY:Western Washington ESS Club
DESCRIPTION:3/5/2021:  New Location – Scatter Creek\, Rochester\, WA \n  \nEntries Close: Tuesday\, March 16\, 2021 11:59:59 PM Eastern Time(ET) on Hunt Secretary \nJudges: Paul Johannes and David Anderson\n\n		\n			\n			\n		\n\n		\n 
URL:https://essft.com/event/western-washington-ess-club-3/
LOCATION:Scatter Creek Wildlife Area\, Rochester\, WA 98579\, USA\, Rochester\, Washington\, 98579\, United States
CATEGORIES:Field Trials - West
ORGANIZER;CN="Melissa Knapp":MAILTO:melissa.s.knapp@gmail.com
GEO:47.071189;-124.165336
X-APPLE-STRUCTURED-LOCATION;VALUE=URI;X-ADDRESS=Scatter Creek Wildlife Area Rochester WA 98579 USA Rochester Washington 98579 United States;X-APPLE-RADIUS=500;X-TITLE=Rochester\, WA 98579\, USA:geo:-124.165336,47.071189
END:VEVENT
BEGIN:VEVENT
DTSTART;TZID=America/Chicago:20210327T000000
DTEND;TZID=America/Chicago:20210328T000000
DTSTAMP:20260422T212344
CREATED:20250613T030118Z
LAST-MODIFIED:20250613T030118Z
UID:10010408-1616803200-1616889600@essft.com
SUMMARY:English Springer Spaniel Club of Eastern Nebraska
DESCRIPTION:Entries Close: Tuesday\, March 16\, 2021 11:59:59 PM Eastern Time(ET) on Hunt Secretary \nJudges: Will Pick and Bob Murdock\n\n		\n			\n			\n		\n\n		\n 
URL:https://essft.com/event/english-springer-spaniel-club-of-eastern-nebraska-4-3/
LOCATION:Claybaugh Farm\, Liberty\, NE 68381\, USA\, Liberty\, Nebraska\, 68381\, United States
CATEGORIES:Field Trials - Rocky Mountain
GEO:40.084723;-96.482796
X-APPLE-STRUCTURED-LOCATION;VALUE=URI;X-ADDRESS=Claybaugh Farm Liberty NE 68381 USA Liberty Nebraska 68381 United States;X-APPLE-RADIUS=500;X-TITLE=Liberty\, NE 68381\, USA:geo:-96.482796,40.084723
END:VEVENT
BEGIN:VEVENT
DTSTART;TZID=America/Chicago:20210327T000000
DTEND;TZID=America/Chicago:20210328T000000
DTSTAMP:20260422T212344
CREATED:20250613T030118Z
LAST-MODIFIED:20250613T030118Z
UID:10010409-1616803200-1616889600@essft.com
SUMMARY:New Jersey Spaniel Field Trial Club
DESCRIPTION:No Spring 2021 Trial.
URL:https://essft.com/event/new-jersey-spaniel-field-trial-club-7/
CATEGORIES:Field Trials - East
END:VEVENT
BEGIN:VEVENT
DTSTART;TZID=America/Chicago:20210326T000000
DTEND;TZID=America/Chicago:20210327T000000
DTSTAMP:20260422T212344
CREATED:20250613T030118Z
LAST-MODIFIED:20250613T030118Z
UID:10010406-1616716800-1616803200@essft.com
SUMMARY:COCKER: Western Washington ESS Club
DESCRIPTION:Entries Close: Monday\, March 15\, 2021 11:59:59 PM Eastern Time(ET) on Hunt Secretary \nJudges: Paul Johannes and David Anderson
URL:https://essft.com/event/cocker-western-washington-ess-club-2/
LOCATION:Joint Base Lewis McChord\, Tacoma\, WA\, USA\, Tacoma\, Washington\, United States
CATEGORIES:Cocker Trial
ORGANIZER;CN="Melissa Knapp":MAILTO:melissa.s.knapp@gmail.com
GEO:47.549217;-122.099665
X-APPLE-STRUCTURED-LOCATION;VALUE=URI;X-ADDRESS=Joint Base Lewis McChord Tacoma WA USA Tacoma Washington United States;X-APPLE-RADIUS=500;X-TITLE=Tacoma\, WA\, USA:geo:-122.099665,47.549217
END:VEVENT
BEGIN:VEVENT
DTSTART;TZID=America/Chicago:20210325T000000
DTEND;TZID=America/Chicago:20210325T000000
DTSTAMP:20260422T212344
CREATED:20250613T030118Z
LAST-MODIFIED:20250613T030118Z
UID:10010405-1616630400-1616630400@essft.com
SUMMARY:Gunning Seminar: Western Washington ESS Club
DESCRIPTION:Please contact Paul Young for more information.
URL:https://essft.com/event/gunning-seminar-western-washington-ess-club/
CATEGORIES:Gunning Seminars
END:VEVENT
BEGIN:VEVENT
DTSTART;TZID=America/Chicago:20210321T000000
DTEND;TZID=America/Chicago:20210321T000000
DTSTAMP:20260422T212344
CREATED:20250613T030103Z
LAST-MODIFIED:20250613T030103Z
UID:10010404-1616284800-1616284800@essft.com
SUMMARY:COCKER: Stillwater Valley ESSC  Trial #2  (New Date)
DESCRIPTION:Entries Close: Tuesday\, March 9\, 2021 11:59:59 PM Eastern Time(ET) on Hunt Secretary \nJudges:  Alex Cacchio and Peter Rizzo
URL:https://essft.com/event/cocker-stillwater-valley-essc-trial-2-new-date/
LOCATION:Beelman Farm\, 2192 Co Rd 21\, De Graff\, OH 43318\, USA\, De Graff\, Ohio\, 43318\, United States
CATEGORIES:Cocker Trial
GEO:40.36598;-83.944001
X-APPLE-STRUCTURED-LOCATION;VALUE=URI;X-ADDRESS=Beelman Farm 2192 Co Rd 21 De Graff OH 43318 USA De Graff Ohio 43318 United States;X-APPLE-RADIUS=500;X-TITLE=2192 Co Rd 21\, De Graff\, OH 43318\, USA:geo:-83.944001,40.36598
END:VEVENT
BEGIN:VEVENT
DTSTART;TZID=America/Chicago:20210320T000000
DTEND;TZID=America/Chicago:20210321T000000
DTSTAMP:20260422T212344
CREATED:20250613T030103Z
LAST-MODIFIED:20250613T030103Z
UID:10010401-1616198400-1616284800@essft.com
SUMMARY:Valley Forge Field Trial Assoc.
DESCRIPTION:Entries Close: Tuesday\, March 9\, 2021 11:59:59 PM Eastern Time(ET) on Hunt Secretary \nJudges: Paul Van Houten and Justin Smith
URL:https://essft.com/event/valley-forge-field-trial-assoc-2/
CATEGORIES:Field Trials - East
ORGANIZER;CN="Bill Pierson":MAILTO:bill@Pierson.com
END:VEVENT
BEGIN:VEVENT
DTSTART;TZID=America/Chicago:20210320T000000
DTEND;TZID=America/Chicago:20210321T000000
DTSTAMP:20260422T212344
CREATED:20250613T030103Z
LAST-MODIFIED:20250613T030103Z
UID:10010402-1616198400-1616284800@essft.com
SUMMARY:Stillwater Valley ESS Club (New Dates)
DESCRIPTION:Entries Close: Tuesday\, March 9\, 2021 11:59:59 PM Eastern Time(ET) on Hunt Secretary \nJudges: Brent LeMaster and Peter Rizzo
URL:https://essft.com/event/stillwater-valley-ess-club-new-dates/
LOCATION:Beelman Farm\, 2192 Co Rd 21\, De Graff\, OH 43318\, USA\, De Graff\, Ohio\, 43318\, United States
CATEGORIES:Field Trials - Mid East
GEO:40.36598;-83.944001
X-APPLE-STRUCTURED-LOCATION;VALUE=URI;X-ADDRESS=Beelman Farm 2192 Co Rd 21 De Graff OH 43318 USA De Graff Ohio 43318 United States;X-APPLE-RADIUS=500;X-TITLE=2192 Co Rd 21\, De Graff\, OH 43318\, USA:geo:-83.944001,40.36598
END:VEVENT
BEGIN:VEVENT
DTSTART;TZID=America/Chicago:20210320T000000
DTEND;TZID=America/Chicago:20210320T000000
DTSTAMP:20260422T212344
CREATED:20250613T030103Z
LAST-MODIFIED:20250613T030103Z
UID:10010403-1616198400-1616198400@essft.com
SUMMARY:Cocker: Stillwater Valley ESSC  Trial #1 (New Date)
DESCRIPTION:Entries Close: Tuesday\, March 9\, 2021 11:59:59 PM Eastern Time(ET) on Hunt Secretary \nJudges: Brent LeMaster and Peter Rizzo
URL:https://essft.com/event/cocker-stillwater-valley-essc-trial-1-new-date/
LOCATION:Beelman Farm\, 2192 Co Rd 21\, De Graff\, OH 43318\, USA\, De Graff\, Ohio\, 43318\, United States
CATEGORIES:Cocker Trial
GEO:40.36598;-83.944001
X-APPLE-STRUCTURED-LOCATION;VALUE=URI;X-ADDRESS=Beelman Farm 2192 Co Rd 21 De Graff OH 43318 USA De Graff Ohio 43318 United States;X-APPLE-RADIUS=500;X-TITLE=2192 Co Rd 21\, De Graff\, OH 43318\, USA:geo:-83.944001,40.36598
END:VEVENT
END:VCALENDAR