BEGIN:VCALENDAR
VERSION:2.0
PRODID:-//English Springer Spaniel Field Trials - ECPv6.15.20//NONSGML v1.0//EN
CALSCALE:GREGORIAN
METHOD:PUBLISH
X-WR-CALNAME:English Springer Spaniel Field Trials
X-ORIGINAL-URL:https://essft.com
X-WR-CALDESC:Events for English Springer Spaniel Field Trials
REFRESH-INTERVAL;VALUE=DURATION:PT1H
X-Robots-Tag:noindex
X-PUBLISHED-TTL:PT1H
BEGIN:VTIMEZONE
TZID:America/Chicago
BEGIN:DAYLIGHT
TZOFFSETFROM:-0600
TZOFFSETTO:-0500
TZNAME:CDT
DTSTART:20180311T080000
END:DAYLIGHT
BEGIN:STANDARD
TZOFFSETFROM:-0500
TZOFFSETTO:-0600
TZNAME:CST
DTSTART:20181104T070000
END:STANDARD
BEGIN:DAYLIGHT
TZOFFSETFROM:-0600
TZOFFSETTO:-0500
TZNAME:CDT
DTSTART:20190310T080000
END:DAYLIGHT
BEGIN:STANDARD
TZOFFSETFROM:-0500
TZOFFSETTO:-0600
TZNAME:CST
DTSTART:20191103T070000
END:STANDARD
BEGIN:DAYLIGHT
TZOFFSETFROM:-0600
TZOFFSETTO:-0500
TZNAME:CDT
DTSTART:20200308T080000
END:DAYLIGHT
BEGIN:STANDARD
TZOFFSETFROM:-0500
TZOFFSETTO:-0600
TZNAME:CST
DTSTART:20201101T070000
END:STANDARD
END:VTIMEZONE
BEGIN:VEVENT
DTSTART;TZID=America/Chicago:20191012T000000
DTEND;TZID=America/Chicago:20191013T000000
DTSTAMP:20260423T065007
CREATED:20250612T023809Z
LAST-MODIFIED:20250612T023809Z
UID:10010080-1570838400-1570924800@essft.com
SUMMARY:Cocker Spaniel Field Trial of America
DESCRIPTION:Entries Close: at 10:00 p.m. on Wednesday\, October 2 with the Field Trial Secretary \nJudges:  Tom Menzel and Bob Merrill\n  \n\n		\n			\n			\n		\n\n		\n  \n 
URL:https://essft.com/event/cocker-spaniel-field-trial-of-america/
LOCATION:Oregon
CATEGORIES:Field Trials - East
END:VEVENT
BEGIN:VEVENT
DTSTART;TZID=America/Chicago:20191012T000000
DTEND;TZID=America/Chicago:20191012T000000
DTSTAMP:20260423T065007
CREATED:20250612T024211Z
LAST-MODIFIED:20250612T024211Z
UID:10010088-1570838400-1570838400@essft.com
SUMMARY:WATER TEST: Cincinnati English Springer Spaniel Field Trial Club
DESCRIPTION:Entries Close: Tuesday\, October 1\, 2019 at 11:59 P.M. Eastern Time(ET) on Hunt Secretary \n  \n 
URL:https://essft.com/event/water-test-cincinnati-english-springer-spaniel-field-trial-club/
LOCATION:Cunningham Farm\, 24330 Sandusky Rd\, Marysville\, OH 43040\, USA\, Marysville\, Ohio\, 43040\, United States
CATEGORIES:Water Test
ORGANIZER;CN="Amy Haering":MAILTO:cessftc@yahoo.com
GEO:40.358621;-83.328942
X-APPLE-STRUCTURED-LOCATION;VALUE=URI;X-ADDRESS=Cunningham Farm 24330 Sandusky Rd Marysville OH 43040 USA Marysville Ohio 43040 United States;X-APPLE-RADIUS=500;X-TITLE=24330 Sandusky Rd\, Marysville\, OH 43040\, USA:geo:-83.328942,40.358621
END:VEVENT
BEGIN:VEVENT
DTSTART;TZID=America/Chicago:20191011T000000
DTEND;TZID=America/Chicago:20191011T000000
DTSTAMP:20260423T065007
CREATED:20250612T023809Z
LAST-MODIFIED:20250612T023809Z
UID:10010078-1570752000-1570752000@essft.com
SUMMARY:Cocker: Liberty ECS Fanciers
DESCRIPTION:8/22/2019: This event is canceled.
URL:https://essft.com/event/cocker-liberty-ecs-fanciers/
LOCATION:Oregon
CATEGORIES:Cocker Trial
END:VEVENT
BEGIN:VEVENT
DTSTART;TZID=America/Chicago:20191010T000000
DTEND;TZID=America/Chicago:20191012T000000
DTSTAMP:20260423T065008
CREATED:20250612T023809Z
LAST-MODIFIED:20250612T023809Z
UID:10010076-1570665600-1570838400@essft.com
SUMMARY:Canadian Open National by Prairie Spaniel Club
DESCRIPTION:https://www.dogshow.ca/en/1966?club=Prairie-Spaniel-Club-%5BOPEN-NATIONAL%5D \n 
URL:https://essft.com/event/canadian-open-national-by-prairie-spaniel-club/
LOCATION:Oregon
CATEGORIES:Canadian FT
END:VEVENT
BEGIN:VEVENT
DTSTART;TZID=America/Chicago:20191010T000000
DTEND;TZID=America/Chicago:20191011T000000
DTSTAMP:20260423T065008
CREATED:20250612T023809Z
LAST-MODIFIED:20250612T023809Z
UID:10010077-1570665600-1570752000@essft.com
SUMMARY:St. Croix Valley Spaniel Club Field Trial #1
DESCRIPTION:Entries Close: Monday\, September 30\, 2019 11:59:59 PM Eastern Time(ET) on Hunt Secretary \nJudges:  Joe Coady & Dave Sanford\n  \n\n		\n			\n			\n		\n\n		\n 
URL:https://essft.com/event/st-croix-valley-spaniel-club-field-trial-1/
LOCATION:Oregon
CATEGORIES:Field Trials - Mid West
END:VEVENT
BEGIN:VEVENT
DTSTART;TZID=America/Chicago:20191007T000000
DTEND;TZID=America/Chicago:20191007T000000
DTSTAMP:20260423T065008
CREATED:20250612T023609Z
LAST-MODIFIED:20250612T023609Z
UID:10010075-1570406400-1570406400@essft.com
SUMMARY:Minnesota Heartland ESSC Trial #2
DESCRIPTION:Hello Field Trialers: \nWe have decided to go with a plan B field because of the rains. Use this address via GPS/Google drive etc. to get to the grounds and parking. 42745 165th St\, Clitherall\, MN 56524 \nNote: There will be no lunch at the grounds. Just for the guns\, judges\, marshals\, planters etc. So plan to bring a lunch\, or plan to drive a few miles up to the 210 corner store in Clitherall\, or the Big Foot in Vining.  ATV use is OK\, but we will be asking to try to limit most of it around on the road\, which will also be an easy drop location for a car/truck as well.  The hotel has not changed\, just the field because of all this falls rain.  The water test will be right from the grounds parking lot. Any questions feel free to call me 320-219-2081\, Ken Hanson \nAlso\, we will be selling left over birds to people staying in the area for the following St Croix trials at club cost which is 9-10$ roughly. If there is a bunch and no demand\, we will offer them to club members at a reduced cost first\, then others if available. If you wish to pre order birds to be delivered to my place with the clubs birds for pick up. Please contact Bob Blaha to place your order at 715-781-4820\, and he will be happy to bring you birds. Otherwise extra birds from the event will be based on availability only.    \nThanks\, and Good Luck! \nKen Hanson\, FTC \nClick here for map to NEW LOCATION! \n  \n  \nNote:  Saturday- Open and Puppy\, Sunday- Amateur and Water Test\, Monday- Open and Puppy. \nEntries Close: on Tuesday September 24th\, 2019 at 11:00 p.m. on HUNT SECRETARY \nMonday Judges:  Randy Manore and Dean Koehler\n\n		\n			\n			\n		\n\n		\n  \n\n		\n			\n			\n		\n\n		\n 
URL:https://essft.com/event/minnesota-heartland-essc-trial-2/
LOCATION:Oregon
CATEGORIES:Field Trials - Mid West
END:VEVENT
BEGIN:VEVENT
DTSTART;TZID=America/Chicago:20191007T000000
DTEND;TZID=America/Chicago:20191007T000000
DTSTAMP:20260423T065008
CREATED:20250612T023608Z
LAST-MODIFIED:20250612T023608Z
UID:10010074-1570406400-1570406400@essft.com
SUMMARY:Cocker: Northwest English Springer Spaniel Club
DESCRIPTION:Note: ESS Trials Saturday and Sunday.  Cocker trial on Monday \nEntries Close: Tuesday\, September 24\, 2019 11:59:59 PM Eastern Time(ET) on Hunt Secretary \nJudges:  Tom Ness and Gary Fluckiger
URL:https://essft.com/event/cocker-northwest-english-springer-spaniel-club/
LOCATION:Knaupp Farm\, Rickreall\, OR 97371\, USA\, Rickreall\, Oregon\, 97371\, United States
CATEGORIES:Cocker Trial
ORGANIZER;CN="Paula Mazurek":MAILTO:mtmyst@cablespeed.com
GEO:44.932282;-123.235104
X-APPLE-STRUCTURED-LOCATION;VALUE=URI;X-ADDRESS=Knaupp Farm Rickreall OR 97371 USA Rickreall Oregon 97371 United States;X-APPLE-RADIUS=500;X-TITLE=Rickreall\, OR 97371\, USA:geo:-123.235104,44.932282
END:VEVENT
BEGIN:VEVENT
DTSTART;TZID=America/Chicago:20191005T000000
DTEND;TZID=America/Chicago:20191007T000000
DTSTAMP:20260423T065008
CREATED:20250612T023407Z
LAST-MODIFIED:20250612T023407Z
UID:10010070-1570233600-1570406400@essft.com
SUMMARY:Cocker: Northwest ESS Club
DESCRIPTION:Entries Close: TBA \nJudges: TBA
URL:https://essft.com/event/cocker-northwest-ess-club/
LOCATION:Oregon
CATEGORIES:Cocker Trial
END:VEVENT
BEGIN:VEVENT
DTSTART;TZID=America/Chicago:20191005T000000
DTEND;TZID=America/Chicago:20191006T000000
DTSTAMP:20260423T065008
CREATED:20250612T023608Z
LAST-MODIFIED:20250612T023608Z
UID:10010071-1570233600-1570320000@essft.com
SUMMARY:English Springer Spaniel Field Trial Association National Specialty  Hunt Test
DESCRIPTION:Entries Close: Wednesday\, September 18\, 2019 11:59:59 PM Eastern Time(ET) on Hunt Secretary
URL:https://essft.com/event/english-springer-spaniel-field-trial-association-national-specialty-hunt-test/
LOCATION:Oregon
CATEGORIES:Hunt Tests
END:VEVENT
BEGIN:VEVENT
DTSTART;TZID=America/Chicago:20191005T000000
DTEND;TZID=America/Chicago:20191006T000000
DTSTAMP:20260423T065008
CREATED:20250612T023608Z
LAST-MODIFIED:20250612T023608Z
UID:10010072-1570233600-1570320000@essft.com
SUMMARY:Cocker: Maine Spaniel Field Trial Club
DESCRIPTION:Entries close with the Field Trial Secretary at 6:00 PM EST Sunday\, Sept. 29\, 2019 . \nWe now have an alternative method for entering this event.\nYou can register and enter at:\nwww.mainespanielfieldtrialclub.com/my-account/\nor mail entries with check or money order payable to the Maine\nSpaniel Field Trial Club (MSFTC) to:\nJack Klette\, Field Trial Secretary\n186 Lowe Street\, Leominster\, MA 01453 \n  \nJudges:  Patrick Keliher and Paul McGagh\n  \n  \n 
URL:https://essft.com/event/cocker-maine-spaniel-field-trial-club/
LOCATION:Oregon
CATEGORIES:Cocker Trial
END:VEVENT
BEGIN:VEVENT
DTSTART;TZID=America/Chicago:20191005T000000
DTEND;TZID=America/Chicago:20191006T000000
DTSTAMP:20260423T065008
CREATED:20250612T023608Z
LAST-MODIFIED:20250612T023608Z
UID:10010073-1570233600-1570320000@essft.com
SUMMARY:Missouri Hunting Spaniel Club 2019 Fall Hunt Test
DESCRIPTION:Entries Close: Tuesday\, September 24\, 2019 11:59:59 PM Eastern Time(ET) on Hunt Secretary \n\n		\n			\n			\n		\n\n		\n 
URL:https://essft.com/event/missouri-hunting-spaniel-club-2019-fall-hunt-test/
LOCATION:Oregon
CATEGORIES:Hunt Tests
END:VEVENT
BEGIN:VEVENT
DTSTART;TZID=America/Chicago:20191005T000000
DTEND;TZID=America/Chicago:20191006T000000
DTSTAMP:20260423T065008
CREATED:20250612T023407Z
LAST-MODIFIED:20250627T184925Z
UID:10010067-1570233600-1570320000@essft.com
SUMMARY:Minnesota Heartland ESSC  Trial #1
DESCRIPTION:Hello Field Trialers: \nWe have decided to go with a plan B field because of the rains. Use this address via GPS/Google drive etc. to get to the grounds and parking. 42745 165th St\, Clitherall\, MN 56524 \nNote: There will be no lunch at the grounds. Just for the guns\, judges\, marshals\, planters etc. So plan to bring a lunch\, or plan to drive a few miles up to the 210 corner store in Clitherall\, or the Big Foot in Vining.  ATV use is OK\, but we will be asking to try to limit most of it around on the road\, which will also be an easy drop location for a car/truck as well.  The hotel has not changed\, just the field because of all this falls rain.  The water test will be right from the grounds parking lot. Any questions feel free to call me 320-219-2081\, Ken Hanson \nAlso\, we will be selling left over birds to people staying in the area for the following St Croix trials at club cost which is 9-10$ roughly. If there is a bunch and no demand\, we will offer them to club members at a reduced cost first\, then others if available. If you wish to pre order birds to be delivered to my place with the clubs birds for pick up. Please contact Bob Blaha to place your order at 715-781-4820\, and he will be happy to bring you birds. Otherwise extra birds from the event will be based on availability only.    \nThanks\, and Good Luck! \nKen Hanson\, FTC \n  \nClick here for map to NEW LOCATION! \n  \n  \nNote:  Saturday- Open and Puppy\, Sunday- Amateur and Water Test\, Monday- Open and Puppy. \nEntries Close: Tuesday September 24th\, 2019 at 11:00 p.m. on HUNT SECRETARY \nSaturday and Sunday Judges: Mike McGinty and Pat Gilligan\n\n		\n			\n			\n		\n\n		\n  \n\n		\n			\n			\n		\n\n		\n\n		\n			\n			\n		\n\n		\n  \n 
URL:https://essft.com/event/minnesota-heartland-essc-trial-1/
LOCATION:Oregon
CATEGORIES:Field Trials - Mid West
END:VEVENT
BEGIN:VEVENT
DTSTART;TZID=America/Chicago:20191005T000000
DTEND;TZID=America/Chicago:20191006T000000
DTSTAMP:20260423T065008
CREATED:20250612T023407Z
LAST-MODIFIED:20250612T023407Z
UID:10010068-1570233600-1570320000@essft.com
SUMMARY:Northwest English Springer Spaniel Club
DESCRIPTION:Note:  ESS on Saturday and Sunday.  Cocker trial on Monday. \nEntries Close:  Tuesday\, September 24\, 2019 at 11:59 P.M. Eastern Time(ET) on Hunt Secretary \nJudges:  Tom Ness and Gary Fluckiger
URL:https://essft.com/event/northwest-english-springer-spaniel-club-5/
LOCATION:Knaupp Farm\, Rickreall\, OR 97371\, USA\, Rickreall\, Oregon\, 97371\, United States
CATEGORIES:Field Trials - West
ORGANIZER;CN="Paula Mazurek":MAILTO:mtmyst@cablespeed.com
GEO:44.932282;-123.235104
X-APPLE-STRUCTURED-LOCATION;VALUE=URI;X-ADDRESS=Knaupp Farm Rickreall OR 97371 USA Rickreall Oregon 97371 United States;X-APPLE-RADIUS=500;X-TITLE=Rickreall\, OR 97371\, USA:geo:-123.235104,44.932282
END:VEVENT
BEGIN:VEVENT
DTSTART;TZID=America/Chicago:20191005T000000
DTEND;TZID=America/Chicago:20191006T000000
DTSTAMP:20260423T065008
CREATED:20250612T023407Z
LAST-MODIFIED:20250612T023407Z
UID:10010069-1570233600-1570320000@essft.com
SUMMARY:Cocker: Fox Valley English Cocker Spaniel Club
DESCRIPTION:Entries Close: Tuesday\, September 24\, 2019 11:59:59 PM Eastern Time(ET) on Hunt Secretary \nJudges: Will Pick and Mike Elsasser
URL:https://essft.com/event/cocker-fox-valley-english-cocker-spaniel-club/
LOCATION:Connolly Game Farm\, Reedsville\, WI 54230\, USA\, Reedsville\, Wisconsin\, 54230\, United States
CATEGORIES:Cocker Trial
GEO:44.153604;-87.956762
X-APPLE-STRUCTURED-LOCATION;VALUE=URI;X-ADDRESS=Connolly Game Farm Reedsville WI 54230 USA Reedsville Wisconsin 54230 United States;X-APPLE-RADIUS=500;X-TITLE=Reedsville\, WI 54230\, USA:geo:-87.956762,44.153604
END:VEVENT
BEGIN:VEVENT
DTSTART;TZID=America/Chicago:20191005T000000
DTEND;TZID=America/Chicago:20191006T000000
DTSTAMP:20260423T065008
CREATED:20250612T023407Z
LAST-MODIFIED:20250612T023407Z
UID:10010066-1570233600-1570320000@essft.com
SUMMARY:Northern Colorado Springer Spaniel Club
DESCRIPTION:Entries Close: Monday\, September 23\, 2019 11:59:59 PM Eastern Time(ET) on Hunt Secretary \nJudges:  Don Mock and Rob Barlow\n 
URL:https://essft.com/event/northern-colorado-springer-spaniel-club-5-3/
LOCATION:Dipallo Farm\, Fort Lupton\, CO 80621\, USA\, Fort Lupton\, Colorado\, 80621\, United States
CATEGORIES:Field Trials - Rocky Mountain
GEO:40.084705;-104.813027
X-APPLE-STRUCTURED-LOCATION;VALUE=URI;X-ADDRESS=Dipallo Farm Fort Lupton CO 80621 USA Fort Lupton Colorado 80621 United States;X-APPLE-RADIUS=500;X-TITLE=Fort Lupton\, CO 80621\, USA:geo:-104.813027,40.084705
END:VEVENT
BEGIN:VEVENT
DTSTART;TZID=America/Chicago:20191005T000000
DTEND;TZID=America/Chicago:20191006T000000
DTSTAMP:20260423T065008
CREATED:20250612T023206Z
LAST-MODIFIED:20250612T023206Z
UID:10010063-1570233600-1570320000@essft.com
SUMMARY:AKC Week 40
DESCRIPTION:
URL:https://essft.com/event/akc-week-40-3/
LOCATION:Oregon
END:VEVENT
BEGIN:VEVENT
DTSTART;TZID=America/Chicago:20191005T000000
DTEND;TZID=America/Chicago:20191006T000000
DTSTAMP:20260423T065008
CREATED:20250612T023206Z
LAST-MODIFIED:20250612T023206Z
UID:10010064-1570233600-1570320000@essft.com
SUMMARY:English Springer Spaniel Club of Long Island
DESCRIPTION:Entries Close: Tuesday\, September 24\, 2019 11:59:59 PM Eastern Time(ET) on Hunt Secretary \nJudges: Vern Knapp and George Kittle\n\n		\n			\n			\n		\n\n		\n 
URL:https://essft.com/event/english-springer-spaniel-club-of-long-island-3/
LOCATION:Richard Stewart Farm\, Canisteo\, NY 14823\, USA\, Canisteo\, New York\, 14823\, United States
CATEGORIES:Field Trials - East
GEO:42.291091;-77.498077
X-APPLE-STRUCTURED-LOCATION;VALUE=URI;X-ADDRESS=Richard Stewart Farm Canisteo NY 14823 USA Canisteo New York 14823 United States;X-APPLE-RADIUS=500;X-TITLE=Canisteo\, NY 14823\, USA:geo:-77.498077,42.291091
END:VEVENT
BEGIN:VEVENT
DTSTART;TZID=America/Chicago:20191005T000000
DTEND;TZID=America/Chicago:20191006T000000
DTSTAMP:20260423T065008
CREATED:20250612T023206Z
LAST-MODIFIED:20250612T023206Z
UID:10010065-1570233600-1570320000@essft.com
SUMMARY:Prince Edward Interprovincial Springer Spaniel Club
DESCRIPTION:https://www.dogshow.ca/en/2019?club=Prince-Edward-Interprovincial-Springer-Spaniel-Club \n\n		\n			\n			\n		\n\n		\n 
URL:https://essft.com/event/prince-edward-interprovincial-springer-spaniel-club-3/
LOCATION:Oregon
CATEGORIES:Canadian FT
END:VEVENT
BEGIN:VEVENT
DTSTART;TZID=America/Chicago:20191004T000000
DTEND;TZID=America/Chicago:20191004T000000
DTSTAMP:20260423T065008
CREATED:20250612T023206Z
LAST-MODIFIED:20250628T012329Z
UID:10010062-1570147200-1570147200@essft.com
SUMMARY:WATER TEST: ESSC of Long Island
DESCRIPTION:
URL:https://essft.com/event/water-test-essc-of-long-island/
LOCATION:Oregon
CATEGORIES:Water Test
END:VEVENT
BEGIN:VEVENT
DTSTART;TZID=America/Chicago:20191003T000000
DTEND;TZID=America/Chicago:20191004T000000
DTSTAMP:20260423T065008
CREATED:20250612T023206Z
LAST-MODIFIED:20250612T023206Z
UID:10010061-1570060800-1570147200@essft.com
SUMMARY:Fox Valley Springer Spaniel Fall Field Trial
DESCRIPTION:Entries Close: Monday\, September 23\, 2019 11:59:59 PM Eastern Time(ET) on Hunt Secretary \nJudges: Don Maue and John Smith
URL:https://essft.com/event/fox-valley-springer-spaniel-fall-field-trial/
LOCATION:Connolly Game Farm\, Reedsville\, WI 54230\, USA\, Reedsville\, Wisconsin\, 54230\, United States
CATEGORIES:Field Trials - Mid West
GEO:44.153604;-87.956762
X-APPLE-STRUCTURED-LOCATION;VALUE=URI;X-ADDRESS=Connolly Game Farm Reedsville WI 54230 USA Reedsville Wisconsin 54230 United States;X-APPLE-RADIUS=500;X-TITLE=Reedsville\, WI 54230\, USA:geo:-87.956762,44.153604
END:VEVENT
BEGIN:VEVENT
DTSTART;TZID=America/Chicago:20190928T000000
DTEND;TZID=America/Chicago:20190929T000000
DTSTAMP:20260423T065008
CREATED:20250612T023006Z
LAST-MODIFIED:20250612T023006Z
UID:10010059-1569628800-1569715200@essft.com
SUMMARY:Cocker: Western New York
DESCRIPTION:Entries Close: Tuesday\, September 17\, 2019 11:59:59 PM Eastern Time(ET) on Hunt Secretary \nJudges: Dave Proctor and Cosimo Cristo\n 
URL:https://essft.com/event/cocker-western-new-york/
LOCATION:Oregon
CATEGORIES:Cocker Trial
END:VEVENT
BEGIN:VEVENT
DTSTART;TZID=America/Chicago:20190928T000000
DTEND;TZID=America/Chicago:20190929T000000
DTSTAMP:20260423T065008
CREATED:20250612T023006Z
LAST-MODIFIED:20250612T023006Z
UID:10010060-1569628800-1569715200@essft.com
SUMMARY:Southern Michigan Springer Spaniel Training Club (SMSSTC)
DESCRIPTION:Entries Close: Tuesday\, September 17\, 2019 11:59:59 PM Eastern Time(ET)  on Hunt Secretary \nJudges:   Daryl Roth and David Sanford\n  \n\n		\n			\n			\n		\n\n		\n 
URL:https://essft.com/event/southern-michigan-springer-spaniel-training-club-smsstc-2/
LOCATION:Oregon
CATEGORIES:Field Trials - Mid East
END:VEVENT
BEGIN:VEVENT
DTSTART;TZID=America/Chicago:20190928T000000
DTEND;TZID=America/Chicago:20190929T000000
DTSTAMP:20260423T065008
CREATED:20250612T023006Z
LAST-MODIFIED:20250612T023006Z
UID:10010058-1569628800-1569715200@essft.com
SUMMARY:Northeast Wisconsin Spaniel Club
DESCRIPTION:Entries Close: Monday\, September 16\, 2019 11:59:59 PM Eastern Time(ET) on Hunt Secretary \nJudges:  Dan Tuttle and Bob Fink\n  \nWe will have a $5 bag lunch available \n6 inch Subway club sandwich. \nChips \nCookies \nWater \nPlease RSVP to mark@mooreagphotos.com by Thursday. \n 
URL:https://essft.com/event/northeast-wisconsin-spaniel-club-2/
LOCATION:Besadny Fish and Wildlife Area\, Kewaunee\, WI 54216\, USA\, Kewaunee\, Wisconsin\, 54216\, United States
CATEGORIES:Field Trials - Mid West
ORGANIZER;CN="Mark Moore":MAILTO:mark@mooreagphotos.com
GEO:44.458332;-87.50314
X-APPLE-STRUCTURED-LOCATION;VALUE=URI;X-ADDRESS=Besadny Fish and Wildlife Area Kewaunee WI 54216 USA Kewaunee Wisconsin 54216 United States;X-APPLE-RADIUS=500;X-TITLE=Kewaunee\, WI 54216\, USA:geo:-87.50314,44.458332
END:VEVENT
BEGIN:VEVENT
DTSTART;TZID=America/Chicago:20190928T000000
DTEND;TZID=America/Chicago:20190929T000000
DTSTAMP:20260423T065008
CREATED:20250612T023005Z
LAST-MODIFIED:20250612T023005Z
UID:10010056-1569628800-1569715200@essft.com
SUMMARY:Bushy Hill Springer Spaniel Field Trial Association
DESCRIPTION:Entries Close: Tuesday\, September 17\, 2019 11:59:59 PM Eastern Time(ET) on Hunt Secretary \nJudges:  Bob MacDonald and Garry Soper
URL:https://essft.com/event/bushy-hill-springer-spaniel-field-trial-association-3/
LOCATION:Richard Stewart Farm\, Canisteo\, NY\, Event Location: Richard Stewart Farm Canisteo\, NY\, Canisteo\, NY\, United States
CATEGORIES:Field Trials - East
ORGANIZER;CN="Suzanne Smith":MAILTO:ssmith@interimhealthcr.com
GEO:42.241749;-77.539013
X-APPLE-STRUCTURED-LOCATION;VALUE=URI;X-ADDRESS=Richard Stewart Farm Canisteo NY Event Location: Richard Stewart Farm Canisteo NY Canisteo NY United States;X-APPLE-RADIUS=500;X-TITLE=Event Location: Richard Stewart Farm Canisteo\, NY:geo:-77.539013,42.241749
END:VEVENT
BEGIN:VEVENT
DTSTART;TZID=America/Chicago:20190928T000000
DTEND;TZID=America/Chicago:20190929T000000
DTSTAMP:20260423T065008
CREATED:20250612T023005Z
LAST-MODIFIED:20250612T023005Z
UID:10010057-1569628800-1569715200@essft.com
SUMMARY:Sudbury & District Kennel Club Inc. - Spaniels
DESCRIPTION:https://www.dogshow.ca/en/2021?club=Sudbury-and-District-Kennel-Club-Inc.—Spaniels \n 
URL:https://essft.com/event/sudbury-district-kennel-club-inc-spaniels-2/
LOCATION:Oregon
CATEGORIES:Canadian FT
END:VEVENT
BEGIN:VEVENT
DTSTART;TZID=America/Chicago:20190928T000000
DTEND;TZID=America/Chicago:20190929T000000
DTSTAMP:20260423T065008
CREATED:20250612T022804Z
LAST-MODIFIED:20250612T022804Z
UID:10010055-1569628800-1569715200@essft.com
SUMMARY:AKC Week 39
DESCRIPTION:
URL:https://essft.com/event/akc-week-39-3/
LOCATION:Oregon
END:VEVENT
BEGIN:VEVENT
DTSTART;TZID=America/Chicago:20190927T000000
DTEND;TZID=America/Chicago:20190929T000000
DTSTAMP:20260423T065008
CREATED:20250612T022804Z
LAST-MODIFIED:20250612T022804Z
UID:10010053-1569542400-1569715200@essft.com
SUMMARY:Pawnee Flushing Spaniel Club
DESCRIPTION:Entries Close: Monday\, September 16\, 2019 11:59:59 PM Eastern Time(ET) on Hunt Secretary \nJudges: \n Click here for Trial #1 Entry on Hunt Sec.: Rumi Schroeher(WI) & Brent LeMaster (OH) \nClick here for  Trial #2 on Hunt Sec.: Jon Cook (MA) & Joe Stallman (MN)  \n\n		\n			\n			\n		\n\n		\n\n		\n			\n			\n		\n\n		\n\n		\n			\n			\n		\n\n		\n  \n \n  \n  \n 
URL:https://essft.com/event/pawnee-flushing-spaniel-club-3/
LOCATION:Oregon
CATEGORIES:Field Trials - Rocky Mountain
END:VEVENT
BEGIN:VEVENT
DTSTART;TZID=America/Chicago:20190927T000000
DTEND;TZID=America/Chicago:20190928T000000
DTSTAMP:20260423T065008
CREATED:20250612T022804Z
LAST-MODIFIED:20250612T022804Z
UID:10010052-1569542400-1569628800@essft.com
SUMMARY:Timpanogos Hunting Spaniel Club
DESCRIPTION:Entries Close: With the Field Trial Secretary at 11 p.m. MDT\, Wednesday\, September 18th\, 2019 \nJudges: Casey Butz and Alex Cacchio\nPlease be aware that we will run the first 2 series of the Springers followed by the first 2 series of the cockers followed by the Springer puppies (3 entries) then the third series.  Lunch will begin at 11:00 a.m. and be available until 1:00 p.m. (or longer) on the grounds. \nWe plan to start as close to 07:00 with the Springers each morning as daylight will allow due to the large number of entries. \nWe will have shuttles available for dogs and handlers.  \n\n		\n			\n			\n		\n\n		\n  \n\n		\n			\n			\n		\n\n		\n  \n\n		\n			\n			\n		\n\n		\n  \n\n		\n			\n			\n		\n\n		\n  \n\n		\n			\n			\n		\n\n		\n  \n\n		\n			\n			\n		\n\n		\n  \n\n		\n			\n			\n		\n\n		\n  \n\n		\n			\n			\n		\n\n		\n 
URL:https://essft.com/event/timpanogos-hunting-spaniel-club-9/
LOCATION:Clarkston Trial Grounds\, 4900 W 11000 N\, Clarkston\, UT 84305\, USA\, Clarkston\, Utah\, 84305\, United States
CATEGORIES:Field Trials - West
GEO:41.931805;-112.01117
X-APPLE-STRUCTURED-LOCATION;VALUE=URI;X-ADDRESS=Clarkston Trial Grounds 4900 W 11000 N Clarkston UT 84305 USA Clarkston Utah 84305 United States;X-APPLE-RADIUS=500;X-TITLE=4900 W 11000 N\, Clarkston\, UT 84305\, USA:geo:-112.01117,41.931805
END:VEVENT
BEGIN:VEVENT
DTSTART;TZID=America/Chicago:20190927T000000
DTEND;TZID=America/Chicago:20190928T000000
DTSTAMP:20260423T065008
CREATED:20250612T022804Z
LAST-MODIFIED:20250612T022804Z
UID:10010054-1569542400-1569628800@essft.com
SUMMARY:Cocker: Timpanogos Spaniel Club
DESCRIPTION:Entries Close: at 11 p.m. MDT\, Wednesday \, September 18th\, 2019 \nThere are 2 Open Cocker Trials  Event # 2019705306 & Event # 2019705307. Please look at the entry forms in the packet. \nMail entries with check (US funds only) to: \n“THSC” \nc/o Kurt Price\, Field Trial Secretary \n2399 West 900 North\, Layton\, UT  84041 \nPhone:  (801) 510-6416 – bowmanrx@xmission.com \n  \nJudges:  Casey Butz and Alex Cacchio\n\n		\n			\n			\n		\n\n		\n 
URL:https://essft.com/event/cocker-timpanogos-spaniel-club/
LOCATION:Oregon
CATEGORIES:Cocker Trial
END:VEVENT
BEGIN:VEVENT
DTSTART;TZID=America/Chicago:20190926T000000
DTEND;TZID=America/Chicago:20190927T000000
DTSTAMP:20260423T065008
CREATED:20250612T022804Z
LAST-MODIFIED:20250612T022804Z
UID:10010051-1569456000-1569542400@essft.com
SUMMARY:Spaniel Association of Western New York
DESCRIPTION:Entries Close: Monday\, September 16\, 2019 11:59:59 PM Eastern Time(ET) on Hunt Secretary \nJudges: Ralph Botti and Deborah Olszewski\n 
URL:https://essft.com/event/spaniel-association-of-western-new-york-2/
LOCATION:One Forty Five North LLC\, 8045 Tonawanda Creek Rd\, Lockport\, NY 14094\, USA\, Lockport\, New York\, 14094\, United States
CATEGORIES:Field Trials - East
GEO:43.08423;-78.589279
X-APPLE-STRUCTURED-LOCATION;VALUE=URI;X-ADDRESS=One Forty Five North LLC 8045 Tonawanda Creek Rd Lockport NY 14094 USA Lockport New York 14094 United States;X-APPLE-RADIUS=500;X-TITLE=8045 Tonawanda Creek Rd\, Lockport\, NY 14094\, USA:geo:-78.589279,43.08423
END:VEVENT
END:VCALENDAR