BEGIN:VCALENDAR
VERSION:2.0
PRODID:-//English Springer Spaniel Field Trials - ECPv6.15.20//NONSGML v1.0//EN
CALSCALE:GREGORIAN
METHOD:PUBLISH
X-WR-CALNAME:English Springer Spaniel Field Trials
X-ORIGINAL-URL:https://essft.com
X-WR-CALDESC:Events for English Springer Spaniel Field Trials
REFRESH-INTERVAL;VALUE=DURATION:PT1H
X-Robots-Tag:noindex
X-PUBLISHED-TTL:PT1H
BEGIN:VTIMEZONE
TZID:America/Chicago
BEGIN:DAYLIGHT
TZOFFSETFROM:-0600
TZOFFSETTO:-0500
TZNAME:CDT
DTSTART:20180311T080000
END:DAYLIGHT
BEGIN:STANDARD
TZOFFSETFROM:-0500
TZOFFSETTO:-0600
TZNAME:CST
DTSTART:20181104T070000
END:STANDARD
BEGIN:DAYLIGHT
TZOFFSETFROM:-0600
TZOFFSETTO:-0500
TZNAME:CDT
DTSTART:20190310T080000
END:DAYLIGHT
BEGIN:STANDARD
TZOFFSETFROM:-0500
TZOFFSETTO:-0600
TZNAME:CST
DTSTART:20191103T070000
END:STANDARD
BEGIN:DAYLIGHT
TZOFFSETFROM:-0600
TZOFFSETTO:-0500
TZNAME:CDT
DTSTART:20200308T080000
END:DAYLIGHT
BEGIN:STANDARD
TZOFFSETFROM:-0500
TZOFFSETTO:-0600
TZNAME:CST
DTSTART:20201101T070000
END:STANDARD
END:VTIMEZONE
BEGIN:VEVENT
DTSTART;TZID=America/Chicago:20190622T000000
DTEND;TZID=America/Chicago:20190623T000000
DTSTAMP:20260423T102613
CREATED:20250612T020135Z
LAST-MODIFIED:20250612T020136Z
UID:10009982-1561161600-1561248000@essft.com
SUMMARY:AKC Week 25
DESCRIPTION:
URL:https://essft.com/event/akc-week-25-2/
LOCATION:Utah
END:VEVENT
BEGIN:VEVENT
DTSTART;TZID=America/Chicago:20190622T000000
DTEND;TZID=America/Chicago:20190623T000000
DTSTAMP:20260423T102613
CREATED:20250612T020135Z
LAST-MODIFIED:20250612T020136Z
UID:10009983-1561161600-1561248000@essft.com
SUMMARY:Calgary English Springer Spaniel Club Inc
DESCRIPTION:https://www.dogshow.ca/en/2023?club=Calgary-English-Springer-Spaniel-Club-Inc.
URL:https://essft.com/event/calgary-english-springer-spaniel-club-inc-2/
LOCATION:Utah
CATEGORIES:Canadian FT
END:VEVENT
BEGIN:VEVENT
DTSTART;TZID=America/Chicago:20190622T000000
DTEND;TZID=America/Chicago:20190623T000000
DTSTAMP:20260423T102613
CREATED:20250612T020135Z
LAST-MODIFIED:20250612T020136Z
UID:10009984-1561161600-1561248000@essft.com
SUMMARY:Cancelled  - Valley ESS Club Hunt Test
DESCRIPTION:
URL:https://essft.com/event/cancelled-valley-ess-club-hunt-test/
LOCATION:Utah
CATEGORIES:Hunt Tests
END:VEVENT
BEGIN:VEVENT
DTSTART;TZID=America/Chicago:20190621T000000
DTEND;TZID=America/Chicago:20190623T000000
DTSTAMP:20260423T102613
CREATED:20250612T020135Z
LAST-MODIFIED:20250612T020135Z
UID:10009981-1561075200-1561248000@essft.com
SUMMARY:Training Seminar with Ray Cacchio
DESCRIPTION:Training Seminar with Ray Cacchio\nJune 21\,22 and 23 2019\nat Windrift Farm – Cochranton\, Pa. 16314 \n  \nAll the spaces for handlers bringing dogs are FULL.  Still taking reservations for anyone wanting to come as an auditor / spectator.\n  \nPlease go to www.windriftspaniels.com for\nclinic information and registration form
URL:https://essft.com/event/training-seminar-with-ray-cacchio/
LOCATION:Utah
CATEGORIES:Training Seminar
END:VEVENT
BEGIN:VEVENT
DTSTART;TZID=America/Chicago:20190616T000000
DTEND;TZID=America/Chicago:20190616T000000
DTSTAMP:20260423T102613
CREATED:20250612T020132Z
LAST-MODIFIED:20250612T020132Z
UID:10009980-1560643200-1560643200@essft.com
SUMMARY:Father's Day
DESCRIPTION:
URL:https://essft.com/event/fathers-day/
LOCATION:Utah
CATEGORIES:Holidays
END:VEVENT
BEGIN:VEVENT
DTSTART;TZID=America/Chicago:20190615T000000
DTEND;TZID=America/Chicago:20190617T000000
DTSTAMP:20260423T102613
CREATED:20250612T020131Z
LAST-MODIFIED:20250612T020131Z
UID:10009978-1560556800-1560729600@essft.com
SUMMARY:Eastern Slopes Spaniel Association - Hunt Test
DESCRIPTION:https://dogshow.ca/en/1975?club=Eastern-Slopes-Spaniel-Association
URL:https://essft.com/event/eastern-slopes-spaniel-association-hunt-test/
LOCATION:Utah
END:VEVENT
BEGIN:VEVENT
DTSTART;TZID=America/Chicago:20190615T000000
DTEND;TZID=America/Chicago:20190616T000000
DTSTAMP:20260423T102613
CREATED:20250612T020131Z
LAST-MODIFIED:20250612T020131Z
UID:10009979-1560556800-1560643200@essft.com
SUMMARY:Maine Spaniel Field Trial Club   HUNT TESTS
DESCRIPTION:
URL:https://essft.com/event/maine-spaniel-field-trial-club-hunt-tests-2/
LOCATION:Utah
CATEGORIES:Hunt Tests
END:VEVENT
BEGIN:VEVENT
DTSTART;TZID=America/Chicago:20190615T000000
DTEND;TZID=America/Chicago:20190616T000000
DTSTAMP:20260423T102613
CREATED:20250611T205458Z
LAST-MODIFIED:20250612T020131Z
UID:10009977-1560556800-1560643200@essft.com
SUMMARY:Central Ontario Spaniel Club
DESCRIPTION:Amateur All Age\, Puppy Limited & Water Test \nFor more information: \nhttps://www.dogshow.ca/en/1919?club=Central-Ontario-Spaniel-Club
URL:https://essft.com/event/central-ontario-spaniel-club-4/
LOCATION:Utah
CATEGORIES:Canadian FT
END:VEVENT
BEGIN:VEVENT
DTSTART;TZID=America/Chicago:20190615T000000
DTEND;TZID=America/Chicago:20190616T000000
DTSTAMP:20260423T102613
CREATED:20250611T205458Z
LAST-MODIFIED:20250612T020131Z
UID:10009976-1560556800-1560643200@essft.com
SUMMARY:AKC Week 24
DESCRIPTION:
URL:https://essft.com/event/akc-week-24-2/
LOCATION:Utah
END:VEVENT
BEGIN:VEVENT
DTSTART;TZID=America/Chicago:20190608T000000
DTEND;TZID=America/Chicago:20190609T000000
DTSTAMP:20260423T102613
CREATED:20250611T205457Z
LAST-MODIFIED:20250611T205457Z
UID:10009973-1559952000-1560038400@essft.com
SUMMARY:AKC Week 23
DESCRIPTION:
URL:https://essft.com/event/akc-week-23-2/
LOCATION:Utah
END:VEVENT
BEGIN:VEVENT
DTSTART;TZID=America/Chicago:20190608T000000
DTEND;TZID=America/Chicago:20190609T000000
DTSTAMP:20260423T102613
CREATED:20250611T205457Z
LAST-MODIFIED:20250611T205457Z
UID:10009974-1559952000-1560038400@essft.com
SUMMARY:Eastern Slopes Spaniel Association
DESCRIPTION:For more information: \nhttps://www.dogshow.ca/en/1974?club=Eastern-Slopes-Spaniel-Association \n 
URL:https://essft.com/event/eastern-slopes-spaniel-association-6/
LOCATION:Utah
CATEGORIES:Canadian FT
END:VEVENT
BEGIN:VEVENT
DTSTART;TZID=America/Chicago:20190608T000000
DTEND;TZID=America/Chicago:20190609T000000
DTSTAMP:20260423T102613
CREATED:20250611T205457Z
LAST-MODIFIED:20250611T205457Z
UID:10009975-1559952000-1560038400@essft.com
SUMMARY:Sudbury & District Kennel Club Inc. - Spaniels
DESCRIPTION:For more information:\nhttps://www.dogshow.ca/en/1963?club=Sudbury-and-District-Kennel-Club-Inc.—Spaniels \n  \nJudges:  \nCindy Goode-Wilson\, Canisteo\, NY 14823\nGary Wilson\,  Canisteo\, NY 14823\nPaul McGagh\, Bismarck\, ND 58504\nJustin Smith\, Burgettstown\, PA 15021
URL:https://essft.com/event/sudbury-district-kennel-club-inc-spaniels/
LOCATION:Utah
CATEGORIES:Canadian FT
END:VEVENT
BEGIN:VEVENT
DTSTART;TZID=America/Chicago:20190607T000000
DTEND;TZID=America/Chicago:20190609T000000
DTSTAMP:20260423T102613
CREATED:20250611T205256Z
LAST-MODIFIED:20250611T205256Z
UID:10009971-1559865600-1560038400@essft.com
SUMMARY:Central Maine Spaniel Club
DESCRIPTION:This is a Springer/Cocker combined weekend.\n  \nEntries Close: 11:30 PM Eastern Time on 05/27/2019 Entry Express \nJudges: Kevin Martineau / Jeff Miller D.V.M. \n  \n\n		\n			\n			\n		\n\n		\n  \n\n		\n			\n			\n		\n\n		\n  \n\n		\n			\n			\n		\n\n		\n  \n  \n  \n\n		\n			\n			\n		\n\n		\n 
URL:https://essft.com/event/central-maine-spaniel-club-4/
LOCATION:Poland Springs Grounds\, Hollis\, ME\, USA\, Hollis\, Maine\, United States
CATEGORIES:Field Trials - East
GEO:43.634675;-70.620897
X-APPLE-STRUCTURED-LOCATION;VALUE=URI;X-ADDRESS=Poland Springs Grounds Hollis ME USA Hollis Maine United States;X-APPLE-RADIUS=500;X-TITLE=Hollis\, ME\, USA:geo:-70.620897,43.634675
END:VEVENT
BEGIN:VEVENT
DTSTART;TZID=America/Chicago:20190607T000000
DTEND;TZID=America/Chicago:20190609T000000
DTSTAMP:20260423T102613
CREATED:20250611T205256Z
LAST-MODIFIED:20250611T205256Z
UID:10009972-1559865600-1560038400@essft.com
SUMMARY:COCKER Central Maine Spaniel Club
DESCRIPTION:This is a Springer/Cocker combined weekend.\n  \nEntries Close: 11:30 PM Eastern Time on 05/27/2019 Entry Express \nJudges: Kevin Martineau / Jeff Miller D.V.M. \n\n		\n			\n			\n		\n\n		\n 
URL:https://essft.com/event/cocker-central-maine-spaniel-club/
LOCATION:Utah
CATEGORIES:Cocker Trial
END:VEVENT
BEGIN:VEVENT
DTSTART;TZID=America/Chicago:20190601T000000
DTEND;TZID=America/Chicago:20190602T000000
DTSTAMP:20260423T102614
CREATED:20250611T205256Z
LAST-MODIFIED:20250611T205256Z
UID:10009970-1559347200-1559433600@essft.com
SUMMARY:North Dakota Sporting Spaniel Club
DESCRIPTION:
URL:https://essft.com/event/north-dakota-sporting-spaniel-club-4/
LOCATION:Utah
CATEGORIES:Hunt Tests
END:VEVENT
BEGIN:VEVENT
DTSTART;TZID=America/Chicago:20190601T000000
DTEND;TZID=America/Chicago:20190602T000000
DTSTAMP:20260423T102614
CREATED:20250611T205256Z
LAST-MODIFIED:20250611T205256Z
UID:10009968-1559347200-1559433600@essft.com
SUMMARY:Pittsburgh  Hunt Test
DESCRIPTION:Entries Close:     https://www.huntsecretary.com/eventinfo_A.asp?mhuntid=1003422 \n  \n\n		\n			\n			\n		\n\n		\n  \n\n		\n			\n			\n		\n\n		\n 
URL:https://essft.com/event/pittsburgh-hunt-test/
LOCATION:Utah
CATEGORIES:Hunt Tests
ORGANIZER;CN="Justin Smith":MAILTO:pittsburghhuntingspaniels@yahoo.com
END:VEVENT
BEGIN:VEVENT
DTSTART;TZID=America/Chicago:20190601T000000
DTEND;TZID=America/Chicago:20190602T000000
DTSTAMP:20260423T102614
CREATED:20250611T205055Z
LAST-MODIFIED:20250611T205055Z
UID:10009966-1559347200-1559433600@essft.com
SUMMARY:AKC Week 22
DESCRIPTION:
URL:https://essft.com/event/akc-week-22-2/
LOCATION:Utah
END:VEVENT
BEGIN:VEVENT
DTSTART;TZID=America/Chicago:20190601T000000
DTEND;TZID=America/Chicago:20190602T000000
DTSTAMP:20260423T102614
CREATED:20250611T205055Z
LAST-MODIFIED:20250611T205055Z
UID:10009967-1559347200-1559433600@essft.com
SUMMARY:Club de Chiens de Chasse de Quebec
DESCRIPTION:For more information:\nhttps://www.dogshow.ca/en/1918?club=Club-de-Chiens-de-Chasse-de-Quebec
URL:https://essft.com/event/club-de-chiens-de-chasse-de-quebec-2/
LOCATION:Utah
CATEGORIES:Canadian FT
END:VEVENT
BEGIN:VEVENT
DTSTART;TZID=America/Chicago:20190601T000000
DTEND;TZID=America/Chicago:20190601T000000
DTSTAMP:20260423T102614
CREATED:20250611T205256Z
LAST-MODIFIED:20250611T205256Z
UID:10009969-1559347200-1559347200@essft.com
SUMMARY:Pittsburgh  Water Test
DESCRIPTION:Entries Close:  TBD   on Hunt Secretary. \n  \nPlease be patient. Waiting for information from the Field Trial Secretary.
URL:https://essft.com/event/pittsburgh-water-test-2/
LOCATION:Utah
CATEGORIES:Water Test
END:VEVENT
BEGIN:VEVENT
DTSTART;TZID=America/Chicago:20190527T000000
DTEND;TZID=America/Chicago:20190527T000000
DTSTAMP:20260423T102614
CREATED:20250611T205055Z
LAST-MODIFIED:20250611T205055Z
UID:10009965-1558915200-1558915200@essft.com
SUMMARY:Memorial Day
DESCRIPTION:
URL:https://essft.com/event/memorial-day/
LOCATION:Utah
CATEGORIES:Holidays
END:VEVENT
BEGIN:VEVENT
DTSTART;TZID=America/Chicago:20190526T000000
DTEND;TZID=America/Chicago:20190527T000000
DTSTAMP:20260423T102614
CREATED:20250611T205055Z
LAST-MODIFIED:20250611T205055Z
UID:10009964-1558828800-1558915200@essft.com
SUMMARY:Western Washington English Springer Spaniel Club Hunt Test
DESCRIPTION:Entries Close: Monday\, May 13\, 2019 11:59:59 PM Eastern Time(ET) \nhttps://www.huntsecretary.com/eventinfo_a.asp?mhuntid=1003393
URL:https://essft.com/event/western-washington-english-springer-spaniel-club-hunt-test/
LOCATION:Scatter Creek WDFW North Unit\, Rochester\, WA 98579\, USA\, Rochester\, Washington\, 98579\, United States
CATEGORIES:Hunt Tests
GEO:46.828064;-123.07553
X-APPLE-STRUCTURED-LOCATION;VALUE=URI;X-ADDRESS=Scatter Creek WDFW North Unit Rochester WA 98579 USA Rochester Washington 98579 United States;X-APPLE-RADIUS=500;X-TITLE=Rochester\, WA 98579\, USA:geo:-123.07553,46.828064
END:VEVENT
BEGIN:VEVENT
DTSTART;TZID=America/Chicago:20190525T000000
DTEND;TZID=America/Chicago:20190526T000000
DTSTAMP:20260423T102614
CREATED:20250611T204854Z
LAST-MODIFIED:20250611T204854Z
UID:10009962-1558742400-1558828800@essft.com
SUMMARY:Central Ontario Spaniel Club
DESCRIPTION:Open All Age\, Puppy Limited & Water Test \n  \nFor more information: \nhttps://www.dogshow.ca/en/1917?club=Central-Ontario-Spaniel-Club
URL:https://essft.com/event/central-ontario-spaniel-club-3/
LOCATION:Utah
CATEGORIES:Canadian FT
END:VEVENT
BEGIN:VEVENT
DTSTART;TZID=America/Chicago:20190525T000000
DTEND;TZID=America/Chicago:20190525T000000
DTSTAMP:20260423T102614
CREATED:20250611T205055Z
LAST-MODIFIED:20250611T205055Z
UID:10009963-1558742400-1558742400@essft.com
SUMMARY:West Allis Training Kennel Club  HUNT TESTS
DESCRIPTION:Entries Close:    Tuesday\, May 14\, 2019 11:59:59 PM Eastern Time(ET)on Hunt Secretary \nhttps://www.huntsecretary.com/eventinfo_A.asp?mhuntid=1003271
URL:https://essft.com/event/west-allis-training-kennel-club-hunt-tests/
LOCATION:Utah
CATEGORIES:Hunt Tests
END:VEVENT
BEGIN:VEVENT
DTSTART;TZID=America/Chicago:20190525T000000
DTEND;TZID=America/Chicago:20190525T000000
DTSTAMP:20260423T102614
CREATED:20250611T204854Z
LAST-MODIFIED:20250611T204854Z
UID:10009961-1558742400-1558742400@essft.com
SUMMARY:AKC Week 21
DESCRIPTION:
URL:https://essft.com/event/akc-week-21-2/
LOCATION:Utah
END:VEVENT
BEGIN:VEVENT
DTSTART;TZID=America/Chicago:20190524T000000
DTEND;TZID=America/Chicago:20190525T000000
DTSTAMP:20260423T102614
CREATED:20250611T204854Z
LAST-MODIFIED:20250611T204854Z
UID:10009960-1558656000-1558742400@essft.com
SUMMARY:Cascade English Cocker Spaniel Fanciers Hunt Test
DESCRIPTION:Entries Close: Monday\, May 13\, 2019 11:59:59 PM Eastern Time(ET) \nhttps://www.huntsecretary.com/eventinfo_A.asp?mhuntid=1003399
URL:https://essft.com/event/cascade-english-cocker-spaniel-fanciers-hunt-test/
LOCATION:Scatter Creek WDFW North Unit\, Rochester\, WA 98579\, USA\, Rochester\, Washington\, 98579\, United States
CATEGORIES:Hunt Tests
GEO:46.828064;-123.07553
X-APPLE-STRUCTURED-LOCATION;VALUE=URI;X-ADDRESS=Scatter Creek WDFW North Unit Rochester WA 98579 USA Rochester Washington 98579 United States;X-APPLE-RADIUS=500;X-TITLE=Rochester\, WA 98579\, USA:geo:-123.07553,46.828064
END:VEVENT
BEGIN:VEVENT
DTSTART;TZID=America/Chicago:20190518T000000
DTEND;TZID=America/Chicago:20190519T000000
DTSTAMP:20260423T102614
CREATED:20250611T204854Z
LAST-MODIFIED:20250611T204854Z
UID:10009959-1558137600-1558224000@essft.com
SUMMARY:Central Connecticut Spaniel Club - Hunt Tests
DESCRIPTION:
URL:https://essft.com/event/central-connecticut-spaniel-club-hunt-tests-2/
LOCATION:Utah
CATEGORIES:Hunt Tests
ORGANIZER;CN="Deborah Olszewski":MAILTO:dmoski@aol.com
END:VEVENT
BEGIN:VEVENT
DTSTART;TZID=America/Chicago:20190518T000000
DTEND;TZID=America/Chicago:20190519T000000
DTSTAMP:20260423T102614
CREATED:20250611T204653Z
LAST-MODIFIED:20250611T204653Z
UID:10009953-1558137600-1558224000@essft.com
SUMMARY:AKC Week 20
DESCRIPTION:
URL:https://essft.com/event/akc-week-20-2/
LOCATION:Utah
END:VEVENT
BEGIN:VEVENT
DTSTART;TZID=America/Chicago:20190518T000000
DTEND;TZID=America/Chicago:20190519T000000
DTSTAMP:20260423T102614
CREATED:20250611T204653Z
LAST-MODIFIED:20250611T204653Z
UID:10009954-1558137600-1558224000@essft.com
SUMMARY:Northern Minnesota English Springer Spaniel Club
DESCRIPTION:Entries Close:  Tuesday May 7\, 2019 on Hunt Secretary \nJudges: Chuck Petrmichl and Bill Cosgrove\nPuppy judges: Mark Mercie and Ryan Lamberg \nYouth judges: Katie Gorecki and Mark Mercie \n\n		\n			\n			\n		\n\n		\n  \n\n		\n			\n			\n		\n\n		\n  \n\n		\n			\n			\n		\n\n		\n  \n  \n 
URL:https://essft.com/event/northern-minnesota-english-springer-spaniel-club-2/
LOCATION:Major Ave Hunt Club\, 11721 Major Ave\, Glencoe\, MN 55336\, USA\, Glencoe\, Minnesota\, 55336\, United States
CATEGORIES:Field Trials - Mid West
ORGANIZER;CN="Sophie Haglin":MAILTO:mark@pineshadows.com
GEO:44.784868;-94.277116
X-APPLE-STRUCTURED-LOCATION;VALUE=URI;X-ADDRESS=Major Ave Hunt Club 11721 Major Ave Glencoe MN 55336 USA Glencoe Minnesota 55336 United States;X-APPLE-RADIUS=500;X-TITLE=11721 Major Ave\, Glencoe\, MN 55336\, USA:geo:-94.277116,44.784868
END:VEVENT
BEGIN:VEVENT
DTSTART;TZID=America/Chicago:20190518T000000
DTEND;TZID=America/Chicago:20190519T000000
DTSTAMP:20260423T102614
CREATED:20250611T204653Z
LAST-MODIFIED:20250611T204653Z
UID:10009955-1558137600-1558224000@essft.com
SUMMARY:South Western Ontario Spaniel Club
DESCRIPTION:For more information: \nhttps://www.dogshow.ca/en/1953?club=South-Western-Ontario-Spaniel-Club
URL:https://essft.com/event/south-western-ontario-spaniel-club-3/
LOCATION:Utah
CATEGORIES:Canadian FT
END:VEVENT
BEGIN:VEVENT
DTSTART;TZID=America/Chicago:20190518T000000
DTEND;TZID=America/Chicago:20190519T000000
DTSTAMP:20260423T102614
CREATED:20250611T204653Z
LAST-MODIFIED:20250611T204653Z
UID:10009956-1558137600-1558224000@essft.com
SUMMARY:Calgary English Springer Spaniel Club Inc
DESCRIPTION:https://www.dogshow.ca/en/2022?club=Calgary-English-Springer-Spaniel-Club-Inc.
URL:https://essft.com/event/calgary-english-springer-spaniel-club-inc/
LOCATION:Utah
CATEGORIES:Canadian FT
END:VEVENT
END:VCALENDAR