BEGIN:VCALENDAR
VERSION:2.0
PRODID:-//English Springer Spaniel Field Trials - ECPv6.15.20//NONSGML v1.0//EN
CALSCALE:GREGORIAN
METHOD:PUBLISH
X-WR-CALNAME:English Springer Spaniel Field Trials
X-ORIGINAL-URL:https://essft.com
X-WR-CALDESC:Events for English Springer Spaniel Field Trials
REFRESH-INTERVAL;VALUE=DURATION:PT1H
X-Robots-Tag:noindex
X-PUBLISHED-TTL:PT1H
BEGIN:VTIMEZONE
TZID:America/Chicago
BEGIN:DAYLIGHT
TZOFFSETFROM:-0600
TZOFFSETTO:-0500
TZNAME:CDT
DTSTART:20180311T080000
END:DAYLIGHT
BEGIN:STANDARD
TZOFFSETFROM:-0500
TZOFFSETTO:-0600
TZNAME:CST
DTSTART:20181104T070000
END:STANDARD
BEGIN:DAYLIGHT
TZOFFSETFROM:-0600
TZOFFSETTO:-0500
TZNAME:CDT
DTSTART:20190310T080000
END:DAYLIGHT
BEGIN:STANDARD
TZOFFSETFROM:-0500
TZOFFSETTO:-0600
TZNAME:CST
DTSTART:20191103T070000
END:STANDARD
BEGIN:DAYLIGHT
TZOFFSETFROM:-0600
TZOFFSETTO:-0500
TZNAME:CDT
DTSTART:20200308T080000
END:DAYLIGHT
BEGIN:STANDARD
TZOFFSETFROM:-0500
TZOFFSETTO:-0600
TZNAME:CST
DTSTART:20201101T070000
END:STANDARD
END:VTIMEZONE
BEGIN:VEVENT
DTSTART;TZID=America/Chicago:20190420T000000
DTEND;TZID=America/Chicago:20190421T000000
DTSTAMP:20260423T105343
CREATED:20250611T204331Z
LAST-MODIFIED:20250611T204331Z
UID:10009928-1555718400-1555804800@essft.com
SUMMARY:ESSFTA Gunning Seminar Hosted by the Maine Spaniel Field Trial Club
DESCRIPTION:  \nTo print this PDF you must click the Download PDF button  in the gray bar above (the button to the right of Zoom 100%).  Save the document to your computer and then select print from your saved copy.
URL:https://essft.com/event/essfta-gunning-seminar-hosted-by-the-maine-spaniel-field-trial-club/
LOCATION:Trail Blazers Family Club\, 102 Bills Ln\, Wells\, ME 04090\, USA\, Wells\, Maine\, 4090\, United States
CATEGORIES:Gunning Seminars
GEO:43.332647;-70.667877
X-APPLE-STRUCTURED-LOCATION;VALUE=URI;X-ADDRESS=Trail Blazers Family Club 102 Bills Ln Wells ME 04090 USA Wells Maine 4090 United States;X-APPLE-RADIUS=500;X-TITLE=102 Bills Ln\, Wells\, ME 04090\, USA:geo:-70.667877,43.332647
END:VEVENT
BEGIN:VEVENT
DTSTART;TZID=America/Chicago:20190420T000000
DTEND;TZID=America/Chicago:20190421T000000
DTSTAMP:20260423T105343
CREATED:20250611T204331Z
LAST-MODIFIED:20250611T204331Z
UID:10009929-1555718400-1555804800@essft.com
SUMMARY:Lewis and Clark Spaniel Association
DESCRIPTION:Entries Close: 7:00 pm\, April 8\, 2019 with the Field Trial Secretary via US Postal Mail  \n  \nJudges:  Dan Lussen and Tom Ness\n  \n\n		\n			\n			\n		\n\n		\n 
URL:https://essft.com/event/lewis-and-clark-spaniel-association/
LOCATION:Texas
CATEGORIES:Field Trials - Rocky Mountain
END:VEVENT
BEGIN:VEVENT
DTSTART;TZID=America/Chicago:20190420T000000
DTEND;TZID=America/Chicago:20190421T000000
DTSTAMP:20260423T105343
CREATED:20250611T204316Z
LAST-MODIFIED:20250611T204316Z
UID:10009926-1555718400-1555804800@essft.com
SUMMARY:AKC Week 16
DESCRIPTION:
URL:https://essft.com/event/akc-week-16-2/
LOCATION:Texas
END:VEVENT
BEGIN:VEVENT
DTSTART;TZID=America/Chicago:20190420T000000
DTEND;TZID=America/Chicago:20190421T000000
DTSTAMP:20260423T105343
CREATED:20250611T204316Z
LAST-MODIFIED:20250611T204316Z
UID:10009927-1555718400-1555804800@essft.com
SUMMARY:COCKER: Lewis and Clark Spaniel Assoc.
DESCRIPTION:http://www.fieldcockers.com/events2019.html \n3/12:  Lewis & Clark Spaniel Association Cocker Trial (Montana)  New dates are Easter weekend\, Sat 20th and Sun 21st of April.
URL:https://essft.com/event/cocker-lewis-and-clark-spaniel-assoc/
LOCATION:Texas
CATEGORIES:Cocker Trial
END:VEVENT
BEGIN:VEVENT
DTSTART;TZID=America/Chicago:20190419T000000
DTEND;TZID=America/Chicago:20190420T000000
DTSTAMP:20260423T105343
CREATED:20250611T204316Z
LAST-MODIFIED:20250611T204316Z
UID:10009925-1555632000-1555718400@essft.com
SUMMARY:Central Wisconsin Sporting Spaniel Club
DESCRIPTION:Entries Close: Tuesday\, April 9\, 2019 11:59:59 PM Eastern Time(ET) on Hunt Secretary \nJudges: Randy Manore and Richard Paquin     Apprentice Judge:  Rick Schneider\n  \n\n		\n			\n			\n		\n\n		\n  \n[wunderground location=”New Glarus\, WI” numdays=”5″ showdata=”alert\,daynames\,pop\,icon\,highlow\,conditions\,date” layout=”table-horizontal”] \n 
URL:https://essft.com/event/central-wisconsin-sporting-spaniel-club-3/
LOCATION:Oasis Game Farm\, New Glarus\, WI 53574\, USA\, New Glarus\, Wisconsin\, 53574\, United States
CATEGORIES:Field Trials - Mid West
GEO:42.837895;-89.729012
X-APPLE-STRUCTURED-LOCATION;VALUE=URI;X-ADDRESS=Oasis Game Farm New Glarus WI 53574 USA New Glarus Wisconsin 53574 United States;X-APPLE-RADIUS=500;X-TITLE=New Glarus\, WI 53574\, USA:geo:-89.729012,42.837895
END:VEVENT
BEGIN:VEVENT
DTSTART;TZID=America/Chicago:20190413T000000
DTEND;TZID=America/Chicago:20190414T000000
DTSTAMP:20260423T105343
CREATED:20250611T204316Z
LAST-MODIFIED:20250611T204316Z
UID:10009923-1555113600-1555200000@essft.com
SUMMARY:COCKER: Mason Dixon English Cocker Spaniel Club Spring Field Trial
DESCRIPTION:Entries Close: Tuesday\, April 2\, 2019 at 11:59 P.M. Eastern Time(ET) on Hunt Secretary
URL:https://essft.com/event/cocker-mason-dixon-english-cocker-spaniel-club-spring-field-trial/
LOCATION:Texas
CATEGORIES:Cocker Trial
END:VEVENT
BEGIN:VEVENT
DTSTART;TZID=America/Chicago:20190413T000000
DTEND;TZID=America/Chicago:20190414T000000
DTSTAMP:20260423T105343
CREATED:20250611T204316Z
LAST-MODIFIED:20250611T204316Z
UID:10009924-1555113600-1555200000@essft.com
SUMMARY:English Cocker Spaniel Club of America Spaniel Hunt Test
DESCRIPTION:Entries Close: Tuesday\, April 2\, 2019 at 11:59 P.M. Eastern Time(ET) on Hunt Secretary.
URL:https://essft.com/event/english-cocker-spaniel-club-of-america-spaniel-hunt-test/
LOCATION:Texas
CATEGORIES:Hunt Tests
END:VEVENT
BEGIN:VEVENT
DTSTART;TZID=America/Chicago:20190413T000000
DTEND;TZID=America/Chicago:20190414T000000
DTSTAMP:20260423T105343
CREATED:20250611T204302Z
LAST-MODIFIED:20250611T204302Z
UID:10009922-1555113600-1555200000@essft.com
SUMMARY:Springer  Spaniel Club of Central Kansas.
DESCRIPTION:Entries Close: Tuesday\, April 2\, 2019 11:59:59 PM Eastern Time (ET) on Hunt Secretary \n\n		\n			\n			\n		\n\n		\n 
URL:https://essft.com/event/springer-spaniel-club-of-central-kansas-4/
LOCATION:Seltzer Farm\, 23016 Sand Creek Rd\, Pretty Prairie\, KS 67570\, USA\, Pretty Prairie\, Kansas\, 67570\, United States
CATEGORIES:Hunt Tests
GEO:37.790255;-97.895354
X-APPLE-STRUCTURED-LOCATION;VALUE=URI;X-ADDRESS=Seltzer Farm 23016 Sand Creek Rd Pretty Prairie KS 67570 USA Pretty Prairie Kansas 67570 United States;X-APPLE-RADIUS=500;X-TITLE=23016 Sand Creek Rd\, Pretty Prairie\, KS 67570\, USA:geo:-97.895354,37.790255
END:VEVENT
BEGIN:VEVENT
DTSTART;TZID=America/Chicago:20190413T000000
DTEND;TZID=America/Chicago:20190414T000000
DTSTAMP:20260423T105343
CREATED:20250611T204301Z
LAST-MODIFIED:20250611T204301Z
UID:10009918-1555113600-1555200000@essft.com
SUMMARY:AKC Week 15
DESCRIPTION:
URL:https://essft.com/event/akc-week-15-2/
LOCATION:Texas
END:VEVENT
BEGIN:VEVENT
DTSTART;TZID=America/Chicago:20190413T000000
DTEND;TZID=America/Chicago:20190414T000000
DTSTAMP:20260423T105343
CREATED:20250611T204301Z
LAST-MODIFIED:20250611T204301Z
UID:10009919-1555113600-1555200000@essft.com
SUMMARY:New Jersey Spaniel Field Trial Club
DESCRIPTION:Entries Close:  Tuesday\, April 2\, 2019 at 11:59 P.M. Eastern Time(ET) on Hunt Secretary \nJudges: Ted Lagala and John Lamendola\n  \n\n		\n			\n			\n		\n\n		\n  \n  \n\n		\n			\n			\n		\n\n		\n  \nFuturity Entry Form in MS Word \n 
URL:https://essft.com/event/new-jersey-spaniel-field-trial-club-3/
LOCATION:Jim Boone’s Hunt Club\, Tyrone\, PA 16686\, USA\, Tyrone\, Pennsylvania\, 16686\, United States
CATEGORIES:Field Trials - East
ORGANIZER;CN="Connie Soper":MAILTO:constancesoper@hotmail.com
GEO:40.670618;-78.238624
X-APPLE-STRUCTURED-LOCATION;VALUE=URI;X-ADDRESS=Jim Boone’s Hunt Club Tyrone PA 16686 USA Tyrone Pennsylvania 16686 United States;X-APPLE-RADIUS=500;X-TITLE=Tyrone\, PA 16686\, USA:geo:-78.238624,40.670618
END:VEVENT
BEGIN:VEVENT
DTSTART;TZID=America/Chicago:20190413T000000
DTEND;TZID=America/Chicago:20190414T000000
DTSTAMP:20260423T105343
CREATED:20250611T204301Z
LAST-MODIFIED:20250611T204301Z
UID:10009920-1555113600-1555200000@essft.com
SUMMARY:Northwest English Springer Spaniel Club
DESCRIPTION:Entries Close: Tuesday\, April 2\, 2019 11:59:59 PM Eastern Time(ET) on Hunt Secretary \nJudges:  Raymond Nault and Bob Beauchamp\n\n		\n			\n			\n		\n\n		\n[wunderground location=”Harrisburg\, OR” numdays=”5″ showdata=”alert\,daynames\,pop\,icon\,highlow\,conditions\,date” layout=”table-horizontal”] \n 
URL:https://essft.com/event/northwest-english-springer-spaniel-club-2/
LOCATION:Diamond Hill Wetlands\, Harrisburg\, OR 97446\, USA\, Harrisburg\, Oregon\, 97446\, United States
CATEGORIES:Field Trials - West
ORGANIZER;CN="Paula Mazurek":MAILTO:mtmyst@cablespeed.com
GEO:44.280285;-123.028756
X-APPLE-STRUCTURED-LOCATION;VALUE=URI;X-ADDRESS=Diamond Hill Wetlands Harrisburg OR 97446 USA Harrisburg Oregon 97446 United States;X-APPLE-RADIUS=500;X-TITLE=Harrisburg\, OR 97446\, USA:geo:-123.028756,44.280285
END:VEVENT
BEGIN:VEVENT
DTSTART;TZID=America/Chicago:20190413T000000
DTEND;TZID=America/Chicago:20190414T000000
DTSTAMP:20260423T105343
CREATED:20250611T204301Z
LAST-MODIFIED:20250611T204301Z
UID:10009921-1555113600-1555200000@essft.com
SUMMARY:Minnesota English Springer Spaniel Club
DESCRIPTION:Entries Close: \nJudges: \n  \nWaiting for more information from the Field Trial Secretary.  Thank you for your patience. \n  \n[wunderground location=”Austin\, MN” numdays=”5″ showdata=”alert\,daynames\,pop\,icon\,highlow\,conditions\,date” layout=”table-horizontal”] \n 
URL:https://essft.com/event/minnesota-english-springer-spaniel-club-4/
LOCATION:Texas
CATEGORIES:Field Trials - Mid West
END:VEVENT
BEGIN:VEVENT
DTSTART;TZID=America/Chicago:20190411T000000
DTEND;TZID=America/Chicago:20190411T000000
DTSTAMP:20260423T105343
CREATED:20250611T204102Z
LAST-MODIFIED:20250611T204102Z
UID:10009917-1554940800-1554940800@essft.com
SUMMARY:Poodle Club of America Spaniel Hunt Test
DESCRIPTION:Entries Close: Thursday\, March 28\, 2019 at 11:59 P.M. Eastern Time(ET) on Hunt Secretary
URL:https://essft.com/event/poodle-club-of-america-spaniel-hunt-test/
LOCATION:Texas
CATEGORIES:Hunt Tests
END:VEVENT
BEGIN:VEVENT
DTSTART;TZID=America/Chicago:20190406T000000
DTEND;TZID=America/Chicago:20190407T000000
DTSTAMP:20260423T105343
CREATED:20250611T204102Z
LAST-MODIFIED:20250611T204102Z
UID:10009915-1554508800-1554595200@essft.com
SUMMARY:COCKER: Central Wisconsin Sporting Spaniel Club
DESCRIPTION:Date Change to April 6-7th. \nEntries Close: Tuesday\, March 26\, 2019 at 11:59 P.M. Eastern Time(ET) on Hunt Secretary. \n 
URL:https://essft.com/event/cocker-central-wisconsin-sporting-spaniel-club/
LOCATION:Oasis Game Farm\, New Glarus\, WI 53574\, USA\, New Glarus\, Wisconsin\, 53574\, United States
CATEGORIES:Cocker Trial
GEO:42.837895;-89.729012
X-APPLE-STRUCTURED-LOCATION;VALUE=URI;X-ADDRESS=Oasis Game Farm New Glarus WI 53574 USA New Glarus Wisconsin 53574 United States;X-APPLE-RADIUS=500;X-TITLE=New Glarus\, WI 53574\, USA:geo:-89.729012,42.837895
END:VEVENT
BEGIN:VEVENT
DTSTART;TZID=America/Chicago:20190406T000000
DTEND;TZID=America/Chicago:20190407T000000
DTSTAMP:20260423T105343
CREATED:20250611T204102Z
LAST-MODIFIED:20250611T204102Z
UID:10009916-1554508800-1554595200@essft.com
SUMMARY:Ohio Valley English Springer Spaniel Club
DESCRIPTION:****NEW GROUNDS****\nCunningham Farm is 16 minutes north of Marysville\, Ohio which is west of Columbus on US 33. From Marysville head nothwest on US 33 to US 4. Turn north on US 4 to County Road 347. Turn left on CR 347 head west to Sandusky Road. Turn right on Sandusky Road heading north to 24330 Sundusky Road Marysville OH 43040. \n  \n\n		\n			\n			\n		\n\n		\n  \n  \nEntries Close:  Entries close with the FT Secretary at: 6:00p.m. March 30\, 2019\nNo phone or fax entries accepted \nJudges:  Kevin McGlin  and Bob Merrill\n\n		\n			\n			\n		\n\n		\n  \n\n		\n			\n			\n		\n\n		\n  \n  \n[wunderground location=”Marysville\, OH” numdays=”5″ showdata=”alert\,daynames\,pop\,icon\,highlow\,conditions\,date” layout=”table-horizontal”]
URL:https://essft.com/event/ohio-valley-english-springer-spaniel-club/
LOCATION:Cunningham Farm\, 24330 Sandusky Rd\, Marysville\, OH 43040\, USA\, Marysville\, Ohio\, 43040\, United States
CATEGORIES:Field Trials - Mid East
GEO:40.358621;-83.328942
X-APPLE-STRUCTURED-LOCATION;VALUE=URI;X-ADDRESS=Cunningham Farm 24330 Sandusky Rd Marysville OH 43040 USA Marysville Ohio 43040 United States;X-APPLE-RADIUS=500;X-TITLE=24330 Sandusky Rd\, Marysville\, OH 43040\, USA:geo:-83.328942,40.358621
END:VEVENT
BEGIN:VEVENT
DTSTART;TZID=America/Chicago:20190406T000000
DTEND;TZID=America/Chicago:20190407T000000
DTSTAMP:20260423T105343
CREATED:20250611T204101Z
LAST-MODIFIED:20250611T204101Z
UID:10009914-1554508800-1554595200@essft.com
SUMMARY:AKC Week 14
DESCRIPTION:
URL:https://essft.com/event/akc-week-14-2/
LOCATION:Texas
END:VEVENT
BEGIN:VEVENT
DTSTART;TZID=America/Chicago:20190405T000000
DTEND;TZID=America/Chicago:20190406T000000
DTSTAMP:20260423T105343
CREATED:20250611T204101Z
LAST-MODIFIED:20250611T204101Z
UID:10009913-1554422400-1554508800@essft.com
SUMMARY:Timpanogos Hunting Spaniel Club
DESCRIPTION:Note: There are 2 trials with Springer/Cocker alternating series. \nStart time is now 7:00 am.\n\n		\n			\n			\n		\n\n		\n  \n\n		\n			\n			\n		\n\n		\n  \n  \nEntries Close: 11:00 PM MDT\, Wednesday\, March 27\, 2019 with the Field Trial Secretary via US Postal Mail. \nSpringer Judges: Jerry Livingston and Rumi Schroeder\nCocker Judges:  Robert Child and Rumi Schroeder \n\n		\n			\n			\n		\n\n		\n  \n[wunderground location=”Clarkston\, UT” numdays=”5″ showdata=”alert\,daynames\,pop\,icon\,highlow\,conditions\,date” layout=”table-horizontal”] \n 
URL:https://essft.com/event/timpanogos-hunting-spaniel-club-7/
LOCATION:Clarston Trial Grounds\, Clarkston\, UT 84305\, USA\, Clarkston\, Utah\, 84305\, United States
CATEGORIES:Field Trials - West
ORGANIZER;CN="Kurt Price%2C FTS":MAILTO:bowmanrx@xmission.com
GEO:41.920203;-112.049954
X-APPLE-STRUCTURED-LOCATION;VALUE=URI;X-ADDRESS=Clarston Trial Grounds Clarkston UT 84305 USA Clarkston Utah 84305 United States;X-APPLE-RADIUS=500;X-TITLE=Clarkston\, UT 84305\, USA:geo:-112.049954,41.920203
END:VEVENT
BEGIN:VEVENT
DTSTART;TZID=America/Chicago:20190330T000000
DTEND;TZID=America/Chicago:20190331T000000
DTSTAMP:20260423T105343
CREATED:20250611T204046Z
LAST-MODIFIED:20250611T204046Z
UID:10009910-1553904000-1553990400@essft.com
SUMMARY:Missouri Headwaters Springer Spaniel Club
DESCRIPTION:3/16: Cancelled due to snow \n  \n  \n  \n\n		\n			\n			\n		\n\n		\n  \nNote: There are multiple pages in the PDF  use the arrows at the bottom to scroll up and down. \n[wunderground location=”Clarkston\, MT” numdays=”5″ showdata=”alert\,daynames\,pop\,icon\,highlow\,conditions\,date” layout=”table-horizontal”] \n 
URL:https://essft.com/event/missouri-headwaters-springer-spaniel-club/
LOCATION:Fairweather Fishing Access\, Clarkston\, MT 59752\, USA\, Clarkston\, Montana\, 59752\, United States
CATEGORIES:Field Trials - Rocky Mountain
GEO:46.029928;-111.413575
X-APPLE-STRUCTURED-LOCATION;VALUE=URI;X-ADDRESS=Fairweather Fishing Access Clarkston MT 59752 USA Clarkston Montana 59752 United States;X-APPLE-RADIUS=500;X-TITLE=Clarkston\, MT 59752\, USA:geo:-111.413575,46.029928
END:VEVENT
BEGIN:VEVENT
DTSTART;TZID=America/Chicago:20190330T000000
DTEND;TZID=America/Chicago:20190331T000000
DTSTAMP:20260423T105343
CREATED:20250611T204046Z
LAST-MODIFIED:20250611T204046Z
UID:10009911-1553904000-1553990400@essft.com
SUMMARY:Heart of Texas Spaniel Club - Spaniel Hunt Test
DESCRIPTION:Entries Close: Tuesday\, March 19\, 2019 11:59:59 PM Eastern Time(ET) on Hunt Secretary \n 
URL:https://essft.com/event/heart-of-texas-spaniel-club-spaniel-hunt-test/
LOCATION:Texas
CATEGORIES:Hunt Tests
END:VEVENT
BEGIN:VEVENT
DTSTART;TZID=America/Chicago:20190330T000000
DTEND;TZID=America/Chicago:20190331T000000
DTSTAMP:20260423T105343
CREATED:20250611T204046Z
LAST-MODIFIED:20250611T204046Z
UID:10009912-1553904000-1553990400@essft.com
SUMMARY:COCKER: Fox Valley English Cocker Club Field Trial
DESCRIPTION:Entries Close: Tuesday\, March 19\, 2019 at 11:59 P.M. Eastern Time(ET) on Hunt Secretary
URL:https://essft.com/event/cocker-fox-valley-english-cocker-club-field-trial/
LOCATION:Connolly Game Farm\, Reedsville\, WI 54230\, USA\, Reedsville\, Wisconsin\, 54230\, United States
CATEGORIES:Cocker Trial
GEO:44.153604;-87.956762
X-APPLE-STRUCTURED-LOCATION;VALUE=URI;X-ADDRESS=Connolly Game Farm Reedsville WI 54230 USA Reedsville Wisconsin 54230 United States;X-APPLE-RADIUS=500;X-TITLE=Reedsville\, WI 54230\, USA:geo:-87.956762,44.153604
END:VEVENT
BEGIN:VEVENT
DTSTART;TZID=America/Chicago:20190330T000000
DTEND;TZID=America/Chicago:20190331T000000
DTSTAMP:20260423T105343
CREATED:20250611T204046Z
LAST-MODIFIED:20250611T204046Z
UID:10009908-1553904000-1553990400@essft.com
SUMMARY:Western Washington English Springer Spaniel Club
DESCRIPTION:Note: This is ESS/Cocker alternating series. \nEntries Close: Tuesday\, March 19\, 2019 11:59:59 PM Eastern Time(ET) on Hunt Secretary \nJudges: Kevin Martineau and Michael Wallace\n  \n\n		\n			\n			\n		\n\n		\n  \n  \n[wunderground location=”Rochester\, wA” numdays=”5″ showdata=”alert\,daynames\,pop\,icon\,highlow\,conditions\,date” layout=”table-horizontal”] \n 
URL:https://essft.com/event/western-washington-english-springer-spaniel-club-2/
LOCATION:Scatter Creek Wildlife Area\, Rochester\, WA 98579\, USA\, Rochester\, Washington\, 98579\, United States
CATEGORIES:Field Trials - West
ORGANIZER;CN="Melissa Knapp":MAILTO:melissa.s.knapp@gmail.com
GEO:47.071189;-124.165336
X-APPLE-STRUCTURED-LOCATION;VALUE=URI;X-ADDRESS=Scatter Creek Wildlife Area Rochester WA 98579 USA Rochester Washington 98579 United States;X-APPLE-RADIUS=500;X-TITLE=Rochester\, WA 98579\, USA:geo:-124.165336,47.071189
END:VEVENT
BEGIN:VEVENT
DTSTART;TZID=America/Chicago:20190330T000000
DTEND;TZID=America/Chicago:20190331T000000
DTSTAMP:20260423T105343
CREATED:20250611T204046Z
LAST-MODIFIED:20250611T204046Z
UID:10009909-1553904000-1553990400@essft.com
SUMMARY:Mid-Atlantic Hunting Spaniel Club
DESCRIPTION:Entries Close:  Tuesday\, March 19\, 2019 11:59:59 PM Eastern Time(ET)  Hunt Secretary \nJudges:  Johnny Meyer and Alex Cacchio\n  \n\n		\n			\n			\n		\n\n		\n  \n[wunderground location=”Tyrone\, PA” numdays=”5″ showdata=”alert\,daynames\,pop\,icon\,highlow\,conditions\,date” layout=”table-horizontal”] \n 
URL:https://essft.com/event/mid-atlantic-hunting-spaniel-club-4/
LOCATION:Spring Lane Hunt Club\, Tyrone\, PA 16686\, USA\, Tyrone\, Pennsylvania\, 16686\, United States
CATEGORIES:Field Trials - East
ORGANIZER;CN="Bill Pierson":MAILTO:bill@Pierson.com
GEO:40.670618;-78.238624
X-APPLE-STRUCTURED-LOCATION;VALUE=URI;X-ADDRESS=Spring Lane Hunt Club Tyrone PA 16686 USA Tyrone Pennsylvania 16686 United States;X-APPLE-RADIUS=500;X-TITLE=Tyrone\, PA 16686\, USA:geo:-78.238624,40.670618
END:VEVENT
BEGIN:VEVENT
DTSTART;TZID=America/Chicago:20190330T000000
DTEND;TZID=America/Chicago:20190331T000000
DTSTAMP:20260423T105343
CREATED:20250611T203015Z
LAST-MODIFIED:20250611T203015Z
UID:10009907-1553904000-1553990400@essft.com
SUMMARY:AKC Week 13
DESCRIPTION:
URL:https://essft.com/event/akc-week-13-2/
LOCATION:Texas
END:VEVENT
BEGIN:VEVENT
DTSTART;TZID=America/Chicago:20190329T000000
DTEND;TZID=America/Chicago:20190331T000000
DTSTAMP:20260423T105343
CREATED:20250611T203014Z
LAST-MODIFIED:20250611T203014Z
UID:10009906-1553817600-1553990400@essft.com
SUMMARY:COCKER: Western Washington
DESCRIPTION:Entries Close: Monday\, March 18\, 2019 at 11:59 P.M. Eastern Time(ET) on Hunt Secretary
URL:https://essft.com/event/cocker-western-washington/
LOCATION:Scatter Creek WDFW North Unit\, Rochester\, WA 98579\, USA\, Rochester\, Washington\, 98579\, United States
CATEGORIES:Cocker Trial
ORGANIZER;CN="Melissa Knapp":MAILTO:melissa.s.knapp@gmail.com
GEO:46.828064;-123.07553
X-APPLE-STRUCTURED-LOCATION;VALUE=URI;X-ADDRESS=Scatter Creek WDFW North Unit Rochester WA 98579 USA Rochester Washington 98579 United States;X-APPLE-RADIUS=500;X-TITLE=Rochester\, WA 98579\, USA:geo:-123.07553,46.828064
END:VEVENT
BEGIN:VEVENT
DTSTART;TZID=America/Chicago:20190323T000000
DTEND;TZID=America/Chicago:20190324T000000
DTSTAMP:20260423T105343
CREATED:20250611T203014Z
LAST-MODIFIED:20250611T203014Z
UID:10009903-1553299200-1553385600@essft.com
SUMMARY:Susquehanna Valley
DESCRIPTION:Entries Close:  Monday\, March 11\, 2019 11:59:59 PM CT on EntryExpress \nJudges: Don Mock and Mark Gebert\n  \n\n		\n			\n			\n		\n\n		\n  \n\n		\n			\n			\n		\n\n		\n  \n  \n[wunderground location=”Tyrone\, PA” numdays=”5″ showdata=”alert\,daynames\,pop\,icon\,highlow\,conditions\,date” layout=”table-horizontal”] \n  \n 
URL:https://essft.com/event/susquehanna-valley-3/
LOCATION:Marymont Farms – Sinking Valley\, Tyrone\, PA 16686\, USA\, Tyrone\, Pennsylvania\, 16686\, United States
CATEGORIES:Field Trials - Mid East
ORGANIZER;CN="Bruce Kephart%2C FTS":MAILTO:bkephart@leeind.com
GEO:40.670618;-78.238624
X-APPLE-STRUCTURED-LOCATION;VALUE=URI;X-ADDRESS=Marymont Farms – Sinking Valley Tyrone PA 16686 USA Tyrone Pennsylvania 16686 United States;X-APPLE-RADIUS=500;X-TITLE=Tyrone\, PA 16686\, USA:geo:-78.238624,40.670618
END:VEVENT
BEGIN:VEVENT
DTSTART;TZID=America/Chicago:20190323T000000
DTEND;TZID=America/Chicago:20190324T000000
DTSTAMP:20260423T105343
CREATED:20250611T203014Z
LAST-MODIFIED:20250611T203014Z
UID:10009904-1553299200-1553385600@essft.com
SUMMARY:CANCELLED: Southern Wisconsin Sporting Spaniel Club
DESCRIPTION:March 11\, 2019 – Received word from the club that the trial is now cancelled due to snow.\n  \n  \n  \n\n		\n			\n			\n		\n\n		\n\n		\n			\n			\n		\n\n		\n  \n 
URL:https://essft.com/event/cancelled-southern-wisconsin-sporting-spaniel-club/
LOCATION:Coon Rock Horse & Hunt Club\, 6180 Erdman Rd\, Arena\, WI 53503\, USA\, Arena\, Wisconsin\, 53503\, United States
CATEGORIES:Field Trials - Mid West
GEO:43.088221;-90.022648
X-APPLE-STRUCTURED-LOCATION;VALUE=URI;X-ADDRESS=Coon Rock Horse & Hunt Club 6180 Erdman Rd Arena WI 53503 USA Arena Wisconsin 53503 United States;X-APPLE-RADIUS=500;X-TITLE=6180 Erdman Rd\, Arena\, WI 53503\, USA:geo:-90.022648,43.088221
END:VEVENT
BEGIN:VEVENT
DTSTART;TZID=America/Chicago:20190323T000000
DTEND;TZID=America/Chicago:20190324T000000
DTSTAMP:20260423T105343
CREATED:20250611T203014Z
LAST-MODIFIED:20250611T203014Z
UID:10009905-1553299200-1553385600@essft.com
SUMMARY:ESS Club of Eastern Nebraska
DESCRIPTION:Entries Close: Tuesday\, March 12\, 2019 11:59:59 PM Eastern Time(ET) on Hunt Secretary \nJudges: Ken Willis and Joe Stallman\n  \n\n		\n			\n			\n		\n\n		\n  \n[wunderground location=”Beatrice\, NE” numdays=”5″ showdata=”alert\,daynames\,pop\,icon\,highlow\,conditions\,date” layout=”table-horizontal”] \n 
URL:https://essft.com/event/ess-club-of-eastern-nebraska-3/
LOCATION:Claybaugh Farm\, Liberty\, NE 68381\, USA\, Liberty\, Nebraska\, 68381\, United States
CATEGORIES:Field Trials - Rocky Mountain
GEO:40.084723;-96.482796
X-APPLE-STRUCTURED-LOCATION;VALUE=URI;X-ADDRESS=Claybaugh Farm Liberty NE 68381 USA Liberty Nebraska 68381 United States;X-APPLE-RADIUS=500;X-TITLE=Liberty\, NE 68381\, USA:geo:-96.482796,40.084723
END:VEVENT
BEGIN:VEVENT
DTSTART;TZID=America/Chicago:20190323T000000
DTEND;TZID=America/Chicago:20190324T000000
DTSTAMP:20260423T105343
CREATED:20250611T202814Z
LAST-MODIFIED:20250611T202814Z
UID:10009902-1553299200-1553385600@essft.com
SUMMARY:AKC Week 12
DESCRIPTION:
URL:https://essft.com/event/akc-week-12-2/
LOCATION:Texas
END:VEVENT
BEGIN:VEVENT
DTSTART;TZID=America/Chicago:20190322T000000
DTEND;TZID=America/Chicago:20190323T000000
DTSTAMP:20260423T105343
CREATED:20250611T202813Z
LAST-MODIFIED:20250611T202813Z
UID:10009901-1553212800-1553299200@essft.com
SUMMARY:Utah Springer Spaniel Club
DESCRIPTION:Entries Close:  Noon MDT\, Wednesday\, March 13\, 2019 \nJudges: Justin Smith and Tom Nabity\n\n		\n			\n			\n		\n\n		\n\n		\n			\n			\n		\n\n		\n  \n\n		\n			\n			\n		\n\n		\n  \n\n		\n			\n			\n		\n\n		\n  \n[wunderground location=”Salt Lake City\, UT” numdays=”5″ showdata=”alert\,daynames\,pop\,icon\,highlow\,conditions\,date” layout=”table-horizontal”]
URL:https://essft.com/event/utah-springer-spaniel-club-8/
LOCATION:Lee Kay WMA\, 6000 2100 S\, Salt Lake City\, UT 84128\, USA\, Salt Lake City\, Utah\, 84128\, United States
CATEGORIES:Field Trials - West
GEO:40.727381;-112.034968
X-APPLE-STRUCTURED-LOCATION;VALUE=URI;X-ADDRESS=Lee Kay WMA 6000 2100 S Salt Lake City UT 84128 USA Salt Lake City Utah 84128 United States;X-APPLE-RADIUS=500;X-TITLE=6000 2100 S\, Salt Lake City\, UT 84128\, USA:geo:-112.034968,40.727381
END:VEVENT
BEGIN:VEVENT
DTSTART;TZID=America/Chicago:20190316T000000
DTEND;TZID=America/Chicago:20190317T000000
DTSTAMP:20260423T105343
CREATED:20250611T202813Z
LAST-MODIFIED:20250611T202813Z
UID:10009898-1552694400-1552780800@essft.com
SUMMARY:Valley Forge Field Trial Association
DESCRIPTION:Entries Close: Tuesday\, March 5\, 2019 11:59:59 PM Eastern Time(ET) on Hunt Secretary \nJudges:  Richard Whelan and Terry Quinlan \n\n		\n			\n			\n		\n\n		\n\n		\n			\n			\n		\n\n		\n  \nhttps://goo.gl/maps/rRU7rtB6L342 \n  \n[wunderground location=”Austin\, MN” numdays=”5″ showdata=”alert\,daynames\,pop\,icon\,highlow\,conditions\,date” layout=”table-horizontal”] \n 
URL:https://essft.com/event/valley-forge-field-trial-association-4/
LOCATION:Spring Lane Hunt Club\, Tyrone\, PA 16686\, USA\, Tyrone\, Pennsylvania\, 16686\, United States
CATEGORIES:Field Trials - East
ORGANIZER;CN="Bill Pierson":MAILTO:bill@Pierson.com
GEO:40.670618;-78.238624
X-APPLE-STRUCTURED-LOCATION;VALUE=URI;X-ADDRESS=Spring Lane Hunt Club Tyrone PA 16686 USA Tyrone Pennsylvania 16686 United States;X-APPLE-RADIUS=500;X-TITLE=Tyrone\, PA 16686\, USA:geo:-78.238624,40.670618
END:VEVENT
END:VCALENDAR