BEGIN:VCALENDAR
VERSION:2.0
PRODID:-//English Springer Spaniel Field Trials - ECPv6.15.20//NONSGML v1.0//EN
CALSCALE:GREGORIAN
METHOD:PUBLISH
X-WR-CALNAME:English Springer Spaniel Field Trials
X-ORIGINAL-URL:https://essft.com
X-WR-CALDESC:Events for English Springer Spaniel Field Trials
REFRESH-INTERVAL;VALUE=DURATION:PT1H
X-Robots-Tag:noindex
X-PUBLISHED-TTL:PT1H
BEGIN:VTIMEZONE
TZID:America/Chicago
BEGIN:DAYLIGHT
TZOFFSETFROM:-0600
TZOFFSETTO:-0500
TZNAME:CDT
DTSTART:20170312T080000
END:DAYLIGHT
BEGIN:STANDARD
TZOFFSETFROM:-0500
TZOFFSETTO:-0600
TZNAME:CST
DTSTART:20171105T070000
END:STANDARD
BEGIN:DAYLIGHT
TZOFFSETFROM:-0600
TZOFFSETTO:-0500
TZNAME:CDT
DTSTART:20180311T080000
END:DAYLIGHT
BEGIN:STANDARD
TZOFFSETFROM:-0500
TZOFFSETTO:-0600
TZNAME:CST
DTSTART:20181104T070000
END:STANDARD
BEGIN:DAYLIGHT
TZOFFSETFROM:-0600
TZOFFSETTO:-0500
TZNAME:CDT
DTSTART:20190310T080000
END:DAYLIGHT
BEGIN:STANDARD
TZOFFSETFROM:-0500
TZOFFSETTO:-0600
TZNAME:CST
DTSTART:20191103T070000
END:STANDARD
END:VTIMEZONE
BEGIN:VEVENT
DTSTART;TZID=America/Chicago:20180901T000000
DTEND;TZID=America/Chicago:20180902T000000
DTSTAMP:20260423T172652
CREATED:20250611T183915Z
LAST-MODIFIED:20250611T183915Z
UID:10009732-1535760000-1535846400@essft.com
SUMMARY:HT: Minnesota Hunting Spaniel Association  Hunt Test
DESCRIPTION:Entries Close:  Tuesday\, August 21\, 2018 11:59:59 PM Eastern Time(ET)  Hunt Secretary \n\n		\n			\n			\n		\n\n		\n\n		\n			\n			\n		\n\n		\n  \n  \n\n		\n			\n			\n		\n\n		\n  \n[wunderground location=”Baldwin\, WI” numdays=”5″ showdata=”alert\,daynames\,pop\,icon\,highlow\,conditions\,date” layout=”table-horizontal”] \n  \n 
URL:https://essft.com/event/ht-minnesota-hunting-spaniel-association-hunt-test/
LOCATION:Good Going Kennel\, 1188 192nd St\, Baldwin\, WI 54002\, USA\, Baldwin\, Wisconsin\, 54002\, United States
CATEGORIES:Hunt Tests
GEO:45.030164;-92.40827
X-APPLE-STRUCTURED-LOCATION;VALUE=URI;X-ADDRESS=Good Going Kennel 1188 192nd St Baldwin WI 54002 USA Baldwin Wisconsin 54002 United States;X-APPLE-RADIUS=500;X-TITLE=1188 192nd St\, Baldwin\, WI 54002\, USA:geo:-92.40827,45.030164
END:VEVENT
BEGIN:VEVENT
DTSTART;TZID=America/Chicago:20180901T000000
DTEND;TZID=America/Chicago:20180902T000000
DTSTAMP:20260423T172652
CREATED:20250611T183915Z
LAST-MODIFIED:20250611T183915Z
UID:10009733-1535760000-1535846400@essft.com
SUMMARY:HT: WESSA Spaniel Hunt Tests
DESCRIPTION:Entries Close:  Tuesday\, August 21\, 2018 on Hunt Secretary \n  \n  \n\n		\n			\n			\n		\n\n		\n[wunderground location=”Beaver Dam\, WI” numdays=”5″ showdata=”alert\,daynames\,pop\,icon\,highlow\,conditions\,date” layout=”table-horizontal”] \n  \n 
URL:https://essft.com/event/ht-wessa-spaniel-hunt-tests/
LOCATION:Rock River Kennels\, Beaver Dam\, WI 53916\, USA\, Beaver Dam\, Wisconsin\, 53916\, United States
CATEGORIES:Hunt Tests
GEO:43.457769;-88.837329
X-APPLE-STRUCTURED-LOCATION;VALUE=URI;X-ADDRESS=Rock River Kennels Beaver Dam WI 53916 USA Beaver Dam Wisconsin 53916 United States;X-APPLE-RADIUS=500;X-TITLE=Beaver Dam\, WI 53916\, USA:geo:-88.837329,43.457769
END:VEVENT
BEGIN:VEVENT
DTSTART;TZID=America/Chicago:20180901T000000
DTEND;TZID=America/Chicago:20180902T000000
DTSTAMP:20260423T172652
CREATED:20250611T183915Z
LAST-MODIFIED:20250611T183915Z
UID:10009734-1535760000-1535846400@essft.com
SUMMARY:HT: Ohio Valley English Springer Spaniel Club Hunt Tests
DESCRIPTION:Entries Close: Saturday\, August 26\, 2018 with the HTS. \n  \n\n		\n			\n			\n		\n\n		\n[wunderground location=”Millersport\, OH” numdays=”5″ showdata=”alert\,daynames\,pop\,icon\,highlow\,conditions\,date” layout=”table-horizontal”] \n  \n  \n 
URL:https://essft.com/event/ht-ohio-valley-english-springer-spaniel-club-hunt-tests/
LOCATION:Russ Smith Farm\, Millersport\, OH 43046\, USA\, Millersport\, Ohio\, 43046\, United States
CATEGORIES:Hunt Tests
GEO:39.892591;-82.513803
X-APPLE-STRUCTURED-LOCATION;VALUE=URI;X-ADDRESS=Russ Smith Farm Millersport OH 43046 USA Millersport Ohio 43046 United States;X-APPLE-RADIUS=500;X-TITLE=Millersport\, OH 43046\, USA:geo:-82.513803,39.892591
END:VEVENT
BEGIN:VEVENT
DTSTART;TZID=America/Chicago:20180901T000000
DTEND;TZID=America/Chicago:20180902T000000
DTSTAMP:20260423T172652
CREATED:20250611T183900Z
LAST-MODIFIED:20250611T183900Z
UID:10009731-1535760000-1535846400@essft.com
SUMMARY:AKC Week 35
DESCRIPTION:
URL:https://essft.com/event/akc-week-35-2/
LOCATION:Minnesota
END:VEVENT
BEGIN:VEVENT
DTSTART;TZID=America/Chicago:20180831T000000
DTEND;TZID=America/Chicago:20180903T000000
DTSTAMP:20260423T172653
CREATED:20250611T183900Z
LAST-MODIFIED:20250611T183900Z
UID:10009729-1535673600-1535932800@essft.com
SUMMARY:HT: Washington State 4 Hunt Tests
DESCRIPTION:Labor Day Weekend Hunt Test Cluster \nFriday\, Aug 31 Mt. Rainier Sporting Spaniel Assoc. \n                         Secretary Karin Cartwright  arborfield@hotmail.com \nSat. Sept. 1  Western Washington English Springer Spaniel Club \n                 Secretary Jacqueline Lovette   jacquelinelovette@gmail.com \nSun. Sept.2  Clumber Spaniel Club of America \n                       Secretary Kathleen Kelly kjkelly@outlook.com \nMon. Sept. 3 Puget Sound Eng. Springer Spaniel Assoc. \n                      Secretary Kathy Stermolle  stermolle@yahoo.com \n  \n\n		\n			\n			\n		\n\n		\n  \n\n		\n			\n			\n		\n\n		\n  \n\n		\n			\n			\n		\n\n		\n 
URL:https://essft.com/event/ht-washington-state-4-hunt-tests/
LOCATION:Scatter Creek Wildlife Area 1\, Rochester\, WA 98579\, USA\, Rochester\, Washington\, 98579\, United States
CATEGORIES:Hunt Tests
GEO:46.828064;-123.07553
X-APPLE-STRUCTURED-LOCATION;VALUE=URI;X-ADDRESS=Scatter Creek Wildlife Area 1 Rochester WA 98579 USA Rochester Washington 98579 United States;X-APPLE-RADIUS=500;X-TITLE=Rochester\, WA 98579\, USA:geo:-123.07553,46.828064
END:VEVENT
BEGIN:VEVENT
DTSTART;TZID=America/Chicago:20180825T000000
DTEND;TZID=America/Chicago:20180826T000000
DTSTAMP:20260423T172653
CREATED:20250611T183900Z
LAST-MODIFIED:20250611T183900Z
UID:10009727-1535155200-1535241600@essft.com
SUMMARY:HT: Central Ontario Spaniel Club - Hunt Test
DESCRIPTION:
URL:https://essft.com/event/ht-central-ontario-spaniel-club-hunt-test/
LOCATION:Minnesota
CATEGORIES:Canadian FT
END:VEVENT
BEGIN:VEVENT
DTSTART;TZID=America/Chicago:20180825T000000
DTEND;TZID=America/Chicago:20180826T000000
DTSTAMP:20260423T172653
CREATED:20250611T183845Z
LAST-MODIFIED:20250611T183845Z
UID:10009725-1535155200-1535241600@essft.com
SUMMARY:Central Connecticut Spaniel Club
DESCRIPTION:Entries Close: Thursday\, August 16\, 2018 with the  Field Trial Secretary. \nJudges:  Robert Montler and Donald Brunn  \nAPPRENTICE – Chris Jensen\,  NJ \n\n		\n			\n			\n		\n\n		\n  \n  \nFT Premium FALL Aug 2018 rev \n  \n\n		\n			\n			\n		\n\n		\n  \n  \n  \n  \n[wunderground location=”Simsbury\, CT” numdays=”5″ showdata=”alert\,daynames\,pop\,icon\,highlow\,conditions\,date” layout=”table-horizontal”] \n 
URL:https://essft.com/event/central-connecticut-spaniel-club-3/
LOCATION:NOD Brook Wildlife Management Area\, Simsbury\, CT\, USA\, Simsbury\, Connecticut\, United States
CATEGORIES:Field Trials - East
ORGANIZER;CN="Deborah Olszewski":MAILTO:dmoski@aol.com
END:VEVENT
BEGIN:VEVENT
DTSTART;TZID=America/Chicago:20180825T000000
DTEND;TZID=America/Chicago:20180826T000000
DTSTAMP:20260423T172653
CREATED:20250611T183845Z
LAST-MODIFIED:20250611T183845Z
UID:10009726-1535155200-1535241600@essft.com
SUMMARY:AKC Week 34
DESCRIPTION:
URL:https://essft.com/event/akc-week-34/
LOCATION:Minnesota
END:VEVENT
BEGIN:VEVENT
DTSTART;TZID=America/Chicago:20180825T000000
DTEND;TZID=America/Chicago:20180825T000000
DTSTAMP:20260423T172653
CREATED:20250611T183900Z
LAST-MODIFIED:20250611T183900Z
UID:10009728-1535155200-1535155200@essft.com
SUMMARY:Whisky River Gun Dogs 5th Annual Fun Trial
DESCRIPTION:
URL:https://essft.com/event/whisky-river-gun-dogs-5th-annual-fun-trial/
LOCATION:Whisky River Gun Dogs\, 28888 100th Ave\, Cadott\, WI 54727\, USA\, Cadott\, Wisconsin\, 54727\, United States
CATEGORIES:Fun Trials
ORGANIZER;CN="Todd Stelzer":MAILTO:whiskyrivergundogs@gmail.com
END:VEVENT
BEGIN:VEVENT
DTSTART;TZID=America/Chicago:20180823T000000
DTEND;TZID=America/Chicago:20180825T000000
DTSTAMP:20260423T172653
CREATED:20250611T183845Z
LAST-MODIFIED:20250611T183845Z
UID:10009724-1534982400-1535155200@essft.com
SUMMARY:Prairie Spaniel Club
DESCRIPTION:https://www.dogshow.ca/en/1560?club=Prairie-Spaniel-Club \n 
URL:https://essft.com/event/prairie-spaniel-club-2/
LOCATION:Minnesota
CATEGORIES:Canadian FT
END:VEVENT
BEGIN:VEVENT
DTSTART;TZID=America/Chicago:20180818T000000
DTEND;TZID=America/Chicago:20180819T000000
DTSTAMP:20260423T172653
CREATED:20250611T183845Z
LAST-MODIFIED:20250611T183845Z
UID:10009722-1534550400-1534636800@essft.com
SUMMARY:AKC Week 33
DESCRIPTION:
URL:https://essft.com/event/akc-week-33/
LOCATION:Minnesota
END:VEVENT
BEGIN:VEVENT
DTSTART;TZID=America/Chicago:20180818T000000
DTEND;TZID=America/Chicago:20180819T000000
DTSTAMP:20260423T172653
CREATED:20250611T183845Z
LAST-MODIFIED:20250611T183845Z
UID:10009723-1534550400-1534636800@essft.com
SUMMARY:HT: Northwest English Springer Spaniel Club
DESCRIPTION:
URL:https://essft.com/event/ht-northwest-english-springer-spaniel-club/
LOCATION:Luckiamute Valley Pheasants\, Monmouth\, OR\, USA\, Monmouth\, Oregon\, United States
CATEGORIES:Hunt Tests
GEO:44.848452;-123.233989
X-APPLE-STRUCTURED-LOCATION;VALUE=URI;X-ADDRESS=Luckiamute Valley Pheasants Monmouth OR USA Monmouth Oregon United States;X-APPLE-RADIUS=500;X-TITLE=Monmouth\, OR\, USA:geo:-123.233989,44.848452
END:VEVENT
BEGIN:VEVENT
DTSTART;TZID=America/Chicago:20180811T000000
DTEND;TZID=America/Chicago:20180812T000000
DTSTAMP:20260423T172653
CREATED:20250611T183830Z
LAST-MODIFIED:20250611T183830Z
UID:10009718-1533945600-1534032000@essft.com
SUMMARY:AKC Week 32
DESCRIPTION:
URL:https://essft.com/event/akc-week-32/
LOCATION:Minnesota
END:VEVENT
BEGIN:VEVENT
DTSTART;TZID=America/Chicago:20180811T000000
DTEND;TZID=America/Chicago:20180812T000000
DTSTAMP:20260423T172653
CREATED:20250611T183830Z
LAST-MODIFIED:20250611T183830Z
UID:10009720-1533945600-1534032000@essft.com
SUMMARY:HT: Southern Tier Spaniel  Hunt Test
DESCRIPTION:Entries Close: Wednesday\, August 1st\, 2018 on Hunt Secretary
URL:https://essft.com/event/ht-southern-tier-spaniel-hunt-test/
LOCATION:Sunrise Kennels\, 6600 Co Rd 69\, Canisteo\, NY 14823\, USA\, Canisteo\, New York\, 14823\, United States
CATEGORIES:Hunt Tests
GEO:42.321777;-77.460261
X-APPLE-STRUCTURED-LOCATION;VALUE=URI;X-ADDRESS=Sunrise Kennels 6600 Co Rd 69 Canisteo NY 14823 USA Canisteo New York 14823 United States;X-APPLE-RADIUS=500;X-TITLE=6600 Co Rd 69\, Canisteo\, NY 14823\, USA:geo:-77.460261,42.321777
END:VEVENT
BEGIN:VEVENT
DTSTART;TZID=America/Chicago:20180811T000000
DTEND;TZID=America/Chicago:20180811T000000
DTSTAMP:20260423T172653
CREATED:20250611T183830Z
LAST-MODIFIED:20250627T185011Z
UID:10009719-1533945600-1533945600@essft.com
SUMMARY:ESSC of Central States  - Water Test
DESCRIPTION:Entries Close: Thursday\, August 2\, 2018 with the FTS. \nCentralStates Water test letter_2018 \nCentralStatesWaterPremium_2018 \nCLICK HERE FOR CENTRAL STATES FILLABLE ENTRY FORM
URL:https://essft.com/event/essc-of-central-states-water-test/
LOCATION:Dansmirth Kennels\, 17109 Lincoln Rd\, Harvard\, IL 60033\, USA\, Harvard\, Illinois\, 60033\, United States
CATEGORIES:Water Test
ORGANIZER;CN="Lisa Schmeling%2C FTS":MAILTO:lmschmeling@gmail.com
END:VEVENT
BEGIN:VEVENT
DTSTART;TZID=America/Chicago:20180811T000000
DTEND;TZID=America/Chicago:20180811T000000
DTSTAMP:20260423T172653
CREATED:20250611T183830Z
LAST-MODIFIED:20250611T183830Z
UID:10009721-1533945600-1533945600@essft.com
SUMMARY:Southern Tier Spaniel Field Trial Assoc - WATER TEST
DESCRIPTION:Entries close: Wednesday\, August 8th with the FTS. \nJudges: John Bruggeman and Alex Smith
URL:https://essft.com/event/southern-tier-spaniel-field-trial-assoc-water-test/
LOCATION:Sunrise Kennels\, 6600 Co Rd 69\, Canisteo\, NY 14823\, USA\, Canisteo\, New York\, 14823\, United States
CATEGORIES:Water Test
GEO:42.321777;-77.460261
X-APPLE-STRUCTURED-LOCATION;VALUE=URI;X-ADDRESS=Sunrise Kennels 6600 Co Rd 69 Canisteo NY 14823 USA Canisteo New York 14823 United States;X-APPLE-RADIUS=500;X-TITLE=6600 Co Rd 69\, Canisteo\, NY 14823\, USA:geo:-77.460261,42.321777
END:VEVENT
BEGIN:VEVENT
DTSTART;TZID=America/Chicago:20180804T000000
DTEND;TZID=America/Chicago:20180805T000000
DTSTAMP:20260423T172653
CREATED:20250611T183830Z
LAST-MODIFIED:20250611T183830Z
UID:10009717-1533340800-1533427200@essft.com
SUMMARY:Liberty English Cocker Fanciers Hunt Test
DESCRIPTION:Entries Close: Tuesday\, July 24\, 2018 on Hunt Secretary \n  \n\n		\n			\n			\n		\n\n		\n[wunderground location=”Austin\, MN” numdays=”5″ showdata=”alert\,daynames\,pop\,icon\,highlow\,conditions\,date” layout=”table-horizontal”] \n  \n 
URL:https://essft.com/event/liberty-english-cocker-fanciers-hunt-test/
LOCATION:Dancing Bears Farm\, Landenberg\, PA 19350\, USA\, Landenberg\, Pennsylvania\, 19350\, United States
CATEGORIES:Hunt Tests
GEO:39.777775;-75.771644
X-APPLE-STRUCTURED-LOCATION;VALUE=URI;X-ADDRESS=Dancing Bears Farm Landenberg PA 19350 USA Landenberg Pennsylvania 19350 United States;X-APPLE-RADIUS=500;X-TITLE=Landenberg\, PA 19350\, USA:geo:-75.771644,39.777775
END:VEVENT
BEGIN:VEVENT
DTSTART;TZID=America/Chicago:20180804T000000
DTEND;TZID=America/Chicago:20180805T000000
DTSTAMP:20260423T172653
CREATED:20250611T183806Z
LAST-MODIFIED:20250611T183806Z
UID:10009716-1533340800-1533427200@essft.com
SUMMARY:AKC Week 31
DESCRIPTION:
URL:https://essft.com/event/akc-week-31-2/
LOCATION:Minnesota
END:VEVENT
BEGIN:VEVENT
DTSTART;TZID=America/Chicago:20180728T000000
DTEND;TZID=America/Chicago:20180729T000000
DTSTAMP:20260423T172653
CREATED:20250611T183806Z
LAST-MODIFIED:20250611T183806Z
UID:10009715-1532736000-1532822400@essft.com
SUMMARY:AKC Week 30
DESCRIPTION:
URL:https://essft.com/event/akc-week-30/
LOCATION:Minnesota
END:VEVENT
BEGIN:VEVENT
DTSTART;TZID=America/Chicago:20180727T000000
DTEND;TZID=America/Chicago:20180729T000000
DTSTAMP:20260423T172653
CREATED:20250611T183805Z
LAST-MODIFIED:20250611T183805Z
UID:10009714-1532649600-1532822400@essft.com
SUMMARY:Cocker Spaniel Hunting Enthusiasts of SE WI Hunt Test
DESCRIPTION:Entries:  Hunt Secretary \n 
URL:https://essft.com/event/cocker-spaniel-hunting-enthusiasts-of-se-wi-hunt-test/
LOCATION:Mazomanie Dog Training Grounds (Hwy Y)\, Mazomanie\, WI 53560\, USA\, Mazomanie\, Wisconsin\, 53560\, United States
CATEGORIES:Hunt Tests
GEO:43.176659;-89.794845
X-APPLE-STRUCTURED-LOCATION;VALUE=URI;X-ADDRESS=Mazomanie Dog Training Grounds (Hwy Y) Mazomanie WI 53560 USA Mazomanie Wisconsin 53560 United States;X-APPLE-RADIUS=500;X-TITLE=Mazomanie\, WI 53560\, USA:geo:-89.794845,43.176659
END:VEVENT
BEGIN:VEVENT
DTSTART;TZID=America/Chicago:20180721T000000
DTEND;TZID=America/Chicago:20180722T000000
DTSTAMP:20260423T172653
CREATED:20250611T183805Z
LAST-MODIFIED:20250611T183805Z
UID:10009712-1532131200-1532217600@essft.com
SUMMARY:AKC Week 29
DESCRIPTION:
URL:https://essft.com/event/akc-week-29/
LOCATION:Minnesota
END:VEVENT
BEGIN:VEVENT
DTSTART;TZID=America/Chicago:20180721T000000
DTEND;TZID=America/Chicago:20180722T000000
DTSTAMP:20260423T172653
CREATED:20250611T183805Z
LAST-MODIFIED:20250611T183805Z
UID:10009713-1532131200-1532217600@essft.com
SUMMARY:South Western Ontario Spaniel Club - Hunt Test
DESCRIPTION:Entries Close: \nJudges: \n  \nWaiting for more information from the Field Trial Secretary.  Thank you for your patience. \n  \n[wunderground location=”Woodstock\, ON” numdays=”5″ showdata=”alert\,daynames\,pop\,icon\,highlow\,conditions\,date” layout=”table-horizontal”] \n 
URL:https://essft.com/event/south-western-ontario-spaniel-club-hunt-test/
LOCATION:Minnesota
CATEGORIES:Canadian FT
END:VEVENT
BEGIN:VEVENT
DTSTART;TZID=America/Chicago:20180714T000000
DTEND;TZID=America/Chicago:20180715T000000
DTSTAMP:20260423T172653
CREATED:20250611T183751Z
LAST-MODIFIED:20250611T183751Z
UID:10009709-1531526400-1531612800@essft.com
SUMMARY:AKC Week 28
DESCRIPTION:
URL:https://essft.com/event/akc-week-28/
LOCATION:Minnesota
END:VEVENT
BEGIN:VEVENT
DTSTART;TZID=America/Chicago:20180714T000000
DTEND;TZID=America/Chicago:20180715T000000
DTSTAMP:20260423T172653
CREATED:20250611T183751Z
LAST-MODIFIED:20250611T183751Z
UID:10009710-1531526400-1531612800@essft.com
SUMMARY:Valley Forge Field Trial Assoc Hunt Tests
DESCRIPTION:Entries Close: Tuesday\, July 3\, 2018 on Hunt Secretary \n  \n\n		\n			\n			\n		\n\n		\n  \n[wunderground location=”Landenberg\, PA” numdays=”5″ showdata=”alert\,daynames\,pop\,icon\,highlow\,conditions\,date” layout=”table-horizontal”] \n  \n 
URL:https://essft.com/event/valley-forge-field-trial-assoc-hunt-tests/
LOCATION:Dancing Bears Farm\, Landenberg\, PA 19350\, USA\, Landenberg\, Pennsylvania\, 19350\, United States
CATEGORIES:Hunt Tests
GEO:39.777775;-75.771644
X-APPLE-STRUCTURED-LOCATION;VALUE=URI;X-ADDRESS=Dancing Bears Farm Landenberg PA 19350 USA Landenberg Pennsylvania 19350 United States;X-APPLE-RADIUS=500;X-TITLE=Landenberg\, PA 19350\, USA:geo:-75.771644,39.777775
END:VEVENT
BEGIN:VEVENT
DTSTART;TZID=America/Chicago:20180714T000000
DTEND;TZID=America/Chicago:20180715T000000
DTSTAMP:20260423T172653
CREATED:20250611T183751Z
LAST-MODIFIED:20250611T183751Z
UID:10009711-1531526400-1531612800@essft.com
SUMMARY:Stockton English Springer Spaniel Training Club - Hunt Tets
DESCRIPTION:The address on the Stockton Training Hunt test has the incorrect address for the Secretary. \nStockton English Springer Spaniel Training Club \nSaturday\, July 14\, 2018\nEntries Close: Sunday\, July 1\, 8:00 PM\, 2018\nDrawing: July 2\, 8:00 PM\, 2018\nFor additional information contact:\nDelores Blake Event Secretary\n2308 Amapola\nDavis\, Ca. 95616\n(530)574-5689 \n  \n  \nStockton Hunt Test Premium 2018 MS WORD \n 
URL:https://essft.com/event/stockton-english-springer-spaniel-training-club-hunt-tets/
LOCATION:Grizzly Island Wildlife Area\, 2548 Grizzly Island Rd\, Suisun City\, CA 94585\, USA\, Suisun City\, California\, 94585\, United States
CATEGORIES:Hunt Tests
GEO:38.155177;-121.975662
X-APPLE-STRUCTURED-LOCATION;VALUE=URI;X-ADDRESS=Grizzly Island Wildlife Area 2548 Grizzly Island Rd Suisun City CA 94585 USA Suisun City California 94585 United States;X-APPLE-RADIUS=500;X-TITLE=2548 Grizzly Island Rd\, Suisun City\, CA 94585\, USA:geo:-121.975662,38.155177
END:VEVENT
BEGIN:VEVENT
DTSTART;TZID=America/Chicago:20180707T000000
DTEND;TZID=America/Chicago:20180708T000000
DTSTAMP:20260423T172653
CREATED:20250611T183751Z
LAST-MODIFIED:20250611T183751Z
UID:10009708-1530921600-1531008000@essft.com
SUMMARY:Eastern Slopes Spaniel Association
DESCRIPTION:https://www.dogshow.ca/en/1603?club=Eastern-Slopes-Spaniel-Association \n 
URL:https://essft.com/event/eastern-slopes-spaniel-association-4/
LOCATION:McVinnie Reservoir Conservation Area\, Barons\, AB T0L 0G0\, Canada\, Barons\, Alberta\, T0L 0G0\, Canada
CATEGORIES:Canadian FT
GEO:49.997547;-113.081677
X-APPLE-STRUCTURED-LOCATION;VALUE=URI;X-ADDRESS=McVinnie Reservoir Conservation Area Barons AB T0L 0G0 Canada Barons Alberta T0L 0G0 Canada;X-APPLE-RADIUS=500;X-TITLE=Barons\, AB T0L 0G0\, Canada:geo:-113.081677,49.997547
END:VEVENT
BEGIN:VEVENT
DTSTART;TZID=America/Chicago:20180707T000000
DTEND;TZID=America/Chicago:20180708T000000
DTSTAMP:20260423T172653
CREATED:20250611T183714Z
LAST-MODIFIED:20250611T183714Z
UID:10009706-1530921600-1531008000@essft.com
SUMMARY:AKC Week 27
DESCRIPTION:
URL:https://essft.com/event/akc-week-27/
LOCATION:Minnesota
END:VEVENT
BEGIN:VEVENT
DTSTART;TZID=America/Chicago:20180707T000000
DTEND;TZID=America/Chicago:20180707T000000
DTSTAMP:20260423T172653
CREATED:20250611T183750Z
LAST-MODIFIED:20250611T183750Z
UID:10009707-1530921600-1530921600@essft.com
SUMMARY:Stockton ESSTC: Gunning Seminar
DESCRIPTION:Please register by July 1\, 2018!\nStockton ESSTC will be hosting a GUNNING SEMINAR on July 7th 2018 at Grizzly Island Wildlife Area near Suisun City CA. beginning at 8am. There will be a $30.00 fee for the course.\nContact information- Gordon Johnson Email gandljohnson@juno.com\nPhone (530) 885-0210\n(530) 320-2372
URL:https://essft.com/event/stockton-esstc-gunning-seminar/
LOCATION:Grizzly Island Wildlife Area\, 2548 Grizzly Island Rd\, Suisun City\, CA 94585\, USA\, Suisun City\, California\, 94585\, United States
CATEGORIES:Gunning Seminars
GEO:38.155177;-121.975662
X-APPLE-STRUCTURED-LOCATION;VALUE=URI;X-ADDRESS=Grizzly Island Wildlife Area 2548 Grizzly Island Rd Suisun City CA 94585 USA Suisun City California 94585 United States;X-APPLE-RADIUS=500;X-TITLE=2548 Grizzly Island Rd\, Suisun City\, CA 94585\, USA:geo:-121.975662,38.155177
END:VEVENT
BEGIN:VEVENT
DTSTART;TZID=America/Chicago:20180630T000000
DTEND;TZID=America/Chicago:20180701T000000
DTSTAMP:20260423T172653
CREATED:20250611T183714Z
LAST-MODIFIED:20250611T183714Z
UID:10009705-1530316800-1530403200@essft.com
SUMMARY:AKC Week 26
DESCRIPTION:
URL:https://essft.com/event/akc-week-26/
LOCATION:Minnesota
END:VEVENT
BEGIN:VEVENT
DTSTART;TZID=America/Chicago:20180623T000000
DTEND;TZID=America/Chicago:20180624T000000
DTSTAMP:20260423T172653
CREATED:20250611T183714Z
LAST-MODIFIED:20250611T183714Z
UID:10009702-1529712000-1529798400@essft.com
SUMMARY:Tilden Valley English Springer Spaniel Club Hunt Test
DESCRIPTION:Entries Close: Tuesday\, June 12\, 2018 with the HTS via US Postal. \nJudges: Tim Baker\, Dawn Schuster  and Apprentice Judge Michael Minnick\n\n		\n			\n			\n		\n\n		\n  \n\n		\n			\n			\n		\n\n		\n  \n[wunderground location=”Beaverton\, MI” numdays=”5″ showdata=”alert\,daynames\,pop\,icon\,highlow\,conditions\,date” layout=”table-horizontal”] \n 
URL:https://essft.com/event/tilden-valley-english-springer-spaniel-club-hunt-test/
LOCATION:Blackbrier Kennels aka Springer Green\, 3012 Shock Rd\, Beaverton\, MI 48612\, USA\, Beaverton\, Michigan\, 48612\, United States
CATEGORIES:Hunt Tests
GEO:43.89912;-84.42847
X-APPLE-STRUCTURED-LOCATION;VALUE=URI;X-ADDRESS=Blackbrier Kennels aka Springer Green 3012 Shock Rd Beaverton MI 48612 USA Beaverton Michigan 48612 United States;X-APPLE-RADIUS=500;X-TITLE=3012 Shock Rd\, Beaverton\, MI 48612\, USA:geo:-84.42847,43.89912
END:VEVENT
END:VCALENDAR