BEGIN:VCALENDAR
VERSION:2.0
PRODID:-//English Springer Spaniel Field Trials - ECPv6.15.20//NONSGML v1.0//EN
CALSCALE:GREGORIAN
METHOD:PUBLISH
X-WR-CALNAME:English Springer Spaniel Field Trials
X-ORIGINAL-URL:https://essft.com
X-WR-CALDESC:Events for English Springer Spaniel Field Trials
REFRESH-INTERVAL;VALUE=DURATION:PT1H
X-Robots-Tag:noindex
X-PUBLISHED-TTL:PT1H
BEGIN:VTIMEZONE
TZID:America/Chicago
BEGIN:DAYLIGHT
TZOFFSETFROM:-0600
TZOFFSETTO:-0500
TZNAME:CDT
DTSTART:20240310T080000
END:DAYLIGHT
BEGIN:STANDARD
TZOFFSETFROM:-0500
TZOFFSETTO:-0600
TZNAME:CST
DTSTART:20241103T070000
END:STANDARD
BEGIN:DAYLIGHT
TZOFFSETFROM:-0600
TZOFFSETTO:-0500
TZNAME:CDT
DTSTART:20250309T080000
END:DAYLIGHT
BEGIN:STANDARD
TZOFFSETFROM:-0500
TZOFFSETTO:-0600
TZNAME:CST
DTSTART:20251102T070000
END:STANDARD
BEGIN:DAYLIGHT
TZOFFSETFROM:-0600
TZOFFSETTO:-0500
TZNAME:CDT
DTSTART:20260308T080000
END:DAYLIGHT
BEGIN:STANDARD
TZOFFSETFROM:-0500
TZOFFSETTO:-0600
TZNAME:CST
DTSTART:20261101T070000
END:STANDARD
END:VTIMEZONE
BEGIN:VEVENT
DTSTART;TZID=America/Chicago:20250526T000000
DTEND;TZID=America/Chicago:20250526T000000
DTSTAMP:20260421T152144
CREATED:20250614T193709Z
LAST-MODIFIED:20250614T193709Z
UID:10011484-1748217600-1748217600@essft.com
SUMMARY:Memorial Day
DESCRIPTION:
URL:https://essft.com/event/memorial-day-7/
CATEGORIES:Holidays
END:VEVENT
BEGIN:VEVENT
DTSTART;TZID=America/Chicago:20250524T000000
DTEND;TZID=America/Chicago:20250525T000000
DTSTAMP:20260421T152144
CREATED:20250614T193709Z
LAST-MODIFIED:20250614T193709Z
UID:10011481-1748044800-1748131200@essft.com
SUMMARY:Central Ontario Spaniel Club Field Trial
DESCRIPTION:More Information TBA…
URL:https://essft.com/event/central-ontario-spaniel-club-field-trial/
CATEGORIES:Canadian FT
END:VEVENT
BEGIN:VEVENT
DTSTART;TZID=America/Chicago:20250524T000000
DTEND;TZID=America/Chicago:20250525T000000
DTSTAMP:20260421T152144
CREATED:20250614T193709Z
LAST-MODIFIED:20250614T193709Z
UID:10011483-1748044800-1748131200@essft.com
SUMMARY:West Allis Training Kennel Club Spaniel Hunt Test
DESCRIPTION:Entries Close: Tuesday\, May 13\, 2025 11:59:59 PM Eastern Time(ET) Hunt Secretary. \nJudges: Frank Hauenschild and Karen Lumb\n\n		\n			\n			\n		\n\n		\n 
URL:https://essft.com/event/west-allis-training-kennel-club-spaniel-hunt-test/
CATEGORIES:Hunt Tests
END:VEVENT
BEGIN:VEVENT
DTSTART;TZID=America/Chicago:20250524T000000
DTEND;TZID=America/Chicago:20250524T000000
DTSTAMP:20260421T152144
CREATED:20250614T193709Z
LAST-MODIFIED:20250614T193709Z
UID:10011482-1748044800-1748044800@essft.com
SUMMARY:NMESSC Pine Shadows Fun Trial
DESCRIPTION:
URL:https://essft.com/event/nmessc-pine-shadows-fun-trial-2/
CATEGORIES:Fun Trials
END:VEVENT
BEGIN:VEVENT
DTSTART;TZID=America/Chicago:20250523T000000
DTEND;TZID=America/Chicago:20250525T000000
DTSTAMP:20260421T152144
CREATED:20250614T193709Z
LAST-MODIFIED:20250614T193709Z
UID:10011480-1747958400-1748131200@essft.com
SUMMARY:Spaniel Training Seminar - Andy Cullen
DESCRIPTION:Entries Close: Tuesday\, May 20\, 2025 11:59:59 PM EST on Hunt Secretary \nInstructor: Andy Cullen
URL:https://essft.com/event/spaniel-training-seminar-andy-cullen/
CATEGORIES:Training Seminar
END:VEVENT
BEGIN:VEVENT
DTSTART;TZID=America/Chicago:20250523T000000
DTEND;TZID=America/Chicago:20250525T000000
DTSTAMP:20260421T152144
CREATED:20250614T193406Z
LAST-MODIFIED:20250614T193406Z
UID:10011479-1747958400-1748131200@essft.com
SUMMARY:Western Washington English Springer Spaniel Club Hunt Test
DESCRIPTION:Entries Close: Saturday\, May 10\, 2025 11:59:59 PM Eastern Time(ET) and Hunt Secretary. \nJudges: Bill Benkula and Jon Beernink
URL:https://essft.com/event/western-washington-english-springer-spaniel-club-hunt-test-5/
CATEGORIES:Hunt Tests
ORGANIZER;CN="Kathy Stermolle":MAILTO:stermolle@yahoo.com
END:VEVENT
BEGIN:VEVENT
DTSTART;TZID=America/Chicago:20250523T000000
DTEND;TZID=America/Chicago:20250525T000000
DTSTAMP:20260421T152144
CREATED:20250614T193406Z
LAST-MODIFIED:20250614T193406Z
UID:10011478-1747958400-1748131200@essft.com
SUMMARY:Scotia Springer Club Field Trial
DESCRIPTION:ENTRIES – Closing Date & Draw: 5:00 pm ADT\, SUNDAY May 04\, 2025 \nJudges: Rumi Schroeder\, Mike Pollack\, Bruce Outhouse\, Linda Power\, and Donna Matheson.
URL:https://essft.com/event/scotia-springer-club-field-trial-6/
CATEGORIES:Canadian FT
END:VEVENT
BEGIN:VEVENT
DTSTART;TZID=America/Chicago:20250522T000000
DTEND;TZID=America/Chicago:20250524T000000
DTSTAMP:20260421T152144
CREATED:20250614T193406Z
LAST-MODIFIED:20250614T193406Z
UID:10011477-1747872000-1748044800@essft.com
SUMMARY:English Cocker Spaniel Club of America National Specialty Spaniel Hunt Tests
DESCRIPTION:Entries Close: Tuesday\, May 6\, 2025 11:59:59 PM Eastern Time(ET) on Hunt Secretary. \nJudges: Kaye Wyn-Givens and Vickie Dahlk
URL:https://essft.com/event/english-cocker-spaniel-club-of-america-national-specialty-spaniel-hunt-tests-3/
CATEGORIES:Hunt Tests
END:VEVENT
BEGIN:VEVENT
DTSTART;TZID=America/Chicago:20250521T000000
DTEND;TZID=America/Chicago:20250523T000000
DTSTAMP:20260421T152144
CREATED:20250614T193405Z
LAST-MODIFIED:20250614T193405Z
UID:10011476-1747785600-1747958400@essft.com
SUMMARY:Pine Shadows Gunning Training
DESCRIPTION:Save the date! \nMore information TBA
URL:https://essft.com/event/pine-shadows-gunning-training/
CATEGORIES:Gunning Seminars
END:VEVENT
BEGIN:VEVENT
DTSTART;TZID=America/Chicago:20250517T000000
DTEND;TZID=America/Chicago:20250519T000000
DTSTAMP:20260421T152144
CREATED:20250614T193206Z
LAST-MODIFIED:20250614T193206Z
UID:10011473-1747440000-1747612800@essft.com
SUMMARY:Scotia Springer Club Field Trial
DESCRIPTION:ENTRIES – Closing Date & Draw: 5:00 pm ADT\, SUNDAY May 4
URL:https://essft.com/event/scotia-springer-club-field-trial-5/
CATEGORIES:Canadian FT
END:VEVENT
BEGIN:VEVENT
DTSTART;TZID=America/Chicago:20250517T000000
DTEND;TZID=America/Chicago:20250518T000000
DTSTAMP:20260421T152144
CREATED:20250614T193405Z
LAST-MODIFIED:20250614T193405Z
UID:10011475-1747440000-1747526400@essft.com
SUMMARY:Pittsburgh ESSFTC Spring 2025 Hunt Test
DESCRIPTION:Entries Close: Tuesday\, May 6\, 2025 11:59:59 PM Eastern Time(ET) on Hunt Secretary. \nJudges: John Dunn and Theresa Schroeder
URL:https://essft.com/event/pittsburgh-essftc-spring-2025-hunt-test/
CATEGORIES:Hunt Tests
ORGANIZER;CN="Justin Smith":MAILTO:pittsburghhuntingspaniels@yahoo.com
END:VEVENT
BEGIN:VEVENT
DTSTART;TZID=America/Chicago:20250517T000000
DTEND;TZID=America/Chicago:20250518T000000
DTSTAMP:20260421T152144
CREATED:20250614T193206Z
LAST-MODIFIED:20250614T193206Z
UID:10011471-1747440000-1747526400@essft.com
SUMMARY:Airedale Terrier Club of America Cooley Memorial Spaniel Hunt Test
DESCRIPTION:Entries Close: Tuesday\, May 6\, 2025 11:59:59 PM Eastern Time(ET) on Hunt Secretary. \nJudges: Deb Strohl\, Frank Hauenschild\, Deborah Brueggemann\, and Michael Gregory\n\n		\n			\n			\n		\n\n		\n 
URL:https://essft.com/event/airedale-terrier-club-of-america-cooley-memorial-spaniel-hunt-test-5/
CATEGORIES:Hunt Tests
END:VEVENT
BEGIN:VEVENT
DTSTART;TZID=America/Chicago:20250517T000000
DTEND;TZID=America/Chicago:20250518T000000
DTSTAMP:20260421T152144
CREATED:20250614T193206Z
LAST-MODIFIED:20250614T193206Z
UID:10011474-1747440000-1747526400@essft.com
SUMMARY:Central New England Sporting Spaniel Club
DESCRIPTION:Entries Close: Tuesday\, May 6\, 2025 11:59:59 PM Eastern Time(ET) on Hunt Secretary. \nJudges: Pete Zuleger and Brian Young\n\n		\n			\n			\n		\n\n		\n 
URL:https://essft.com/event/central-new-england-sporting-spaniel-club-16/
CATEGORIES:Field Trials - East
END:VEVENT
BEGIN:VEVENT
DTSTART;TZID=America/Chicago:20250517T000000
DTEND;TZID=America/Chicago:20250518T000000
DTSTAMP:20260421T152144
CREATED:20250614T193206Z
LAST-MODIFIED:20250614T193206Z
UID:10011470-1747440000-1747526400@essft.com
SUMMARY:North Dakota Sporting Spaniel Club
DESCRIPTION:Entries Close: Tuesday\, May 6\, 2025 11:59:59 PM Eastern Time(ET) on Hunt Secretary. \nJudges: Todd Stelzer and Chuck Nelson\n\n		\n			\n			\n		\n\n		\n 
URL:https://essft.com/event/north-dakota-sporting-spaniel-club-18/
CATEGORIES:Field Trials - Rocky Mountain
END:VEVENT
BEGIN:VEVENT
DTSTART;TZID=America/Chicago:20250517T000000
DTEND;TZID=America/Chicago:20250517T000000
DTSTAMP:20260421T152144
CREATED:20250614T193206Z
LAST-MODIFIED:20250614T193206Z
UID:10011472-1747440000-1747440000@essft.com
SUMMARY:Virtual Spaniel Hunting Test Seminar for Judges and Handlers
DESCRIPTION:Join AKC Field Rep Tom Meyer at the virtual AKC Spaniel Hunting Test seminar on May 17\, 2025. \nPre-registration required\, deadline to register is 11:59 p.m. EST\, May 7\, 2025 \nRegister Here 
URL:https://essft.com/event/virtual-spaniel-hunting-test-seminar-for-judges-and-handlers/
CATEGORIES:Judging Seminar
END:VEVENT
BEGIN:VEVENT
DTSTART;TZID=America/Chicago:20250516T000000
DTEND;TZID=America/Chicago:20250518T000000
DTSTAMP:20260421T152144
CREATED:20250614T193006Z
LAST-MODIFIED:20250614T193006Z
UID:10011469-1747353600-1747526400@essft.com
SUMMARY:Maine Spaniel Field Trial Club Spring Cocker Field Trial
DESCRIPTION:Entries Close: Monday\, May 5\, 2025 11:59:59 PM Eastern Time(ET) on Hunt Secretary. \nJudges: Terry Oliver and Bob MacDonald\n\n		\n			\n			\n		\n\n		\n 
URL:https://essft.com/event/maine-spaniel-field-trial-club-spring-cocker-field-trial/
CATEGORIES:Cocker Trial
END:VEVENT
BEGIN:VEVENT
DTSTART;TZID=America/Chicago:20250511T000000
DTEND;TZID=America/Chicago:20250511T000000
DTSTAMP:20260421T152144
CREATED:20250614T193006Z
LAST-MODIFIED:20250614T193006Z
UID:10011468-1746921600-1746921600@essft.com
SUMMARY:Mother's Day
DESCRIPTION:
URL:https://essft.com/event/mothers-day-7/
CATEGORIES:Holidays
END:VEVENT
BEGIN:VEVENT
DTSTART;TZID=America/Chicago:20250510T000000
DTEND;TZID=America/Chicago:20250511T000000
DTSTAMP:20260421T152144
CREATED:20250614T193006Z
LAST-MODIFIED:20250614T193006Z
UID:10011467-1746835200-1746921600@essft.com
SUMMARY:Minnesota Hunting Spaniel Association Hunt Test
DESCRIPTION:Entries Close: Tuesday\, April 29\, 2025 11:59:59 PM Eastern Time(ET) on Hunt Secretary. \nJudges: Curt Poquette and Zara Labrenz\n\n		\n			\n			\n		\n\n		\n 
URL:https://essft.com/event/minnesota-hunting-spaniel-association-hunt-test-3/
CATEGORIES:Hunt Tests
END:VEVENT
BEGIN:VEVENT
DTSTART;TZID=America/Chicago:20250510T000000
DTEND;TZID=America/Chicago:20250511T000000
DTSTAMP:20260421T152144
CREATED:20250614T193005Z
LAST-MODIFIED:20250614T193005Z
UID:10011466-1746835200-1746921600@essft.com
SUMMARY:Patriot Sporting Spaniel Club Hunt Test
DESCRIPTION:Entries Close: Tuesday\, April 29\, 2025 11:59:59 PM Eastern Time(ET) on Hunt Secretary. \nJudges: Vern Knapp and Christine Knapp\n\n		\n			\n			\n		\n\n		\n 
URL:https://essft.com/event/patriot-sporting-spaniel-club-hunt-test-3/
CATEGORIES:Hunt Tests
END:VEVENT
BEGIN:VEVENT
DTSTART;TZID=America/Chicago:20250503T000000
DTEND;TZID=America/Chicago:20250504T000000
DTSTAMP:20260421T152144
CREATED:20250614T193005Z
LAST-MODIFIED:20250614T193005Z
UID:10011465-1746230400-1746316800@essft.com
SUMMARY:Springer Spaniel Club of Central Kansas Hunt Test
DESCRIPTION:Entries Close: Tuesday\, April 22\, 2025 11:59:59 PM Eastern Time(ET) on Hunt Secretary.  \nJudges: Allan Gann and Amy Rogers
URL:https://essft.com/event/springer-spaniel-club-of-central-kansas-hunt-test-3/
CATEGORIES:Hunt Tests
END:VEVENT
BEGIN:VEVENT
DTSTART;TZID=America/Chicago:20250503T000000
DTEND;TZID=America/Chicago:20250504T000000
DTSTAMP:20260421T152144
CREATED:20250614T192806Z
LAST-MODIFIED:20250614T192806Z
UID:10011463-1746230400-1746316800@essft.com
SUMMARY:Minnesota Hunting Spaniel Association Cocker Field Trial
DESCRIPTION:Entries Close: Tuesday\, April 22\, 2025 11:59:59 PM Eastern Time(ET) on Hunt Secretary. \nJudges: Randy Manore Brad Schindler\n\n		\n			\n			\n		\n\n		\n 
URL:https://essft.com/event/minnesota-hunting-spaniel-association-cocker-field-trial-2/
CATEGORIES:Cocker Trial
END:VEVENT
BEGIN:VEVENT
DTSTART;TZID=America/Chicago:20250503T000000
DTEND;TZID=America/Chicago:20250504T000000
DTSTAMP:20260421T152144
CREATED:20250614T192806Z
LAST-MODIFIED:20250614T192806Z
UID:10011464-1746230400-1746316800@essft.com
SUMMARY:Great Lakes American Water Spaniel Club Spaniel Hunt Test
DESCRIPTION:Entries Close: Tuesday\, April 22\, 2025 11:59:59 PM Eastern Time(ET) on Hunt Secretary. \nJudges: Frank Hauenschild and John Skiba\n\n		\n			\n			\n		\n\n		\n 
URL:https://essft.com/event/great-lakes-american-water-spaniel-club-spaniel-hunt-test-3/
CATEGORIES:Hunt Tests
END:VEVENT
BEGIN:VEVENT
DTSTART;TZID=America/Chicago:20250503T000000
DTEND;TZID=America/Chicago:20250504T000000
DTSTAMP:20260421T152144
CREATED:20250614T192806Z
LAST-MODIFIED:20250614T192806Z
UID:10011462-1746230400-1746316800@essft.com
SUMMARY:Cocker Spaniel Field Trial Club of America Field Trial
DESCRIPTION:Entries Close: Tuesday\, April 22\, 2025 11:59:59 PM Eastern Time(ET) on Hunt Secretary. \nJudges: Joe DeMarkis and Pat Keliher
URL:https://essft.com/event/cocker-spaniel-field-trial-club-of-america-field-trial/
CATEGORIES:Cocker Trial
END:VEVENT
BEGIN:VEVENT
DTSTART;TZID=America/Chicago:20250503T000000
DTEND;TZID=America/Chicago:20250504T000000
DTSTAMP:20260421T152144
CREATED:20250614T192805Z
LAST-MODIFIED:20250614T192805Z
UID:10011460-1746230400-1746316800@essft.com
SUMMARY:Missouri Headwaters English Springer Spaniel Club
DESCRIPTION:Entries Close: Tuesday\, April 22\, 2025 11:59:59 PM Eastern Time(ET) on Hunt Secretary. \nJudges: Patrick Berry and Bill McCaffrey\n\n		\n			\n			\n		\n\n		\n 
URL:https://essft.com/event/missouri-headwaters-english-springer-spaniel-club-3/
CATEGORIES:Field Trials - Rocky Mountain
END:VEVENT
BEGIN:VEVENT
DTSTART;TZID=America/Chicago:20250503T000000
DTEND;TZID=America/Chicago:20250504T000000
DTSTAMP:20260421T152144
CREATED:20250614T192805Z
LAST-MODIFIED:20250614T192805Z
UID:10011461-1746230400-1746316800@essft.com
SUMMARY:Missouri Headwaters English Springer Spaniel Club COCKER Field Trial
DESCRIPTION:Entries Close: Tuesday\, April 22\, 2025 11:59:59 PM Eastern Time(ET) on Hunt Secretary. \nJudges: Patrick Berry and Bill McCaffrey
URL:https://essft.com/event/missouri-headwaters-english-springer-spaniel-club-cocker-field-trial/
CATEGORIES:Cocker Trial
END:VEVENT
BEGIN:VEVENT
DTSTART;TZID=America/Chicago:20250502T000000
DTEND;TZID=America/Chicago:20250502T000000
DTSTAMP:20260421T152144
CREATED:20250614T192606Z
LAST-MODIFIED:20250614T192606Z
UID:10011459-1746144000-1746144000@essft.com
SUMMARY:Welsh Springer Spaniel Club Spaniel Hunt Test
DESCRIPTION:Entries Close: Tuesday\, April 22\, 2025 11:59:59 PM Eastern Time(ET) on Hunt Secretary. \nJudges: Vickie Dahlk and Dawn Schuster\n\n		\n			\n			\n		\n\n		\n 
URL:https://essft.com/event/welsh-springer-spaniel-club-spaniel-hunt-test/
CATEGORIES:Hunt Tests
END:VEVENT
BEGIN:VEVENT
DTSTART;TZID=America/Chicago:20250426T000000
DTEND;TZID=America/Chicago:20250427T000000
DTSTAMP:20260421T152144
CREATED:20250614T192606Z
LAST-MODIFIED:20250614T192606Z
UID:10011456-1745625600-1745712000@essft.com
SUMMARY:Mid Atlantic Hunting Spaniel Club Hunt Test
DESCRIPTION:Entries Close: Tuesday\, April 15\, 2025 11:59:59 PM Eastern Time(ET) on Hunt Secretary.  \nJudges: Stephen Church and Theresa Schroeder\n\n		\n			\n			\n		\n\n		\n 
URL:https://essft.com/event/mid-atlantic-hunting-spaniel-club-hunt-test-4/
CATEGORIES:Hunt Tests
END:VEVENT
BEGIN:VEVENT
DTSTART;TZID=America/Chicago:20250426T000000
DTEND;TZID=America/Chicago:20250427T000000
DTSTAMP:20260421T152144
CREATED:20250614T192606Z
LAST-MODIFIED:20250614T192606Z
UID:10011457-1745625600-1745712000@essft.com
SUMMARY:English Cocker Spaniel Club of America
DESCRIPTION:Entries Close: Tuesday\, April 15\, 2025 11:59:59 PM Eastern Time(ET) on Hunt Secretary. \nJudges: John Fillier and Cahir Lynch\n\n		\n			\n			\n		\n\n		\n 
URL:https://essft.com/event/english-cocker-spaniel-club-of-america/
CATEGORIES:Cocker Trial
END:VEVENT
BEGIN:VEVENT
DTSTART;TZID=America/Chicago:20250426T000000
DTEND;TZID=America/Chicago:20250427T000000
DTSTAMP:20260421T152144
CREATED:20250614T192606Z
LAST-MODIFIED:20250614T192606Z
UID:10011458-1745625600-1745712000@essft.com
SUMMARY:Missouri Hunting Spaniel Club 2025 Spring Hunt Test
DESCRIPTION:Entries Close: Tuesday\, April 15\, 2025 11:59:59 PM Eastern Time(ET) on Hunt Secretary. \nJudges: Jeff Zachow and Kevin Gaddie
URL:https://essft.com/event/missouri-hunting-spaniel-club-2025-spring-hunt-test/
CATEGORIES:Hunt Tests
END:VEVENT
BEGIN:VEVENT
DTSTART;TZID=America/Chicago:20250426T000000
DTEND;TZID=America/Chicago:20250427T000000
DTSTAMP:20260421T152144
CREATED:20250614T192605Z
LAST-MODIFIED:20250614T192605Z
UID:10011455-1745625600-1745712000@essft.com
SUMMARY:Cocker Spaniel Hunting Enthusiasts Cocker Spring Field Trials
DESCRIPTION:Entries Close: Tuesday\, April 15\, 2025 11:59:59 PM Eastern Time(ET) on Hunt Secretary. \nJudges: Joe Demarkis and Dave Barto
URL:https://essft.com/event/cocker-spaniel-hunting-enthusiasts-cocker-spring-field-trials/
CATEGORIES:Cocker Trial
END:VEVENT
END:VCALENDAR