BEGIN:VCALENDAR
VERSION:2.0
PRODID:-//English Springer Spaniel Field Trials - ECPv6.15.20//NONSGML v1.0//EN
CALSCALE:GREGORIAN
METHOD:PUBLISH
X-ORIGINAL-URL:https://essft.com
X-WR-CALDESC:Events for English Springer Spaniel Field Trials
REFRESH-INTERVAL;VALUE=DURATION:PT1H
X-Robots-Tag:noindex
X-PUBLISHED-TTL:PT1H
BEGIN:VTIMEZONE
TZID:America/Chicago
BEGIN:DAYLIGHT
TZOFFSETFROM:-0600
TZOFFSETTO:-0500
TZNAME:CDT
DTSTART:20250309T080000
END:DAYLIGHT
BEGIN:STANDARD
TZOFFSETFROM:-0500
TZOFFSETTO:-0600
TZNAME:CST
DTSTART:20251102T070000
END:STANDARD
BEGIN:DAYLIGHT
TZOFFSETFROM:-0600
TZOFFSETTO:-0500
TZNAME:CDT
DTSTART:20260308T080000
END:DAYLIGHT
BEGIN:STANDARD
TZOFFSETFROM:-0500
TZOFFSETTO:-0600
TZNAME:CST
DTSTART:20261101T070000
END:STANDARD
BEGIN:DAYLIGHT
TZOFFSETFROM:-0600
TZOFFSETTO:-0500
TZNAME:CDT
DTSTART:20270314T080000
END:DAYLIGHT
BEGIN:STANDARD
TZOFFSETFROM:-0500
TZOFFSETTO:-0600
TZNAME:CST
DTSTART:20271107T070000
END:STANDARD
END:VTIMEZONE
BEGIN:VEVENT
DTSTART;VALUE=DATE:20260502
DTEND;VALUE=DATE:20260504
DTSTAMP:20260421T194959
CREATED:20260130T231843Z
LAST-MODIFIED:20260130T231843Z
UID:10011818-1777680000-1777852799@essft.com
SUMMARY:Clumber Spaniel Club of America 2026 National Spaniel Hunt Test
DESCRIPTION:Entries Close: Wednesday\, April 15\, 2026 11:59:59 PM Eastern Time(ET) on Hunt Secretary. \n\n		\n			\n			\n		\n\n		\n 
URL:https://essft.com/event/clumber-spaniel-club-of-america-2026-national-spaniel-hunt-test/
LOCATION:Belle Fountain Kennels Dalton\, WI\, Belle Fountain Kennels Dalton\, WI
CATEGORIES:Hunt Tests
ORGANIZER;CN="Jennifer Amundsen":MAILTO:clmbrlvr@gmail.com
END:VEVENT
BEGIN:VEVENT
DTSTART;VALUE=DATE:20260502
DTEND;VALUE=DATE:20260504
DTSTAMP:20260421T194959
CREATED:20260130T232717Z
LAST-MODIFIED:20260130T232717Z
UID:10011819-1777680000-1777852799@essft.com
SUMMARY:Great Lakes American Water Spaniel Club Spaniel Hunt Test
DESCRIPTION:Entries Close: Tuesday\, April 21\, 2026 11:59:59 PM Eastern Time(ET) on Hunt Secretary.
URL:https://essft.com/event/great-lakes-american-water-spaniel-club-spaniel-hunt-test-4/
LOCATION:Hunters Creek Hunt Club Metamora\, MI\, Hunters Creek Hunt Club Metamora\, MI
CATEGORIES:Hunt Tests
ORGANIZER;CN="Sandy Collins":MAILTO:collins1923@att.net
END:VEVENT
BEGIN:VEVENT
DTSTART;VALUE=DATE:20260502
DTEND;VALUE=DATE:20260504
DTSTAMP:20260421T194959
CREATED:20260228T020708Z
LAST-MODIFIED:20260228T020708Z
UID:10011837-1777680000-1777852799@essft.com
SUMMARY:Minnesota Hunting Spaniel Association Cocker Field Trial
DESCRIPTION:Entries Close: Tuesday\, April 21\, 2026 11:59:59 PM Eastern Time(ET) on Hunt Secretary.
URL:https://essft.com/event/minnesota-hunting-spaniel-association-cocker-field-trial-3/
LOCATION:1116 60th Ave. Roberts\, WI\, 1116 60th Ave. Roberts\, WI
CATEGORIES:Cocker Trial
ORGANIZER;CN="Bethann Wiley":MAILTO:bethannwiley@yahoo.com
END:VEVENT
BEGIN:VEVENT
DTSTART;VALUE=DATE:20260502
DTEND;VALUE=DATE:20260504
DTSTAMP:20260421T194959
CREATED:20260305T213601Z
LAST-MODIFIED:20260305T213601Z
UID:10011844-1777680000-1777852799@essft.com
SUMMARY:Cocker Spaniel Field Trial Club of America Spring Field Trial
DESCRIPTION:Entries Close: Tuesday\, April 21\, 2026 11:59:59 PM Eastern Time(ET) on Hunt Secretary. \n\n		\n			\n			\n		\n\n		\n 
URL:https://essft.com/event/cocker-spaniel-field-trial-club-of-america-spring-field-trial/
LOCATION:Ute and Jonathan Kagan Clinton Corners\, NY\, Ute and Jonathan Kagan Clinton Corners\, NY
CATEGORIES:Cocker Trial
ORGANIZER;CN="Sally Follansbee":MAILTO:sallyfollansbee@gmail.com
END:VEVENT
BEGIN:VEVENT
DTSTART;VALUE=DATE:20260502
DTEND;VALUE=DATE:20260504
DTSTAMP:20260421T194959
CREATED:20260307T022543Z
LAST-MODIFIED:20260414T074207Z
UID:10011847-1777680000-1777852799@essft.com
SUMMARY:English Cocker Spaniel Club of America National Specialty Hunt Test and WD/WDX
DESCRIPTION:Entries Close: Wednesday\, April 8\, 2026 11:59:59 PM Eastern Time(ET) on Hunt Secretary.
URL:https://essft.com/event/english-cocker-spaniel-club-of-america-national-specialty-hunt-test-and-wd-wdx/
LOCATION:Stephentown\, NY\, Stephentown\, NY
CATEGORIES:Hunt Tests
ORGANIZER;CN="Dawn Schuster":MAILTO:Rdcgschuster@aol.com
END:VEVENT
BEGIN:VEVENT
DTSTART;VALUE=DATE:20260509
DTEND;VALUE=DATE:20260510
DTSTAMP:20260421T194959
CREATED:20260410T222959Z
LAST-MODIFIED:20260410T222959Z
UID:10011872-1778284800-1778371199@essft.com
SUMMARY:Minnesota Hunting Spaniel Association COCKER Spaniel Water Test
DESCRIPTION:Entries Close: Tuesday\, April 28\, 2026 11:59:59 PM Eastern Time(ET) on Hunt Secretary.
URL:https://essft.com/event/minnesota-hunting-spaniel-association-cocker-spaniel-water-test/
LOCATION:Good Going Kennels Baldwin\, WI\, Good Going Kennels Baldwin\, WI
CATEGORIES:Cocker Trial
ORGANIZER;CN="Bethann Wiley":MAILTO:bethannwiley@yahoo.com
END:VEVENT
BEGIN:VEVENT
DTSTART;VALUE=DATE:20260509
DTEND;VALUE=DATE:20260511
DTSTAMP:20260421T194959
CREATED:20260216T032936Z
LAST-MODIFIED:20260216T032936Z
UID:10011829-1778284800-1778457599@essft.com
SUMMARY:Patriot Sporting Spaniel Club Hunt Test
DESCRIPTION:Entries Close: Tuesday\, April 28\, 2026 11:59:59 PM Eastern Time(ET) on Hunt Secretary.
URL:https://essft.com/event/patriot-sporting-spaniel-club-hunt-test-4/
LOCATION:North Conway Water Precinct 151 White Mountain Hwy Bartlett\, NH\, North Conway Water Precinct 151 White Mountain Hwy Bartlett\, NH
CATEGORIES:Hunt Tests
ORGANIZER;CN="Karen Osnoe":MAILTO:vtgirl2@gmail.com
END:VEVENT
BEGIN:VEVENT
DTSTART;VALUE=DATE:20260509
DTEND;VALUE=DATE:20260511
DTSTAMP:20260421T194959
CREATED:20260307T021037Z
LAST-MODIFIED:20260307T021037Z
UID:10011845-1778284800-1778457599@essft.com
SUMMARY:Minnesota Hunting Spaniel Association Hunt Test
DESCRIPTION:Entries Close: Tuesday\, April 28\, 2026 11:59:59 PM Eastern Time(ET) on Hunt Secretary.
URL:https://essft.com/event/minnesota-hunting-spaniel-association-hunt-test-4/
LOCATION:Good Going Kennels Baldwin\, WI\, Good Going Kennels Baldwin\, WI
CATEGORIES:Hunt Tests
ORGANIZER;CN="Carol Jacobs":MAILTO:ckjacobs12@gmail.com
END:VEVENT
BEGIN:VEVENT
DTSTART;VALUE=DATE:20260509
DTEND;VALUE=DATE:20260511
DTSTAMP:20260421T194959
CREATED:20260314T030627Z
LAST-MODIFIED:20260314T030627Z
UID:10011853-1778284800-1778457599@essft.com
SUMMARY:North Dakota Sporting Spaniel Club Springer Trial
DESCRIPTION:Entries Close: Tuesday\, April 28\, 2026 11:59:59 PM Eastern Time(ET) on Hunt Secretary.
URL:https://essft.com/event/north-dakota-sporting-spaniel-club-springer-trial/
LOCATION:Menoken Menoken\, ND\, Menoken Menoken\, ND
CATEGORIES:Field Trials - Rocky Mountain
ORGANIZER;CN="Jamie Mowder":MAILTO:jamiemowder@hotmail.com
END:VEVENT
BEGIN:VEVENT
DTSTART;TZID=America/Chicago:20260510T000000
DTEND;TZID=America/Chicago:20260510T000000
DTSTAMP:20260421T194959
CREATED:20250614T194449Z
LAST-MODIFIED:20250614T194450Z
UID:10011576-1778371200-1778371200@essft.com
SUMMARY:Mother's Day
DESCRIPTION:
URL:https://essft.com/event/mothers-day-8/
CATEGORIES:Holidays
END:VEVENT
BEGIN:VEVENT
DTSTART;VALUE=DATE:20260516
DTEND;VALUE=DATE:20260518
DTSTAMP:20260421T194959
CREATED:20260210T015733Z
LAST-MODIFIED:20260210T015733Z
UID:10011827-1778889600-1779062399@essft.com
SUMMARY:English Springer Spaniel Field Trial Club of Illinois Hunt Test
DESCRIPTION:Entries Close: Tuesday\, May 5\, 2026 11:59:59 PM Eastern Time(ET) on Hunt Secretary.
URL:https://essft.com/event/english-springer-spaniel-field-trial-club-of-illinois-hunt-test/
LOCATION:Aux Sable Farm Morris\, IL\, Aux Sable Farm Morris\, IL
CATEGORIES:Hunt Tests
ORGANIZER;CN="Steve Tozier":MAILTO:sjtozier@comcast.net
END:VEVENT
BEGIN:VEVENT
DTSTART;VALUE=DATE:20260516
DTEND;VALUE=DATE:20260518
DTSTAMP:20260421T194959
CREATED:20260227T034202Z
LAST-MODIFIED:20260227T034202Z
UID:10011835-1778889600-1779062399@essft.com
SUMMARY:Pittsburgh ESSFTC Hunt Test
DESCRIPTION:Entries Close: Tuesday\, May 5\, 2026 11:59:59 PM Eastern Time(ET) on Hunt Secretary.
URL:https://essft.com/event/pittsburgh-essftc-hunt-test/
LOCATION:PESSFTC Grounds Bulger\, PA\, United States
CATEGORIES:Hunt Tests
ORGANIZER;CN="Justin Smith":MAILTO:pittsburghhuntingspaniels@yahoo.com
END:VEVENT
BEGIN:VEVENT
DTSTART;VALUE=DATE:20260516
DTEND;VALUE=DATE:20260518
DTSTAMP:20260421T194959
CREATED:20260228T022932Z
LAST-MODIFIED:20260228T022932Z
UID:10011839-1778889600-1779062399@essft.com
SUMMARY:Missouri Headwaters Gun Dog Club (MT) Spaniel Hunt Test
DESCRIPTION:Entries Close: Tuesday\, May 5\, 2026 11:59:59 PM Eastern Time(ET) on Hunt Secretary.
URL:https://essft.com/event/missouri-headwaters-gun-dog-club-mt-spaniel-hunt-test-4/
LOCATION:Donnelly and Rush Property\, 130 McKeown Lane Cardwell\, MT\, Donnelly and Rush Property\, 130 McKeown Lane Cardwell\, MT
CATEGORIES:Hunt Tests
ORGANIZER;CN="Laurie Sweet":MAILTO:lauriesweet81@gmail.com
END:VEVENT
BEGIN:VEVENT
DTSTART;VALUE=DATE:20260516
DTEND;VALUE=DATE:20260518
DTSTAMP:20260421T194959
CREATED:20260319T184907Z
LAST-MODIFIED:20260319T184907Z
UID:10011855-1778889600-1779062399@essft.com
SUMMARY:Airedale Terrier Club of America Cooley Memorial Spaniel Hunt Test
DESCRIPTION:Entries Close: Tuesday\, May 5\, 2026 11:59:59 PM Eastern Time(ET) on Hunt Secretary.
URL:https://essft.com/event/airedale-terrier-club-of-america-cooley-memorial-spaniel-hunt-test-6/
LOCATION:Rock River Kennels (W7283 Walnut Road) Beaver Dam\, WI\, Rock River Kennels (W7283 Walnut Road) Beaver Dam\, WI
CATEGORIES:Hunt Tests
ORGANIZER;CN="JoEllen Willman Nordahl":MAILTO:willmanjp@hotmail.com
END:VEVENT
BEGIN:VEVENT
DTSTART;VALUE=DATE:20260523
DTEND;VALUE=DATE:20260525
DTSTAMP:20260421T194959
CREATED:20260331T014449Z
LAST-MODIFIED:20260331T014537Z
UID:10011859-1779494400-1779667199@essft.com
SUMMARY:West Allis Training Kennel Club Memorial Day Spaniel Hunt Test
DESCRIPTION:Entries Close: Tuesday\, May 12\, 2026 11:59:59 PM Eastern Time(ET) on Hunt Secretary.
URL:https://essft.com/event/west-allis-training-kennel-club-memorial-day-spaniel-hunt-test/
LOCATION:S73 W24150 NATIONAL AVE Big Bend\, WI\, S73 W24150 NATIONAL AVE Big Bend\, WI
CATEGORIES:Hunt Tests
ORGANIZER;CN="Linda M McGrady":MAILTO:lindamcgrady52@gmail.com
END:VEVENT
BEGIN:VEVENT
DTSTART;TZID=America/Chicago:20260525T000000
DTEND;TZID=America/Chicago:20260525T000000
DTSTAMP:20260421T194959
CREATED:20250614T194449Z
LAST-MODIFIED:20250614T194450Z
UID:10011577-1779667200-1779667200@essft.com
SUMMARY:Memorial Day
DESCRIPTION:
URL:https://essft.com/event/memorial-day-8/
CATEGORIES:Holidays
END:VEVENT
BEGIN:VEVENT
DTSTART;VALUE=DATE:20260529
DTEND;VALUE=DATE:20260601
DTSTAMP:20260421T194959
CREATED:20260323T025355Z
LAST-MODIFIED:20260323T025533Z
UID:10011857-1780012800-1780271999@essft.com
SUMMARY:Windrift Spaniels Training Clinic
DESCRIPTION:Clinician – Kirk McConnor \nInformation and Registration Form:  http://www.windriftspaniels.com
URL:https://essft.com/event/windriftspaniels-training-clinic/
LOCATION:Windrift Kennel\, 21043 Dunn Rd.\, Cochranton\, Pa.  16314\, Windrift Kennel\, 21043 Dunn Rd.\, Cochranton\, Pa. 16314
CATEGORIES:Training Seminar
END:VEVENT
BEGIN:VEVENT
DTSTART;VALUE=DATE:20260530
DTEND;VALUE=DATE:20260531
DTSTAMP:20260421T194959
CREATED:20260130T235510Z
LAST-MODIFIED:20260314T021752Z
UID:10011821-1780099200-1780185599@essft.com
SUMMARY:Irish Water Spaniel Club of America
DESCRIPTION:Entries Close: Tuesday\, May 19\, 2026 11:59:59 PM Eastern Time(ET) on Hunt Secretary.
URL:https://essft.com/event/irish-water-spaniel-club-of-america-2/
LOCATION:Rock River Kennels Beaver Dam\, WI\, Rock River Kennels Beaver Dam\, WI
CATEGORIES:Hunt Tests
ORGANIZER;CN="Renee Pederson":MAILTO:ispaniel@live.com
END:VEVENT
BEGIN:VEVENT
DTSTART;VALUE=DATE:20260530
DTEND;VALUE=DATE:20260601
DTSTAMP:20260421T194959
CREATED:20260130T233055Z
LAST-MODIFIED:20260414T220156Z
UID:10011820-1780099200-1780271999@essft.com
SUMMARY:Cocker Spaniel Field Trial Club of America Hunt Test
DESCRIPTION:Entries Close: Tuesday\, May 19\, 2026 11:59:59 PM Eastern Time(ET) on Hunt Secretary.
URL:https://essft.com/event/cocker-spaniel-field-trial-club-of-america-hunt-test/
LOCATION:TACKAWASIC CLUB Stephentown\, NY\, TACKAWASIC CLUB Stephentown\, NY
CATEGORIES:Hunt Tests
ORGANIZER;CN="Barbara A Bobrowich":MAILTO:sobakakennels1@gmail.com
END:VEVENT
BEGIN:VEVENT
DTSTART;VALUE=DATE:20260530
DTEND;VALUE=DATE:20260601
DTSTAMP:20260421T194959
CREATED:20260319T190020Z
LAST-MODIFIED:20260319T190020Z
UID:10011856-1780099200-1780271999@essft.com
SUMMARY:Maine Spaniel Field Trial Club Spring Cocker Field Trial
DESCRIPTION:Entries Close: Tuesday\, May 19\, 2026 11:59:59 PM Eastern Time(ET) on Hunt Secretary.
URL:https://essft.com/event/maine-spaniel-field-trial-club-spring-cocker-field-trial-2/
LOCATION:Nichols Property – 1720 East Main St. Center Conway\, NH\, Nichols Property - 1720 East Main St. Center Conway\, NH
CATEGORIES:Cocker Trial
ORGANIZER;CN="Melissa O'Brien":MAILTO:eyeammel@yahoo.com
END:VEVENT
BEGIN:VEVENT
DTSTART;VALUE=DATE:20260531
DTEND;VALUE=DATE:20260601
DTSTAMP:20260421T194959
CREATED:20260130T235738Z
LAST-MODIFIED:20260314T022457Z
UID:10011822-1780185600-1780271999@essft.com
SUMMARY:Field Spaniel Society of America
DESCRIPTION:Entries Close: Tuesday\, May 19\, 2026 11:59:59 PM Eastern Time(ET) on Hunt Secretary.
URL:https://essft.com/event/field-spaniel-society-of-america-3/
LOCATION:Rock River Kennels Beaver Dam\, WI\, Rock River Kennels Beaver Dam\, WI
CATEGORIES:Hunt Tests
ORGANIZER;CN="Lisa Winters":MAILTO:lhswinters@gmail.com
END:VEVENT
BEGIN:VEVENT
DTSTART;VALUE=DATE:20260605
DTEND;VALUE=DATE:20260607
DTSTAMP:20260421T194959
CREATED:20260130T033814Z
LAST-MODIFIED:20260207T155235Z
UID:10011811-1780617600-1780790399@essft.com
SUMMARY:Spaniel Field Trial Judges Seminar hosted by Iowa Sporting Spaniel Club
DESCRIPTION:Join us in Thayer\, Iowa for the Spaniel Judging Seminar\, Handlers Clinic & Water Test at Union County Bird Dog Ranch — June 5–7.👉 Enter now on HuntSecretary.com (under Seminars)
URL:https://essft.com/event/judges-seminar-hosted-by-iowa-sporting-spaniel-club/
LOCATION:Union County Bird Dog Ranch\, Thayer\, IA\, United States
CATEGORIES:Judging Seminar
ATTACH;FMTTYPE=image/png:https://essft.com/wp-content/uploads/2026-ISSC-Judges-Seminar-pg-1.png
ORGANIZER;CN="Holly Boggess":MAILTO:hollymboggess@gmail.com
END:VEVENT
BEGIN:VEVENT
DTSTART;VALUE=DATE:20260607
DTEND;VALUE=DATE:20260608
DTSTAMP:20260421T194959
CREATED:20260112T032242Z
LAST-MODIFIED:20260421T221141Z
UID:10011805-1780790400-1780876799@essft.com
SUMMARY:Iowa Sporting Spaniel Club SPRINGER and COCKER Water Test
DESCRIPTION:Springer: Entries Close: Tuesday\, May 26\, 2026 11:59:59 PM Eastern Time(ET) on Hunt Secretary. \nCocker: Entries Close: Tuesday\, May 26\, 2026 11:59:59 PM Eastern Time(ET) on Hunt Secretary. \n\n		\n			\n			\n		\n\n		\n\n		\n			\n			\n		\n\n		\n 
URL:https://essft.com/event/iowa-sporting-spaniel-club-springer-water-test/
LOCATION:Union County Bird Dog Ranch Thayer\, IA\, Union County Bird Dog Ranch Thayer\, IA
CATEGORIES:Water Test
ORGANIZER;CN="Holly Boggess":MAILTO:Secretary@iowaspaniel.org
END:VEVENT
BEGIN:VEVENT
DTSTART;VALUE=DATE:20260611
DTEND;VALUE=DATE:20260615
DTSTAMP:20260421T194959
CREATED:20260223T034404Z
LAST-MODIFIED:20260223T034809Z
UID:10011832-1781136000-1781481599@essft.com
SUMMARY:Central Maine Spaniel Club Field Trial
DESCRIPTION:Cocker and Springer trial – Open\, Amatuer and puppy stake for each.
URL:https://essft.com/event/central-maine-spaniel-club-field-trial/
LOCATION:Smithfield Maine\, Smithfield\, Maine
CATEGORIES:Field Trials - East
END:VEVENT
BEGIN:VEVENT
DTSTART;VALUE=DATE:20260613
DTEND;VALUE=DATE:20260614
DTSTAMP:20260421T194959
CREATED:20260403T015859Z
LAST-MODIFIED:20260403T015859Z
UID:10011871-1781308800-1781395199@essft.com
SUMMARY:AKC Spaniel Hunt Test Judges & Handlers Seminar - Wateree Spaniel Club
DESCRIPTION:Instructor: Vickie Dahlk\nEntries Close: Wednesday\, June 10\, 2026 11:59:59 PM EST on Hunt Secretary.
URL:https://essft.com/event/akc-spaniel-hunt-test-judges-handlers-seminar-wateree-spaniel-club-2/
LOCATION:Twickenham Plantation Yemasee\, SC\, Twickenham Plantation Yemasee\, SC
CATEGORIES:Judging Seminar
ORGANIZER;CN="Kim Parkman":MAILTO:kimparkman@ftc-i.net
END:VEVENT
BEGIN:VEVENT
DTSTART;VALUE=DATE:20260613
DTEND;VALUE=DATE:20260615
DTSTAMP:20260421T194959
CREATED:20250614T194502Z
LAST-MODIFIED:20250820T162524Z
UID:10011578-1781308800-1781481599@essft.com
SUMMARY:Sudbury & District Kennel Club Inc. Spaniels Field Trial
DESCRIPTION:More Information TBA…
URL:https://essft.com/event/sudbury-district-kennel-club-inc-spaniels-field-trial-5/
CATEGORIES:Canadian FT
END:VEVENT
BEGIN:VEVENT
DTSTART;VALUE=DATE:20260620
DTEND;VALUE=DATE:20260622
DTSTAMP:20260421T194959
CREATED:20260228T023739Z
LAST-MODIFIED:20260326T202630Z
UID:10011840-1781913600-1782086399@essft.com
SUMMARY:Maine Spaniel Field Trial Club Hunt Test
DESCRIPTION:Entries Close: Tuesday\, June 9\, 2026 11:59:59 PM Eastern Time(ET) on Hunt Secretary.
URL:https://essft.com/event/maine-spaniel-field-trial-club-hunt-test-4/
LOCATION:Firefly Kennel Dixmont\, ME\, Firefly Kennel Dixmont\, ME
CATEGORIES:Hunt Tests
ORGANIZER;CN="Melissa O'Brien":MAILTO:eyeammel@yahoo.com
END:VEVENT
BEGIN:VEVENT
DTSTART;VALUE=DATE:20260620
DTEND;VALUE=DATE:20260622
DTSTAMP:20260421T194959
CREATED:20260308T014437Z
LAST-MODIFIED:20260308T014437Z
UID:10011849-1781913600-1782086399@essft.com
SUMMARY:Tilden Valley English Springer Spaniel Club Hunt Test
DESCRIPTION:Entries Close: Tuesday\, June 9\, 2026 11:59:59 PM Eastern Time(ET) on Hunt Secretary.
URL:https://essft.com/event/tilden-valley-english-springer-spaniel-club-hunt-test-6/
LOCATION:North Rock Hie On Acres Rock\, MI @ Michigan\, USA\, North Rock Hie On Acres Rock\, MI\, United States
CATEGORIES:Hunt Tests
ORGANIZER;CN="Jill Miller%2C FTS":MAILTO:jpmiller1210@yahoo.com
END:VEVENT
BEGIN:VEVENT
DTSTART;VALUE=DATE:20260620
DTEND;VALUE=DATE:20260622
DTSTAMP:20260421T194959
CREATED:20260314T021309Z
LAST-MODIFIED:20260314T021309Z
UID:10011852-1781913600-1782086399@essft.com
SUMMARY:2025 AWSC Inc. June Spaniel Hunt Test
DESCRIPTION:Entries Close: Tuesday\, June 9\, 2026 11:59:59 PM Eastern Time(ET) on Hunt Secretary.
URL:https://essft.com/event/2025-awsc-inc-june-spaniel-hunt-test-2-2/
LOCATION:Wolf River Game Farm Shiocton\, WI\, Wolf River Game Farm Shiocton\, WI
CATEGORIES:Hunt Tests
ORGANIZER;CN="Mary Klema":MAILTO:klemame1013@gmail.com
END:VEVENT
BEGIN:VEVENT
DTSTART;TZID=America/Chicago:20260621T000000
DTEND;TZID=America/Chicago:20260621T000000
DTSTAMP:20260421T194959
CREATED:20250614T194502Z
LAST-MODIFIED:20250614T194502Z
UID:10011579-1782000000-1782000000@essft.com
SUMMARY:Father's Day
DESCRIPTION:
URL:https://essft.com/event/fathers-day-8/
CATEGORIES:Holidays
END:VEVENT
END:VCALENDAR