BEGIN:VCALENDAR
VERSION:2.0
PRODID:-//English Springer Spaniel Field Trials - ECPv6.15.20//NONSGML v1.0//EN
CALSCALE:GREGORIAN
METHOD:PUBLISH
X-WR-CALNAME:English Springer Spaniel Field Trials
X-ORIGINAL-URL:https://essft.com
X-WR-CALDESC:Events for English Springer Spaniel Field Trials
REFRESH-INTERVAL;VALUE=DURATION:PT1H
X-Robots-Tag:noindex
X-PUBLISHED-TTL:PT1H
BEGIN:VTIMEZONE
TZID:America/New_York
BEGIN:DAYLIGHT
TZOFFSETFROM:-0500
TZOFFSETTO:-0400
TZNAME:EDT
DTSTART:20160313T070000
END:DAYLIGHT
BEGIN:STANDARD
TZOFFSETFROM:-0400
TZOFFSETTO:-0500
TZNAME:EST
DTSTART:20161106T060000
END:STANDARD
BEGIN:DAYLIGHT
TZOFFSETFROM:-0500
TZOFFSETTO:-0400
TZNAME:EDT
DTSTART:20170312T070000
END:DAYLIGHT
BEGIN:STANDARD
TZOFFSETFROM:-0400
TZOFFSETTO:-0500
TZNAME:EST
DTSTART:20171105T060000
END:STANDARD
BEGIN:DAYLIGHT
TZOFFSETFROM:-0500
TZOFFSETTO:-0400
TZNAME:EDT
DTSTART:20180311T070000
END:DAYLIGHT
BEGIN:STANDARD
TZOFFSETFROM:-0400
TZOFFSETTO:-0500
TZNAME:EST
DTSTART:20181104T060000
END:STANDARD
END:VTIMEZONE
BEGIN:VTIMEZONE
TZID:America/Detroit
BEGIN:DAYLIGHT
TZOFFSETFROM:-0500
TZOFFSETTO:-0400
TZNAME:EDT
DTSTART:20160313T070000
END:DAYLIGHT
BEGIN:STANDARD
TZOFFSETFROM:-0400
TZOFFSETTO:-0500
TZNAME:EST
DTSTART:20161106T060000
END:STANDARD
BEGIN:DAYLIGHT
TZOFFSETFROM:-0500
TZOFFSETTO:-0400
TZNAME:EDT
DTSTART:20170312T070000
END:DAYLIGHT
BEGIN:STANDARD
TZOFFSETFROM:-0400
TZOFFSETTO:-0500
TZNAME:EST
DTSTART:20171105T060000
END:STANDARD
BEGIN:DAYLIGHT
TZOFFSETFROM:-0500
TZOFFSETTO:-0400
TZNAME:EDT
DTSTART:20180311T070000
END:DAYLIGHT
BEGIN:STANDARD
TZOFFSETFROM:-0400
TZOFFSETTO:-0500
TZNAME:EST
DTSTART:20181104T060000
END:STANDARD
END:VTIMEZONE
BEGIN:VTIMEZONE
TZID:America/Chicago
BEGIN:DAYLIGHT
TZOFFSETFROM:-0600
TZOFFSETTO:-0500
TZNAME:CDT
DTSTART:20160313T080000
END:DAYLIGHT
BEGIN:STANDARD
TZOFFSETFROM:-0500
TZOFFSETTO:-0600
TZNAME:CST
DTSTART:20161106T070000
END:STANDARD
BEGIN:DAYLIGHT
TZOFFSETFROM:-0600
TZOFFSETTO:-0500
TZNAME:CDT
DTSTART:20170312T080000
END:DAYLIGHT
BEGIN:STANDARD
TZOFFSETFROM:-0500
TZOFFSETTO:-0600
TZNAME:CST
DTSTART:20171105T070000
END:STANDARD
BEGIN:DAYLIGHT
TZOFFSETFROM:-0600
TZOFFSETTO:-0500
TZNAME:CDT
DTSTART:20180311T080000
END:DAYLIGHT
BEGIN:STANDARD
TZOFFSETFROM:-0500
TZOFFSETTO:-0600
TZNAME:CST
DTSTART:20181104T070000
END:STANDARD
END:VTIMEZONE
BEGIN:VTIMEZONE
TZID:America/Denver
BEGIN:DAYLIGHT
TZOFFSETFROM:-0700
TZOFFSETTO:-0600
TZNAME:MDT
DTSTART:20160313T090000
END:DAYLIGHT
BEGIN:STANDARD
TZOFFSETFROM:-0600
TZOFFSETTO:-0700
TZNAME:MST
DTSTART:20161106T080000
END:STANDARD
BEGIN:DAYLIGHT
TZOFFSETFROM:-0700
TZOFFSETTO:-0600
TZNAME:MDT
DTSTART:20170312T090000
END:DAYLIGHT
BEGIN:STANDARD
TZOFFSETFROM:-0600
TZOFFSETTO:-0700
TZNAME:MST
DTSTART:20171105T080000
END:STANDARD
BEGIN:DAYLIGHT
TZOFFSETFROM:-0700
TZOFFSETTO:-0600
TZNAME:MDT
DTSTART:20180311T090000
END:DAYLIGHT
BEGIN:STANDARD
TZOFFSETFROM:-0600
TZOFFSETTO:-0700
TZNAME:MST
DTSTART:20181104T080000
END:STANDARD
END:VTIMEZONE
BEGIN:VTIMEZONE
TZID:America/Los_Angeles
BEGIN:DAYLIGHT
TZOFFSETFROM:-0800
TZOFFSETTO:-0700
TZNAME:PDT
DTSTART:20160313T100000
END:DAYLIGHT
BEGIN:STANDARD
TZOFFSETFROM:-0700
TZOFFSETTO:-0800
TZNAME:PST
DTSTART:20161106T090000
END:STANDARD
BEGIN:DAYLIGHT
TZOFFSETFROM:-0800
TZOFFSETTO:-0700
TZNAME:PDT
DTSTART:20170312T100000
END:DAYLIGHT
BEGIN:STANDARD
TZOFFSETFROM:-0700
TZOFFSETTO:-0800
TZNAME:PST
DTSTART:20171105T090000
END:STANDARD
BEGIN:DAYLIGHT
TZOFFSETFROM:-0800
TZOFFSETTO:-0700
TZNAME:PDT
DTSTART:20180311T100000
END:DAYLIGHT
BEGIN:STANDARD
TZOFFSETFROM:-0700
TZOFFSETTO:-0800
TZNAME:PST
DTSTART:20181104T090000
END:STANDARD
END:VTIMEZONE
BEGIN:VEVENT
DTSTART;TZID=America/New_York:20170923T000000
DTEND;TZID=America/New_York:20170924T000000
DTSTAMP:20260424T052500
CREATED:20250611T174429Z
LAST-MODIFIED:20250611T174429Z
UID:10009538-1506124800-1506211200@essft.com
SUMMARY:Pittsburgh ESS Field Trial Club
DESCRIPTION:Entries Close: Sunday\, September 16\, 2017  Send via mail \nJudges: Mike Noland CHANGED TO JUSTIN SMITH and Ryan Lamberg  EFFECTIVE 22SEPT2017 \n2017 Pittsburgh Fall FT Premium \n2017 PESSFTC FT Running Order Updated 22SEP2017 \n[wunderground location=”Imperial\, PA” numdays=”5″ showdata=”alert\,daynames\,pop\,icon\,highlow\,conditions\,date” layout=”table-horizontal”] 
URL:https://essft.com/event/pittsburgh-ess-field-trial-club/
LOCATION:Hebron & Washington RD\, Imperial\, PA\, USA\, Imperial\, Pennsylvania\, United States
CATEGORIES:Field Trials - Mid East
ORGANIZER;CN="Justin Smith":MAILTO:pittsburghhuntingspaniels@yahoo.com
GEO:40.450516;-80.244466
X-APPLE-STRUCTURED-LOCATION;VALUE=URI;X-ADDRESS=Hebron & Washington RD Imperial PA USA Imperial Pennsylvania United States;X-APPLE-RADIUS=500;X-TITLE=Imperial\, PA\, USA:geo:-80.244466,40.450516
END:VEVENT
BEGIN:VEVENT
DTSTART;TZID=America/Detroit:20170923T000000
DTEND;TZID=America/Detroit:20170924T000000
DTSTAMP:20260424T052500
CREATED:20250611T174228Z
LAST-MODIFIED:20250611T174228Z
UID:10009535-1506124800-1506211200@essft.com
SUMMARY:Tilden Valley English Springer Spaniel Club
DESCRIPTION:Entries Close: Tuesday\, September 12th\, 2017 via mail \nJudges:  David Anderson and Rumi Schroeder \n2017 Tilden Valley Fall FT Letter \n2017 Tilden Valley Fall FT Official Premium \n2017 Tilden Valley Fall FT Entry Forms \n2017 Tilden Valley Fall FT Payment Form \n2017 Tilden Valley Fall FT Running Order \n2017 Tilden Valley Fall FT Map to Hie On Acres \n[wunderground location=”Rock\, MI” numdays=”5″ showdata=”alert\,daynames\,pop\,icon\,highlow\,conditions\,date” layout=”table-horizontal”]  \n 
URL:https://essft.com/event/tilden-valley-english-springer-spaniel-club/
CATEGORIES:Field Trials - Mid West
ORGANIZER;CN="Jill Miller%2C FTS":MAILTO:jpmiller1210@yahoo.com
END:VEVENT
BEGIN:VEVENT
DTSTART;TZID=America/Chicago:20170923T000000
DTEND;TZID=America/Chicago:20170924T000000
DTSTAMP:20260424T052500
CREATED:20250611T174228Z
LAST-MODIFIED:20250611T174228Z
UID:10009536-1506124800-1506211200@essft.com
SUMMARY:North Dakota Sporting Spaniel
DESCRIPTION:Entries Close: Monday\, September 11\, 2017  on Entry Express   \nJudges: Trent Bosse/Kevin Dresow \n9/18/2017:  ATVs/UTVs will NOT be allowed on the course.   \n \n2017 North Dakota Fall FT Map \n2017 North Dakota Fall FT Premium \n[wunderground location=”Menoken\, ND” numdays=”5″ showdata=”alert\,daynames\,pop\,icon\,highlow\,conditions\,date” layout=”table-horizontal”] 
URL:https://essft.com/event/north-dakota-sporting-spaniel-2/
LOCATION:Hobson Brown Farm\, 16001 48th Ave SE\, Menoken\, ND 58558\, USA\, Menoken\, North Dakota\, 58558\, United States
CATEGORIES:Field Trials - Rocky Mountain
ORGANIZER;CN="Sue Wilson%2C FTS":MAILTO:suezannebwilson@yahoo.com
GEO:46.748796;-100.538811
X-APPLE-STRUCTURED-LOCATION;VALUE=URI;X-ADDRESS=Hobson Brown Farm 16001 48th Ave SE Menoken ND 58558 USA Menoken North Dakota 58558 United States;X-APPLE-RADIUS=500;X-TITLE=16001 48th Ave SE\, Menoken\, ND 58558\, USA:geo:-100.538811,46.748796
END:VEVENT
BEGIN:VEVENT
DTSTART;TZID=America/Denver:20170922T000000
DTEND;TZID=America/Denver:20170923T000000
DTSTAMP:20260424T052500
CREATED:20250611T174228Z
LAST-MODIFIED:20250611T174228Z
UID:10009534-1506038400-1506124800@essft.com
SUMMARY:Utah Springer Spaniel Club
DESCRIPTION:Entries Close:  Wednesday\, September 13\, 2017 via Mail.  e-mail and phone entries accepted. \nJudges:  Cindy Williams and Rick Shively \nMaps will be sent with Running Orders. \n2017 Utah SSC Fall FT Premium – September 2017 (2017369402) \n[wunderground location=”Newton\, UT” numdays=”5″ showdata=”alert\,daynames\,pop\,icon\,highlow\,conditions\,date” layout=”table-horizontal”]  \n 
URL:https://essft.com/event/utah-springer-spaniel-club-3/
LOCATION:Field Location\, Newton\, UT\, USA\, Newton\, Utah\, United States
CATEGORIES:Field Trials - West
ORGANIZER;CN="Charles Tatton%2C FTS":MAILTO:tatton@brentblundell.com
GEO:41.862705;-111.990784
X-APPLE-STRUCTURED-LOCATION;VALUE=URI;X-ADDRESS=Field Location Newton UT USA Newton Utah United States;X-APPLE-RADIUS=500;X-TITLE=Newton\, UT\, USA:geo:-111.990784,41.862705
END:VEVENT
BEGIN:VEVENT
DTSTART;TZID=America/Chicago:20170922T000000
DTEND;TZID=America/Chicago:20170922T000000
DTSTAMP:20260424T052501
CREATED:20250611T174228Z
LAST-MODIFIED:20250611T174228Z
UID:10009533-1506038400-1506038400@essft.com
SUMMARY:North Dakota Sporting Spaniel
DESCRIPTION:Entries Close: Monday\, September 11\, 2017 on Entry Express \nJudges: Mhari Peschel and David Sanford \n2017 North Dakota Fall FT Premium \n[wunderground location=”Menoken\, ND” numdays=”5″ showdata=”alert\,daynames\,pop\,icon\,highlow\,conditions\,date” layout=”table-horizontal”]  \n 
URL:https://essft.com/event/north-dakota-sporting-spaniel/
LOCATION:Hobson Brown Farm\, 16001 48th Ave SE\, Menoken\, ND 58558\, USA\, Menoken\, North Dakota\, 58558\, United States
CATEGORIES:Field Trials - Rocky Mountain
ORGANIZER;CN="Sue Wilson%2C FTS":MAILTO:suezannebwilson@yahoo.com
GEO:46.748796;-100.538811
X-APPLE-STRUCTURED-LOCATION;VALUE=URI;X-ADDRESS=Hobson Brown Farm 16001 48th Ave SE Menoken ND 58558 USA Menoken North Dakota 58558 United States;X-APPLE-RADIUS=500;X-TITLE=16001 48th Ave SE\, Menoken\, ND 58558\, USA:geo:-100.538811,46.748796
END:VEVENT
BEGIN:VEVENT
DTSTART;TZID=America/New_York:20170921T000000
DTEND;TZID=America/New_York:20170922T000000
DTSTAMP:20260424T052501
CREATED:20250611T174228Z
LAST-MODIFIED:20250611T174228Z
UID:10009532-1505952000-1506038400@essft.com
SUMMARY:Mid Penn ESS Club
DESCRIPTION:Entries Close: Monday\, September 11\, 2017  via Entry Express \nJudges: James Karlovec and Richard Moore \n2017 Mid Penn Fall FT Premium \n2017 Mid Penn Fall Running Order \n[wunderground location=”Tyrone\, PA” numdays=”5″ showdata=”alert\,daynames\,pop\,icon\,highlow\,conditions\,date” layout=”table-horizontal”] 
URL:https://essft.com/event/mid-penn-ess-club-2/
CATEGORIES:Field Trials - Mid East
END:VEVENT
BEGIN:VEVENT
DTSTART;TZID=America/New_York:20170916T000000
DTEND;TZID=America/New_York:20170917T000000
DTSTAMP:20260424T052501
CREATED:20250611T174212Z
LAST-MODIFIED:20250611T174212Z
UID:10009529-1505520000-1505606400@essft.com
SUMMARY:Patriot Sporting Spaniel Club
DESCRIPTION:Entries Close: Sunday\, September 10\, 2017 via mail \nJudges: John Halpin and Bob Merrill \n2017 Patriot Fall  FT Premium \n  \n[wunderground location=”North Conway\, NH” numdays=”5″ showdata=”alert\,daynames\,pop\,icon\,highlow\,conditions\,date” layout=”table-horizontal”] 
URL:https://essft.com/event/patriot-sporting-spaniel-club-2/
LOCATION:Hussey Well Field\, North Conway\, Conway\, NH\, USA\, Conway\, New Hampshire\, United States
CATEGORIES:Field Trials - East
ORGANIZER;CN="Jack Klette%2C FTS":MAILTO:klette@verizon.net
GEO:44.05368;-71.128404
X-APPLE-STRUCTURED-LOCATION;VALUE=URI;X-ADDRESS=Hussey Well Field North Conway Conway NH USA Conway New Hampshire United States;X-APPLE-RADIUS=500;X-TITLE=North Conway\, Conway\, NH\, USA:geo:-71.128404,44.05368
END:VEVENT
BEGIN:VEVENT
DTSTART;TZID=America/Chicago:20170916T000000
DTEND;TZID=America/Chicago:20170917T000000
DTSTAMP:20260424T052501
CREATED:20250611T174212Z
LAST-MODIFIED:20250611T174212Z
UID:10009530-1505520000-1505606400@essft.com
SUMMARY:Northern Colorado Springer Spaniel Club HT
DESCRIPTION:
URL:https://essft.com/event/northern-colorado-springer-spaniel-club-ht/
CATEGORIES:Hunt Tests
END:VEVENT
BEGIN:VEVENT
DTSTART;TZID=America/Chicago:20170916T000000
DTEND;TZID=America/Chicago:20170917T000000
DTSTAMP:20260424T052501
CREATED:20250611T174212Z
LAST-MODIFIED:20250611T174212Z
UID:10009531-1505520000-1505606400@essft.com
SUMMARY:Maryland Sporting Dog Association HT
DESCRIPTION:2017 Maryland SDA Entry Form Fall HT \n2017 Maryland SDA Fall HT Premium
URL:https://essft.com/event/maryland-sporting-dog-association-ht/
CATEGORIES:Hunt Tests
END:VEVENT
BEGIN:VEVENT
DTSTART;TZID=America/Chicago:20170916T000000
DTEND;TZID=America/Chicago:20170917T000000
DTSTAMP:20260424T052501
CREATED:20250611T062826Z
LAST-MODIFIED:20250611T174212Z
UID:10009525-1505520000-1505606400@essft.com
SUMMARY:Northern Minnesota ESS Club
DESCRIPTION:Entries Close: Thursday\, September 7\, 2017 via mail \nJudges:  Don Mock and Aaron Wendel \n2017 Northern Minnesota ESSC Fall FT Letter \n2017 Northern Minnesota ESSC Fall FT Premium \n2017 Northern Minnesota Fall AKC Entry Form PDF \n2017 Northern Minnesota Fall AKC Entry Form \n2017 NMESS Fall Running Order \n[wunderground location=”Frederick\, SD” numdays=”5″ showdata=”alert\,daynames\,pop\,icon\,highlow\,conditions\,date” layout=”table-horizontal”]
URL:https://essft.com/event/northern-minnesota-ess-club-2/
LOCATION:Pine Shadows Daybreak\, Frederick\, SD 57441\, USA\, Frederick\, South Dakota\, 57441\, United States
CATEGORIES:Field Trials - Mid West
ORGANIZER;CN="Sophie Haglin":MAILTO:mark@pineshadows.com
END:VEVENT
BEGIN:VEVENT
DTSTART;TZID=America/New_York:20170916T000000
DTEND;TZID=America/New_York:20170917T000000
DTSTAMP:20260424T052501
CREATED:20250611T062826Z
LAST-MODIFIED:20250611T174212Z
UID:10009526-1505520000-1505606400@essft.com
SUMMARY:Susquehanna Valley ESS Club
DESCRIPTION:Entries close: Monday\, September 4\, 2017 on Entry Express \nJudges: Josh Davis and Dean Reinke \n2017 Susquehanna Fall FT Premium \n2017 Susquehanna Valley Fall Running Order \n[wunderground location=”Tyrone\, PA” numdays=”5″ showdata=”alert\,daynames\,pop\,icon\,highlow\,conditions\,date” layout=”table-horizontal”]  \n 
URL:https://essft.com/event/susquehanna-valley-ess-club-2/
LOCATION:Marymont Farms\, Tyrone\, PA 16686\, USA\, Tyrone\, Pennsylvania\, 16686\, United States
CATEGORIES:Field Trials - Mid East
ORGANIZER;CN="Bruce Kephart%2C FTS":MAILTO:bkephart@leeind.com
GEO:40.670618;-78.238624
X-APPLE-STRUCTURED-LOCATION;VALUE=URI;X-ADDRESS=Marymont Farms Tyrone PA 16686 USA Tyrone Pennsylvania 16686 United States;X-APPLE-RADIUS=500;X-TITLE=Tyrone\, PA 16686\, USA:geo:-78.238624,40.670618
END:VEVENT
BEGIN:VEVENT
DTSTART;TZID=America/Los_Angeles:20170916T000000
DTEND;TZID=America/Los_Angeles:20170917T000000
DTSTAMP:20260424T052501
CREATED:20250611T062825Z
LAST-MODIFIED:20250611T174208Z
UID:10009524-1505520000-1505606400@essft.com
SUMMARY:Northwest ESS Club - JUDGING SEMINAR
DESCRIPTION:See flyer for additional information. \nNWESSC Judging Seminar F2017 \n  \n[wunderground location=”Hillsboro\, OR” numdays=”5″ showdata=”alert\,daynames\,pop\,icon\,highlow\,conditions\,date” layout=”table-horizontal”] 
URL:https://essft.com/event/northwest-ess-club-judging-seminar/
CATEGORIES:Judging Seminar
ORGANIZER;CN="Jan Johnson%2C Secretary":MAILTO:nac@onlinenw.com
END:VEVENT
BEGIN:VEVENT
DTSTART;TZID=America/Chicago:20170915T000000
DTEND;TZID=America/Chicago:20170915T000000
DTSTAMP:20260424T052501
CREATED:20250611T062825Z
LAST-MODIFIED:20250611T174208Z
UID:10009523-1505433600-1505433600@essft.com
SUMMARY:Susquehanna Valley English Springer Spaniel Club HT
DESCRIPTION:2017 Susquehanna Valley ESSC Fall HT Entry Form \n2017 Susquehanna Valley Fall HT Premium
URL:https://essft.com/event/susquehanna-valley-english-springer-spaniel-club-ht/
CATEGORIES:Hunt Tests
END:VEVENT
BEGIN:VEVENT
DTSTART;TZID=America/Chicago:20170910T000000
DTEND;TZID=America/Chicago:20170910T000000
DTSTAMP:20260424T052501
CREATED:20250611T062825Z
LAST-MODIFIED:20250611T174208Z
UID:10009522-1505001600-1505001600@essft.com
SUMMARY:Week 37
DESCRIPTION:
URL:https://essft.com/event/week-37/
END:VEVENT
BEGIN:VEVENT
DTSTART;TZID=America/Chicago:20170909T000000
DTEND;TZID=America/Chicago:20170910T000000
DTSTAMP:20260424T052501
CREATED:20250611T062625Z
LAST-MODIFIED:20250611T174208Z
UID:10009520-1504915200-1505001600@essft.com
SUMMARY:Spaniel Assoc. of Western New York
DESCRIPTION:Entries Close:  Monday\, August 28\, 2017 on  Entry Express \nJudges: Bob Ryan and Billie Edwards \n2017 Western NY Fall FT Premium  \n[wunderground location=”Lockport\, NY” numdays=”5″ showdata=”alert\,daynames\,pop\,icon\,highlow\,conditions\,date” layout=”table-horizontal”] 
URL:https://essft.com/event/spaniel-assoc-of-western-new-york/
LOCATION:One Forty Five North LLC\, 8045 Tonawanda Creek Rd\, Lockport\, NY 14094\, USA\, Lockport\, New York\, 14094\, United States
CATEGORIES:Field Trials - East
ORGANIZER;CN="Kelly Brannen%2C FTS":MAILTO:kab@roadrunner.com
GEO:43.08423;-78.589279
X-APPLE-STRUCTURED-LOCATION;VALUE=URI;X-ADDRESS=One Forty Five North LLC 8045 Tonawanda Creek Rd Lockport NY 14094 USA Lockport New York 14094 United States;X-APPLE-RADIUS=500;X-TITLE=8045 Tonawanda Creek Rd\, Lockport\, NY 14094\, USA:geo:-78.589279,43.08423
END:VEVENT
BEGIN:VEVENT
DTSTART;TZID=America/Chicago:20170909T000000
DTEND;TZID=America/Chicago:20170909T000000
DTSTAMP:20260424T052501
CREATED:20250611T062625Z
LAST-MODIFIED:20250611T174208Z
UID:10009521-1504915200-1504915200@essft.com
SUMMARY:Eastern Slopes Spaniel Association
DESCRIPTION:Amateur All Age and Puppy – September 9\nOpen All Age and Puppy – September 10
URL:https://essft.com/event/eastern-slopes-spaniel-association-2/
CATEGORIES:Canadian FT
END:VEVENT
BEGIN:VEVENT
DTSTART;TZID=America/Denver:20170908T000000
DTEND;TZID=America/Denver:20170909T000000
DTSTAMP:20260424T052501
CREATED:20250611T062624Z
LAST-MODIFIED:20250611T062624Z
UID:10009518-1504828800-1504915200@essft.com
SUMMARY:Timpanogos Hunting Spaniel Club
DESCRIPTION:ENTRIES CLOSE:  Wednesday\, August 30th\, 2017  Send via mail \nJUDGES: Paul McGagh and Richard Whelan \n2017 Timpanogos Fall FT Premium \n[wunderground location=”Newton\, UT” numdays=”5″ showdata=”alert\,daynames\,pop\,icon\,highlow\,conditions\,date” layout=”table-horizontal”] 
URL:https://essft.com/event/timpanogos-hunting-spaniel-club-4/
LOCATION:Newton Trial Grounds\, Newton\, UT\, USA\, Newton\, Utah\, United States
CATEGORIES:Field Trials - West
ORGANIZER;CN="Kurt Price%2C FTS":MAILTO:bowmanrx@xmission.com
GEO:41.862705;-111.990784
X-APPLE-STRUCTURED-LOCATION;VALUE=URI;X-ADDRESS=Newton Trial Grounds Newton UT USA Newton Utah United States;X-APPLE-RADIUS=500;X-TITLE=Newton\, UT\, USA:geo:-111.990784,41.862705
END:VEVENT
BEGIN:VEVENT
DTSTART;TZID=America/New_York:20170908T000000
DTEND;TZID=America/New_York:20170909T000000
DTSTAMP:20260424T052501
CREATED:20250611T062624Z
LAST-MODIFIED:20250611T062624Z
UID:10009519-1504828800-1504915200@essft.com
SUMMARY:Maine Spaniel Field Trial Club
DESCRIPTION:Entries Close: Monday\, August 28\, 2017 on Entry Express \nJudges: Vern Knapp and Drew Goldsmith \n2017 Maine Fall FT Premium \n  \n[wunderground location=”Dresden\, ME” numdays=”5″ showdata=”alert\,daynames\,pop\,icon\,highlow\,conditions\,date” layout=”table-horizontal”] \n  \n  \n 
URL:https://essft.com/event/maine-spaniel-field-trial-club-2/
LOCATION:Green Point WMA\, Dresden\, ME 04342\, USA\, Dresden\, Maine\, 4342\, United States
CATEGORIES:Field Trials - East
ORGANIZER;CN="Camie Barrow%2C FTS":MAILTO:camiebarrow@gmail.com
GEO:44.107296;-69.724211
X-APPLE-STRUCTURED-LOCATION;VALUE=URI;X-ADDRESS=Green Point WMA Dresden ME 04342 USA Dresden Maine 4342 United States;X-APPLE-RADIUS=500;X-TITLE=Dresden\, ME 04342\, USA:geo:-69.724211,44.107296
END:VEVENT
BEGIN:VEVENT
DTSTART;TZID=America/Chicago:20170904T000000
DTEND;TZID=America/Chicago:20170904T000000
DTSTAMP:20260424T052501
CREATED:20250611T062624Z
LAST-MODIFIED:20250611T062624Z
UID:10009517-1504483200-1504483200@essft.com
SUMMARY:Puget Sound English Springer Spaniel Association HT
DESCRIPTION:2017 Puget Sound SSA Fall HT Premium
URL:https://essft.com/event/puget-sound-english-springer-spaniel-association-ht/
CATEGORIES:Hunt Tests
END:VEVENT
BEGIN:VEVENT
DTSTART;TZID=America/Chicago:20170903T000000
DTEND;TZID=America/Chicago:20170903T000000
DTSTAMP:20260424T052501
CREATED:20250611T062424Z
LAST-MODIFIED:20250611T062424Z
UID:10009516-1504396800-1504396800@essft.com
SUMMARY:Pacific Northwest Welsh Springer Spaniel Club HT
DESCRIPTION:2017 Pacific NW Welsh SSC Fall HT Premium
URL:https://essft.com/event/pacific-northwest-welsh-springer-spaniel-club-ht/
CATEGORIES:Hunt Tests
END:VEVENT
BEGIN:VEVENT
DTSTART;TZID=America/Chicago:20170902T000000
DTEND;TZID=America/Chicago:20170903T000000
DTSTAMP:20260424T052501
CREATED:20250611T062424Z
LAST-MODIFIED:20250611T062424Z
UID:10009515-1504310400-1504396800@essft.com
SUMMARY:AKC Week 35
DESCRIPTION:
URL:https://essft.com/event/akc-week-35/
END:VEVENT
BEGIN:VEVENT
DTSTART;TZID=America/Chicago:20170902T000000
DTEND;TZID=America/Chicago:20170903T000000
DTSTAMP:20260424T052501
CREATED:20250611T062423Z
LAST-MODIFIED:20250611T062423Z
UID:10009514-1504310400-1504396800@essft.com
SUMMARY:Wisconsin English Springer Spaniel Association Inc HT
DESCRIPTION:2017 Wisconsin ESSA Fall HT Premium
URL:https://essft.com/event/wisconsin-english-springer-spaniel-association-inc-ht/
CATEGORIES:Hunt Tests
END:VEVENT
BEGIN:VEVENT
DTSTART;TZID=America/Chicago:20170902T000000
DTEND;TZID=America/Chicago:20170902T000000
DTSTAMP:20260424T052501
CREATED:20250611T062423Z
LAST-MODIFIED:20250611T062423Z
UID:10009513-1504310400-1504310400@essft.com
SUMMARY:Clumber Spaniel Club of America HT
DESCRIPTION:2017 Clumber SCoA Fall HT Premium
URL:https://essft.com/event/clumber-spaniel-club-of-america-ht/
CATEGORIES:Hunt Tests
END:VEVENT
BEGIN:VEVENT
DTSTART;TZID=America/Chicago:20170901T000000
DTEND;TZID=America/Chicago:20170901T000000
DTSTAMP:20260424T052501
CREATED:20250611T062423Z
LAST-MODIFIED:20250611T062423Z
UID:10009512-1504224000-1504224000@essft.com
SUMMARY:Mount Rainier Sporting Spaniel Association HT
DESCRIPTION:2017 Mount Rainier SSA Fall HT Premium
URL:https://essft.com/event/mount-rainier-sporting-spaniel-association-ht/
CATEGORIES:Hunt Tests
END:VEVENT
BEGIN:VEVENT
DTSTART;TZID=America/Denver:20170827T000000
DTEND;TZID=America/Denver:20170827T000000
DTSTAMP:20260424T052501
CREATED:20250611T062223Z
LAST-MODIFIED:20250611T062223Z
UID:10009511-1503792000-1503792000@essft.com
SUMMARY:Edmonton Club Field Trial - Amateur Stake
DESCRIPTION:Judges: Larry Garner and Steve Harper
URL:https://essft.com/event/edmonton-club-field-trial-amateur-stake/
CATEGORIES:Canadian FT
END:VEVENT
BEGIN:VEVENT
DTSTART;TZID=America/Chicago:20170826T000000
DTEND;TZID=America/Chicago:20170827T000000
DTSTAMP:20260424T052501
CREATED:20250611T062223Z
LAST-MODIFIED:20250611T062223Z
UID:10009510-1503705600-1503792000@essft.com
SUMMARY:Sportsmen's Spaniel Club of Calumet HT
DESCRIPTION:Hunt Test\nSaturday and Sunday\, August 26th & 27th\, 2017\nAux Sable Farm\, Morris\, IL\nTwo divisions\, up to 60 dogs.\nLunch will be provided on the grounds and included in the entry fee.\nClick here for the event Premium and Entry Form.
URL:https://essft.com/event/sportsmens-spaniel-club-of-calumet-ht-2/
CATEGORIES:Hunt Tests
END:VEVENT
BEGIN:VEVENT
DTSTART;TZID=America/New_York:20170826T000000
DTEND;TZID=America/New_York:20170827T000000
DTSTAMP:20260424T052501
CREATED:20250611T062222Z
LAST-MODIFIED:20250611T062222Z
UID:10009508-1503705600-1503792000@essft.com
SUMMARY:Central Connecticut Spaniel Club
DESCRIPTION:Entries Close: Thursday\, August 17\, 2017  Send via mail. \nJudges: Bob MacDonald and William Pierson \nCentral_CT_Premiuim F2017
URL:https://essft.com/event/central-connecticut-spaniel-club-2/
LOCATION:NOD Brook Wildlife Management Area\, Simsbury\, CT\, USA\, Simsbury\, Connecticut\, United States
CATEGORIES:Field Trials - East
ORGANIZER;CN="Deborah Olszewski":MAILTO:dmoski@aol.com
END:VEVENT
BEGIN:VEVENT
DTSTART;TZID=America/Chicago:20170826T000000
DTEND;TZID=America/Chicago:20170826T000000
DTSTAMP:20260424T052501
CREATED:20250611T062222Z
LAST-MODIFIED:20250611T062222Z
UID:10009509-1503705600-1503705600@essft.com
SUMMARY:Fun Trial at Whisky River
DESCRIPTION:
URL:https://essft.com/event/fun-trial-at-whisky-river/
LOCATION:Whisky River Gun Dogs\, 28888 100th Ave\, Cadott\, WI 54727\, USA\, Cadott\, Wisconsin\, 54727\, United States
CATEGORIES:Fun Trials
ORGANIZER;CN="Todd Stelzer":MAILTO:whiskyrivergundogs@gmail.com
END:VEVENT
BEGIN:VEVENT
DTSTART;TZID=America/Chicago:20170825T000000
DTEND;TZID=America/Chicago:20170826T000000
DTSTAMP:20260424T052501
CREATED:20250611T062022Z
LAST-MODIFIED:20250611T062022Z
UID:10009506-1503619200-1503705600@essft.com
SUMMARY:Sportsmen's Spaniel Club of Calumet
DESCRIPTION:Hunt Test Judging and Handling Seminar\nFriday\, August 25th\, 9:00 Am to Conclusion.\nLocation: American Legion Hall\, Morris\, IL\nLunch will be served during the event\, and included in the fee.\nRegistration fee for this event is $50 before 8/11\, 60 after.\nAfter the seminar we plan to gather for drinks and dinner at a local establishment.\nPlease click here for more information and registration.
URL:https://essft.com/event/sportsmens-spaniel-club-of-calumet/
LOCATION:American Legion Hall\, Morris\, IL
CATEGORIES:Judging Seminar
END:VEVENT
BEGIN:VEVENT
DTSTART;TZID=America/Chicago:20170825T000000
DTEND;TZID=America/Chicago:20170825T000000
DTSTAMP:20260424T052501
CREATED:20250611T062222Z
LAST-MODIFIED:20250611T062222Z
UID:10009507-1503619200-1503619200@essft.com
SUMMARY:Sportsmen's Spaniel Club of Calumet HT
DESCRIPTION:
URL:https://essft.com/event/sportsmens-spaniel-club-of-calumet-ht/
CATEGORIES:Hunt Tests
END:VEVENT
END:VCALENDAR