BEGIN:VCALENDAR
VERSION:2.0
PRODID:-//English Springer Spaniel Field Trials - ECPv6.15.20//NONSGML v1.0//EN
CALSCALE:GREGORIAN
METHOD:PUBLISH
X-WR-CALNAME:English Springer Spaniel Field Trials
X-ORIGINAL-URL:https://essft.com
X-WR-CALDESC:Events for English Springer Spaniel Field Trials
REFRESH-INTERVAL;VALUE=DURATION:PT1H
X-Robots-Tag:noindex
X-PUBLISHED-TTL:PT1H
BEGIN:VTIMEZONE
TZID:America/Chicago
BEGIN:DAYLIGHT
TZOFFSETFROM:-0600
TZOFFSETTO:-0500
TZNAME:CDT
DTSTART:20230312T080000
END:DAYLIGHT
BEGIN:STANDARD
TZOFFSETFROM:-0500
TZOFFSETTO:-0600
TZNAME:CST
DTSTART:20231105T070000
END:STANDARD
BEGIN:DAYLIGHT
TZOFFSETFROM:-0600
TZOFFSETTO:-0500
TZNAME:CDT
DTSTART:20240310T080000
END:DAYLIGHT
BEGIN:STANDARD
TZOFFSETFROM:-0500
TZOFFSETTO:-0600
TZNAME:CST
DTSTART:20241103T070000
END:STANDARD
BEGIN:DAYLIGHT
TZOFFSETFROM:-0600
TZOFFSETTO:-0500
TZNAME:CDT
DTSTART:20250309T080000
END:DAYLIGHT
BEGIN:STANDARD
TZOFFSETFROM:-0500
TZOFFSETTO:-0600
TZNAME:CST
DTSTART:20251102T070000
END:STANDARD
BEGIN:DAYLIGHT
TZOFFSETFROM:-0600
TZOFFSETTO:-0500
TZNAME:CDT
DTSTART:20260308T080000
END:DAYLIGHT
BEGIN:STANDARD
TZOFFSETFROM:-0500
TZOFFSETTO:-0600
TZNAME:CST
DTSTART:20261101T070000
END:STANDARD
END:VTIMEZONE
BEGIN:VEVENT
DTSTART;TZID=America/Chicago:20250111T000000
DTEND;TZID=America/Chicago:20250112T000000
DTSTAMP:20260421T180347
CREATED:20250614T192130Z
LAST-MODIFIED:20250614T192130Z
UID:10011384-1736553600-1736640000@essft.com
SUMMARY:English Cocker Spaniel Club of America - Georgia Cocker Trial
DESCRIPTION:Entries Close: Tuesday\, December 31\, 2024 11:59:59 PM Eastern Time(ET) on Hunt Secretary. \nJudges: Alex Cacchio and Cahir Lynch
URL:https://essft.com/event/english-cocker-spaniel-club-of-america-georgia-cocker-trial-2/
CATEGORIES:Cocker Trial
END:VEVENT
BEGIN:VEVENT
DTSTART;TZID=America/Chicago:20250109T000000
DTEND;TZID=America/Chicago:20250112T000000
DTSTAMP:20260421T180347
CREATED:20250614T192130Z
LAST-MODIFIED:20250614T192130Z
UID:10011383-1736380800-1736640000@essft.com
SUMMARY:Oklahoma Springer Spaniel Club
DESCRIPTION:Entries Close: Monday\, December 30\, 2024 11:59:59 PM Eastern Time(ET) on Hunt Secretary. \nJudges:\nJan 9 – Elaine O’Keefe and  Rick Shively\nJan 11 – Rick Paquin Chad Betts
URL:https://essft.com/event/oklahoma-springer-spaniel-club-8/
CATEGORIES:Field Trials - Rocky Mountain
END:VEVENT
BEGIN:VEVENT
DTSTART;TZID=America/Chicago:20250104T000000
DTEND;TZID=America/Chicago:20250105T000000
DTSTAMP:20260421T180347
CREATED:20250614T192130Z
LAST-MODIFIED:20250614T192130Z
UID:10011382-1735948800-1736035200@essft.com
SUMMARY:San Fernando Valley Springer Spaniel Club
DESCRIPTION:Stand by….
URL:https://essft.com/event/san-fernando-valley-springer-spaniel-club-7/
CATEGORIES:Field Trials - West
END:VEVENT
BEGIN:VEVENT
DTSTART;TZID=America/Chicago:20250101T000000
DTEND;TZID=America/Chicago:20250101T000000
DTSTAMP:20260421T180347
CREATED:20250614T192130Z
LAST-MODIFIED:20250614T192130Z
UID:10011381-1735689600-1735689600@essft.com
SUMMARY:New Year's Day
DESCRIPTION:
URL:https://essft.com/event/new-years-day-7/
CATEGORIES:Holidays
END:VEVENT
BEGIN:VEVENT
DTSTART;TZID=America/Chicago:20241231T000000
DTEND;TZID=America/Chicago:20241231T000000
DTSTAMP:20260421T180347
CREATED:20250614T192130Z
LAST-MODIFIED:20250614T192130Z
UID:10011380-1735603200-1735603200@essft.com
SUMMARY:New Year's Eve
DESCRIPTION:
URL:https://essft.com/event/new-years-eve-2/
CATEGORIES:Holidays
END:VEVENT
BEGIN:VEVENT
DTSTART;TZID=America/Chicago:20241215T000000
DTEND;TZID=America/Chicago:20241219T000000
DTSTAMP:20260421T180347
CREATED:20250614T192023Z
LAST-MODIFIED:20250628T013834Z
UID:10011379-1734220800-1734566400@essft.com
SUMMARY:2024 ESSFTA National Amatuer Championship
DESCRIPTION:1st Entries Close: November 27\, 2024 11:59:59 PM Eastern Time(ET) on Huntsecretary.com.\n2nd Close: December 4\, 2024 at Midnight Eastern Time (ET) on Huntsecretary.com. \nJudges: Dan Lussen and Chad Betts
URL:https://essft.com/event/2024-essfta-national-amatuer-championship/
CATEGORIES:NATIONAL FIELD TRIALS
END:VEVENT
BEGIN:VEVENT
DTSTART;TZID=America/Chicago:20241214T000000
DTEND;TZID=America/Chicago:20241215T000000
DTSTAMP:20260421T180347
CREATED:20250614T192023Z
LAST-MODIFIED:20250614T192023Z
UID:10011378-1734134400-1734220800@essft.com
SUMMARY:Southern California Sporting Spaniel Club Fall 2024 Hunt Test
DESCRIPTION:Entries Close: Tuesday\, December 3\, 2024 11:59:59 PM Eastern Time(ET) on Hunt Secretary.  \nJudges: Joseph D’Alessandro and Brent G. Evans
URL:https://essft.com/event/southern-california-sporting-spaniel-club-fall-2024-hunt-test/
CATEGORIES:Field Trials - West
END:VEVENT
BEGIN:VEVENT
DTSTART;TZID=America/Chicago:20241208T000000
DTEND;TZID=America/Chicago:20241213T000000
DTSTAMP:20260421T180347
CREATED:20250614T192022Z
LAST-MODIFIED:20250628T013849Z
UID:10011377-1733616000-1734048000@essft.com
SUMMARY:2024 National Open Championship - English Springer Spaniels
DESCRIPTION:Judges: George Akkouris and  Bill Cosgrove\n1st Entries will close Sunday November 21\, 2024 at 11:59:59 Eastern Time.\n2nd Close November 28\, 2024 at 6:00 P.M Mountain Standard Time(MST)\nPlease read below for explanation! on Hunt Secretary \n\n		\n			\n			\n		\n\n		\n 
URL:https://essft.com/event/2024-national-open-championship-english-springer-spaniels/
CATEGORIES:NATIONAL FIELD TRIALS
END:VEVENT
BEGIN:VEVENT
DTSTART;TZID=America/Chicago:20241207T000000
DTEND;TZID=America/Chicago:20241208T000000
DTSTAMP:20260421T180347
CREATED:20250614T192022Z
LAST-MODIFIED:20250614T192022Z
UID:10011376-1733529600-1733616000@essft.com
SUMMARY:Cocker Spaniel Specialty Club of Georgia Hunt Test
DESCRIPTION:Entries Close: Tuesday\, November 26\, 2024 11:59:59 PM Eastern Time(ET) on Hunt Secretary. \nJudges: Venee S Gardner and Vickie Dahlk
URL:https://essft.com/event/cocker-spaniel-specialty-club-of-georgia-hunt-test-2/
CATEGORIES:Hunt Tests
END:VEVENT
BEGIN:VEVENT
DTSTART;TZID=America/Chicago:20241207T000000
DTEND;TZID=America/Chicago:20241207T000000
DTSTAMP:20260421T180347
CREATED:20250614T192022Z
LAST-MODIFIED:20250628T013902Z
UID:10011375-1733529600-1733529600@essft.com
SUMMARY:2024 National Open Championship Training Day (Springer)
DESCRIPTION:
URL:https://essft.com/event/2024-national-open-championship-training-day-springer/
CATEGORIES:NATIONAL FIELD TRIALS
END:VEVENT
BEGIN:VEVENT
DTSTART;TZID=America/Chicago:20241128T000000
DTEND;TZID=America/Chicago:20241128T000000
DTSTAMP:20260421T180348
CREATED:20250614T192007Z
LAST-MODIFIED:20250614T192007Z
UID:10011374-1732752000-1732752000@essft.com
SUMMARY:Thanksgiving Day
DESCRIPTION:
URL:https://essft.com/event/thanksgiving-day-2/
CATEGORIES:Holidays
END:VEVENT
BEGIN:VEVENT
DTSTART;TZID=America/Chicago:20241123T000000
DTEND;TZID=America/Chicago:20241124T000000
DTSTAMP:20260421T180348
CREATED:20250614T192007Z
LAST-MODIFIED:20250614T192007Z
UID:10011371-1732320000-1732406400@essft.com
SUMMARY:English Springer Spaniel Club of Southern California Hunt Test
DESCRIPTION:Entries Close: Tuesday\, November 12\, 2024 11:59:59 PM Eastern Time(ET) on Hunt Secretary.  \nJudges: Joe D’Alessandro and Ron Hall
URL:https://essft.com/event/english-springer-spaniel-club-of-southern-california-hunt-test-4/
CATEGORIES:Hunt Tests
END:VEVENT
BEGIN:VEVENT
DTSTART;TZID=America/Chicago:20241123T000000
DTEND;TZID=America/Chicago:20241124T000000
DTSTAMP:20260421T180348
CREATED:20250614T192007Z
LAST-MODIFIED:20250628T012602Z
UID:10011372-1732320000-1732406400@essft.com
SUMMARY:English Cocker Spaniel Club of America Spaniel Hunt Test
DESCRIPTION:Entries Close: Tuesday\, November 12\, 2024 11:59:59 PM Eastern Time(ET) on Hunt Secretary. \nJudges: Kim Wiley and Bethann Wiley
URL:https://essft.com/event/english-cocker-spaniel-club-of-america-spaniel-hunt-test-4/
CATEGORIES:Hunt Tests
END:VEVENT
BEGIN:VEVENT
DTSTART;TZID=America/Chicago:20241123T000000
DTEND;TZID=America/Chicago:20241124T000000
DTSTAMP:20260421T180348
CREATED:20250614T192007Z
LAST-MODIFIED:20250614T192007Z
UID:10011373-1732320000-1732406400@essft.com
SUMMARY:Heart of Texas Spaniel Club Hunt Test
DESCRIPTION:Entries Close: Tuesday\, November 12\, 2024 11:59:59 PM Eastern Time(ET) on Hunt Secretary.  \nJudges: Allen Gann and Wayne Tisue\n\n		\n			\n			\n		\n\n		\n 
URL:https://essft.com/event/heart-of-texas-spaniel-club-hunt-test/
CATEGORIES:Hunt Tests
END:VEVENT
BEGIN:VEVENT
DTSTART;TZID=America/Chicago:20241116T000000
DTEND;TZID=America/Chicago:20241117T000000
DTSTAMP:20260421T180348
CREATED:20250614T192007Z
LAST-MODIFIED:20250614T192007Z
UID:10011370-1731715200-1731801600@essft.com
SUMMARY:Monterey Bay HRC Spaniel Hunt Test
DESCRIPTION:Entries Close: Tuesday\, November 5\, 2024 11:59:59 PM Eastern Time(ET) on Hunt Secretary. \nJudges: Gail Workman and Pluis Davern
URL:https://essft.com/event/monterey-bay-hrc-spaniel-hunt-test/
CATEGORIES:Hunt Tests
END:VEVENT
BEGIN:VEVENT
DTSTART;TZID=America/Chicago:20241116T000000
DTEND;TZID=America/Chicago:20241117T000000
DTSTAMP:20260421T180348
CREATED:20250614T191946Z
LAST-MODIFIED:20250614T191946Z
UID:10011369-1731715200-1731801600@essft.com
SUMMARY:New Jersey Spaniel Field Trial Club COCKER Field Trial
DESCRIPTION:Entries Close: Tuesday\, November 5\, 2024 11:59:59 PM Eastern Time(ET) on Hunt Secretary. \nJudges: Ted MCue and Deborah Olszewski
URL:https://essft.com/event/new-jersey-spaniel-field-trial-club-cocker-field-trial/
CATEGORIES:Cocker Trial
END:VEVENT
BEGIN:VEVENT
DTSTART;TZID=America/Chicago:20241111T000000
DTEND;TZID=America/Chicago:20241111T000000
DTSTAMP:20260421T180348
CREATED:20250614T191946Z
LAST-MODIFIED:20250614T191946Z
UID:10011368-1731283200-1731283200@essft.com
SUMMARY:Veterans Day
DESCRIPTION:
URL:https://essft.com/event/veterans-day-6/
CATEGORIES:Holidays
END:VEVENT
BEGIN:VEVENT
DTSTART;TZID=America/Chicago:20241109T000000
DTEND;TZID=America/Chicago:20241110T000000
DTSTAMP:20260421T180348
CREATED:20250614T191945Z
LAST-MODIFIED:20250614T191945Z
UID:10011366-1731110400-1731196800@essft.com
SUMMARY:New Jersey Spaniel Field Trial Club
DESCRIPTION:Entries Close: Tuesday\, October 29\, 2024 11:59:59 PM Eastern Time(ET) on Hunt Secretary.  \nJudges: Patrick Berry and Justin Smith\n\n		\n			\n			\n		\n\n		\n  \n 
URL:https://essft.com/event/new-jersey-spaniel-field-trial-club-12-2/
CATEGORIES:Field Trials - East
END:VEVENT
BEGIN:VEVENT
DTSTART;TZID=America/Chicago:20241109T000000
DTEND;TZID=America/Chicago:20241110T000000
DTSTAMP:20260421T180348
CREATED:20250614T191945Z
LAST-MODIFIED:20250614T191945Z
UID:10011367-1731110400-1731196800@essft.com
SUMMARY:Wateree Spaniel Club Hunt Test
DESCRIPTION:Entries Close: Tuesday\, October 29\, 2024 11:59:59 PM Eastern Time(ET) on Hunt Secretary. \nJudges: Dorothy Maslonek and Jean-Marie Tate\n\n		\n			\n			\n		\n\n		\n 
URL:https://essft.com/event/wateree-spaniel-club-hunt-test-4/
CATEGORIES:Hunt Tests
END:VEVENT
BEGIN:VEVENT
DTSTART;TZID=America/Chicago:20241109T000000
DTEND;TZID=America/Chicago:20241110T000000
DTSTAMP:20260421T180348
CREATED:20250614T191930Z
LAST-MODIFIED:20250614T191930Z
UID:10011364-1731110400-1731196800@essft.com
SUMMARY:West Allis TK Club
DESCRIPTION:
URL:https://essft.com/event/west-allis-tk-club/
CATEGORIES:Field Trials - Mid West
END:VEVENT
BEGIN:VEVENT
DTSTART;TZID=America/Chicago:20241109T000000
DTEND;TZID=America/Chicago:20241109T000000
DTSTAMP:20260421T180348
CREATED:20250614T191945Z
LAST-MODIFIED:20250614T191945Z
UID:10011365-1731110400-1731110400@essft.com
SUMMARY:Southern Wisconsin Sporting Spaniel Club Field Trial 2024
DESCRIPTION:Entries Close: Tuesday\, October 29\, 2024 11:59:59 PM Eastern Time(ET) on Hunt Secretary \nJudges: Jack Markowski and John Hall
URL:https://essft.com/event/southern-wisconsin-sporting-spaniel-club-field-trial-2024/
CATEGORIES:Field Trials - Mid West
END:VEVENT
BEGIN:VEVENT
DTSTART;TZID=America/Chicago:20241105T000000
DTEND;TZID=America/Chicago:20241109T000000
DTSTAMP:20260421T180348
CREATED:20250614T191930Z
LAST-MODIFIED:20250628T013916Z
UID:10011363-1730764800-1731110400@essft.com
SUMMARY:2024 Cocker Amateur Championship (NACC)
DESCRIPTION:1st Entries Close: Tuesday\, October 15\, 2024\, at 11:59:59 PM Eastern Time (ET).\n2nd Close: Monday\, October 21\, 2024\, at 12 PM (Noon) Central Time (CT) \non Hunt Secretary. \nJudges:  Richie Whelan and Bob Iverson\nTraining Day and Welcome Party on 11/4 \nTrial starts 11/5
URL:https://essft.com/event/2024-cocker-amateur-championship-nacc/
CATEGORIES:NATIONAL FIELD TRIALS
ORGANIZER;CN="Connie Soper":MAILTO:constancesoper@hotmail.com
END:VEVENT
BEGIN:VEVENT
DTSTART;TZID=America/Chicago:20241104T000000
DTEND;TZID=America/Chicago:20241104T000000
DTSTAMP:20260421T180348
CREATED:20250614T191930Z
LAST-MODIFIED:20250628T013951Z
UID:10011362-1730678400-1730678400@essft.com
SUMMARY:2024 NACC Training Day
DESCRIPTION:
URL:https://essft.com/event/2024-nacc-training-day/
CATEGORIES:NATIONAL FIELD TRIALS
END:VEVENT
BEGIN:VEVENT
DTSTART;TZID=America/Chicago:20241102T000000
DTEND;TZID=America/Chicago:20241103T000000
DTSTAMP:20260421T180348
CREATED:20250614T191930Z
LAST-MODIFIED:20250614T191930Z
UID:10011360-1730505600-1730592000@essft.com
SUMMARY:Stillwater Valley ESSC
DESCRIPTION:Entries Close: Tuesday\, October 22\, 2024 11:59:59 PM Eastern Time(ET) on Hunt Secretary. \nJudges: Todd Stelzer and Mike McGinty.
URL:https://essft.com/event/stillwater-valley-essc-4/
CATEGORIES:Field Trials - Mid East
END:VEVENT
BEGIN:VEVENT
DTSTART;TZID=America/Chicago:20241102T000000
DTEND;TZID=America/Chicago:20241103T000000
DTSTAMP:20260421T180348
CREATED:20250614T191930Z
LAST-MODIFIED:20250614T191930Z
UID:10011361-1730505600-1730592000@essft.com
SUMMARY:Welsh Springer Spaniel Club of America Spaniel Hunt Test
DESCRIPTION:Entries Close: Tuesday\, October 22\, 2024 11:59:59 PM Eastern Time(ET) on Hunt Secretary. \nJudges: Rich Louter and Frank Hauenschild\n\n		\n			\n			\n		\n\n		\n 
URL:https://essft.com/event/welsh-springer-spaniel-club-of-america-spaniel-hunt-test/
CATEGORIES:Hunt Tests
END:VEVENT
BEGIN:VEVENT
DTSTART;TZID=America/Chicago:20241102T000000
DTEND;TZID=America/Chicago:20241103T000000
DTSTAMP:20260421T180348
CREATED:20250614T191916Z
LAST-MODIFIED:20250614T191916Z
UID:10011359-1730505600-1730592000@essft.com
SUMMARY:Valley Forge Field Trial Association
DESCRIPTION:Entries Close: Tuesday\, October 22\, 2024 11:59:59 PM Eastern Time(ET) on Hunt Secretary. \nJudges: Brian Bilotta and John J Valera
URL:https://essft.com/event/valley-forge-field-trial-association-7-6/
CATEGORIES:Field Trials - East
END:VEVENT
BEGIN:VEVENT
DTSTART;TZID=America/Chicago:20241102T000000
DTEND;TZID=America/Chicago:20241103T000000
DTSTAMP:20260421T180348
CREATED:20250614T191915Z
LAST-MODIFIED:20250614T191915Z
UID:10011358-1730505600-1730592000@essft.com
SUMMARY:Missouri Hunting Spaniel Club
DESCRIPTION:Entries Close: Tuesday\, October 22\, 2024 11:59:59 PM Eastern Time(ET) on Hunt Secretary \nJudges: Bill Boeckman and Cristy Joy\n\n		\n			\n			\n		\n\n		\n 
URL:https://essft.com/event/missouri-hunting-spaniel-club-23/
CATEGORIES:Field Trials - Rocky Mountain
END:VEVENT
BEGIN:VEVENT
DTSTART;TZID=America/Chicago:20241102T000000
DTEND;TZID=America/Chicago:20241103T000000
DTSTAMP:20260421T180348
CREATED:20250614T191915Z
LAST-MODIFIED:20250614T191915Z
UID:10011356-1730505600-1730592000@essft.com
SUMMARY:Snake River English Springer Spaniel Club
DESCRIPTION:
URL:https://essft.com/event/snake-river-english-springer-spaniel-club/
CATEGORIES:Field Trials - West
END:VEVENT
BEGIN:VEVENT
DTSTART;TZID=America/Chicago:20241102T000000
DTEND;TZID=America/Chicago:20241103T000000
DTSTAMP:20260421T180348
CREATED:20250614T191915Z
LAST-MODIFIED:20250614T191915Z
UID:10011357-1730505600-1730592000@essft.com
SUMMARY:English Springer Spaniel Field Trial Club of Illinois
DESCRIPTION:Entries Close: Tuesday\, October 22\, 2024 11:59:59 PM Eastern Time(ET) on Hunt Secretary. \nJudges: Mark Matthieson and Jim O’Keefe
URL:https://essft.com/event/english-springer-spaniel-field-trial-club-of-illinois-7/
CATEGORIES:Field Trials - Mid West
END:VEVENT
BEGIN:VEVENT
DTSTART;TZID=America/Chicago:20241031T000000
DTEND;TZID=America/Chicago:20241101T000000
DTSTAMP:20260421T180348
CREATED:20250614T191915Z
LAST-MODIFIED:20250614T191915Z
UID:10011355-1730332800-1730419200@essft.com
SUMMARY:Keystone English Springer Spaniel Club
DESCRIPTION:TBD
URL:https://essft.com/event/keystone-english-springer-spaniel-club-11/
CATEGORIES:Field Trials - East
END:VEVENT
END:VCALENDAR