BEGIN:VCALENDAR
VERSION:2.0
PRODID:-//English Springer Spaniel Field Trials - ECPv6.15.20//NONSGML v1.0//EN
CALSCALE:GREGORIAN
METHOD:PUBLISH
X-WR-CALNAME:English Springer Spaniel Field Trials
X-ORIGINAL-URL:https://essft.com
X-WR-CALDESC:Events for English Springer Spaniel Field Trials
REFRESH-INTERVAL;VALUE=DURATION:PT1H
X-Robots-Tag:noindex
X-PUBLISHED-TTL:PT1H
BEGIN:VTIMEZONE
TZID:America/Chicago
BEGIN:DAYLIGHT
TZOFFSETFROM:-0600
TZOFFSETTO:-0500
TZNAME:CDT
DTSTART:20240310T080000
END:DAYLIGHT
BEGIN:STANDARD
TZOFFSETFROM:-0500
TZOFFSETTO:-0600
TZNAME:CST
DTSTART:20241103T070000
END:STANDARD
BEGIN:DAYLIGHT
TZOFFSETFROM:-0600
TZOFFSETTO:-0500
TZNAME:CDT
DTSTART:20250309T080000
END:DAYLIGHT
BEGIN:STANDARD
TZOFFSETFROM:-0500
TZOFFSETTO:-0600
TZNAME:CST
DTSTART:20251102T070000
END:STANDARD
BEGIN:DAYLIGHT
TZOFFSETFROM:-0600
TZOFFSETTO:-0500
TZNAME:CDT
DTSTART:20260308T080000
END:DAYLIGHT
BEGIN:STANDARD
TZOFFSETFROM:-0500
TZOFFSETTO:-0600
TZNAME:CST
DTSTART:20261101T070000
END:STANDARD
END:VTIMEZONE
BEGIN:VEVENT
DTSTART;TZID=America/Chicago:20250308T000000
DTEND;TZID=America/Chicago:20250309T000000
DTSTAMP:20260421T170552
CREATED:20250614T192304Z
LAST-MODIFIED:20250614T192304Z
UID:10011417-1741392000-1741478400@essft.com
SUMMARY:Inland Empire ESS Club
DESCRIPTION:Entries Close: Tuesday\, February 25\, 2025 11:59:59 PM Eastern Time(ET) on Hunt Secretary. \nJudges: Jerry Livingston and Gary Brietbarth\n\n		\n			\n			\n		\n\n		\n 
URL:https://essft.com/event/inland-empire-ess-club-10/
CATEGORIES:Field Trials - West
ORGANIZER;CN="Kathy Stermolle":MAILTO:stermolle@yahoo.com
END:VEVENT
BEGIN:VEVENT
DTSTART;TZID=America/Chicago:20250308T000000
DTEND;TZID=America/Chicago:20250309T000000
DTSTAMP:20260421T170552
CREATED:20250614T192304Z
LAST-MODIFIED:20250614T192304Z
UID:10011418-1741392000-1741478400@essft.com
SUMMARY:Boykin Spaniel Club & Breeders Assoc. America National Specialty
DESCRIPTION:Entries Close: Tuesday\, February 25\, 2025 11:59:59 PM Eastern Time(ET) on Hunt Secretary. \nJudges: Tim Pullian and Cathy Pullian\n\n		\n			\n			\n		\n\n		\n 
URL:https://essft.com/event/boykin-spaniel-club-breeders-assoc-america-national-specialty-2/
CATEGORIES:Hunt Tests
END:VEVENT
BEGIN:VEVENT
DTSTART;TZID=America/Chicago:20250308T000000
DTEND;TZID=America/Chicago:20250309T000000
DTSTAMP:20260421T170552
CREATED:20250614T192304Z
LAST-MODIFIED:20250614T192304Z
UID:10011419-1741392000-1741478400@essft.com
SUMMARY:Northern Colorado Springer Spaniel Club
DESCRIPTION:Entries Close: Monday\, February 24\, 2025 11:59:59 PM Eastern Time(ET) on Hunt Secretary. \nJudges: Robert Clayton and Rob Barlow – Joseph Eischen(Apprentice Judge)\n\n		\n			\n			\n		\n\n		\n 
URL:https://essft.com/event/northern-colorado-springer-spaniel-club-5-8/
CATEGORIES:Field Trials - Rocky Mountain
END:VEVENT
BEGIN:VEVENT
DTSTART;TZID=America/Chicago:20250307T000000
DTEND;TZID=America/Chicago:20250307T000000
DTSTAMP:20260421T170552
CREATED:20250614T192304Z
LAST-MODIFIED:20250614T192304Z
UID:10011416-1741305600-1741305600@essft.com
SUMMARY:Keystone ESSC Spring Field Trial
DESCRIPTION:Entries Close: Monday\, February 24\, 2025 11:59:59 PM Eastern Time(ET) on Hunt Secretary. \nJudges: Alex Cacchio and Richard Paquin
URL:https://essft.com/event/keystone-essc-spring-field-trial/
CATEGORIES:Field Trials - Mid East
ORGANIZER;CN="Barbara Granatir":MAILTO:sandyhilless@comcast.net
END:VEVENT
BEGIN:VEVENT
DTSTART;TZID=America/Chicago:20250306T000000
DTEND;TZID=America/Chicago:20250307T000000
DTSTAMP:20260421T170552
CREATED:20250614T192304Z
LAST-MODIFIED:20250614T192304Z
UID:10011415-1741219200-1741305600@essft.com
SUMMARY:Northern Colorado Springer Spaniel Club - COCKER Trial
DESCRIPTION:Entries Close: Monday\, February 24\, 2025 11:59:59 PM Eastern Time(ET) on Hunt Secretary. \nJudges: Rob Barlow and Randy Bartsch
URL:https://essft.com/event/northern-colorado-springer-spaniel-club-cocker-trial/
CATEGORIES:Cocker Trial
END:VEVENT
BEGIN:VEVENT
DTSTART;TZID=America/Chicago:20250301T000000
DTEND;TZID=America/Chicago:20250302T000000
DTSTAMP:20260421T170552
CREATED:20250614T192249Z
LAST-MODIFIED:20250614T192249Z
UID:10011410-1740787200-1740873600@essft.com
SUMMARY:Rocky Mountain Springer Spaniel Club
DESCRIPTION:Entries Close: Tuesday\, February 18\, 2025 11:59:59 PM Eastern Time(ET) on Hunt Secretary. \nJudges: Don Maue and Greg Royer\n\n		\n			\n			\n		\n\n		\n 
URL:https://essft.com/event/rocky-mountain-springer-spaniel-club-4/
CATEGORIES:Field Trials - Rocky Mountain
END:VEVENT
BEGIN:VEVENT
DTSTART;TZID=America/Chicago:20250301T000000
DTEND;TZID=America/Chicago:20250302T000000
DTSTAMP:20260421T170552
CREATED:20250614T192249Z
LAST-MODIFIED:20250614T192249Z
UID:10011411-1740787200-1740873600@essft.com
SUMMARY:Tamarin Spaniel Field Trial Club - ESS Field Trial
DESCRIPTION:Entries Close: Monday\, February 17\, 2025 11:59:59 PM Eastern Time(ET) on Hunt Secretary. \nJudges: Casey Butz and Judge change to Jim Keller
URL:https://essft.com/event/tamarin-spaniel-field-trial-club-ess-field-trial/
CATEGORIES:Field Trials - West
END:VEVENT
BEGIN:VEVENT
DTSTART;TZID=America/Chicago:20250301T000000
DTEND;TZID=America/Chicago:20250302T000000
DTSTAMP:20260421T170552
CREATED:20250614T192249Z
LAST-MODIFIED:20250614T192249Z
UID:10011412-1740787200-1740873600@essft.com
SUMMARY:Valley Forge Field Trial Association Cocker Field Trial
DESCRIPTION:Entries Close: Tuesday\, February 18\, 2025 11:59:59 PM Eastern Time(ET) on Hunt Secretary. \nJudges: Dan Lussen and Paul Noyce
URL:https://essft.com/event/valley-forge-field-trial-association-cocker-field-trial/
CATEGORIES:Cocker Trial
END:VEVENT
BEGIN:VEVENT
DTSTART;TZID=America/Chicago:20250301T000000
DTEND;TZID=America/Chicago:20250302T000000
DTSTAMP:20260421T170552
CREATED:20250614T192249Z
LAST-MODIFIED:20250614T192249Z
UID:10011413-1740787200-1740873600@essft.com
SUMMARY:North Texas Sporting Spaniel Club Hunt Test
DESCRIPTION:Entries Close: Tuesday\, February 18\, 2025 11:59:59 PM Eastern Time(ET) on Hunt Secretary. \nJudges: Alan Gann and Alan Young
URL:https://essft.com/event/north-texas-sporting-spaniel-club-hunt-test-7/
CATEGORIES:Hunt Tests
END:VEVENT
BEGIN:VEVENT
DTSTART;TZID=America/Chicago:20250301T000000
DTEND;TZID=America/Chicago:20250302T000000
DTSTAMP:20260421T170552
CREATED:20250614T192249Z
LAST-MODIFIED:20250614T192249Z
UID:10011414-1740787200-1740873600@essft.com
SUMMARY:Cincinnati English Springer Spaniel Field Trial Club
DESCRIPTION:Entries Close: Tuesday\, February 18\, 2025 11:59:59 PM Eastern Time(ET) on Hunt Secretary. \nJudges:  John Knowles and Brent LeMaster
URL:https://essft.com/event/cincinnati-english-springer-spaniel-field-trial-club-10/
CATEGORIES:Field Trials - Mid East
ORGANIZER;CN="Amy Haering":MAILTO:cessftc@yahoo.com
END:VEVENT
BEGIN:VEVENT
DTSTART;TZID=America/Chicago:20250228T000000
DTEND;TZID=America/Chicago:20250301T000000
DTSTAMP:20260421T170552
CREATED:20250614T192234Z
LAST-MODIFIED:20250614T192234Z
UID:10011409-1740700800-1740787200@essft.com
SUMMARY:Tamarin Spaniel Field Trial Club- COCKER FT
DESCRIPTION:Entries Close: Monday\, February 17\, 2025 11:59:59 PM Eastern Time(ET) on Hunt Secretary. \nJudges: Casey Butz and Jim Keller
URL:https://essft.com/event/tamarin-spaniel-field-trial-club-cocker-ft/
CATEGORIES:Cocker Trial
END:VEVENT
BEGIN:VEVENT
DTSTART;TZID=America/Chicago:20250222T000000
DTEND;TZID=America/Chicago:20250223T000000
DTSTAMP:20260421T170552
CREATED:20250614T192234Z
LAST-MODIFIED:20250614T192234Z
UID:10011407-1740182400-1740268800@essft.com
SUMMARY:Missouri Hunting Spaniel Club
DESCRIPTION:Entries Close: Tuesday\, February 11\, 2025 11:59:59 PM Eastern Time(ET) on Hunt Secretary. \nJudges: Patrick Berry and Randy Manore
URL:https://essft.com/event/missouri-hunting-spaniel-club-24/
CATEGORIES:Field Trials - Rocky Mountain
END:VEVENT
BEGIN:VEVENT
DTSTART;TZID=America/Chicago:20250222T000000
DTEND;TZID=America/Chicago:20250223T000000
DTSTAMP:20260421T170552
CREATED:20250614T192234Z
LAST-MODIFIED:20250614T192234Z
UID:10011408-1740182400-1740268800@essft.com
SUMMARY:Southern California Sporting Spaniel Club 2025 COCKER Field Trial
DESCRIPTION:Entries Close: Tuesday\, February 11\, 2025 11:59:59 PM Eastern Time(ET) on Hunt Secretary. \nJudges: Steve Bender and Robert Griffin\n\n		\n			\n			\n		\n\n		\n 
URL:https://essft.com/event/southern-california-sporting-spaniel-club-2025-cocker-field-trial/
CATEGORIES:Cocker Trial
END:VEVENT
BEGIN:VEVENT
DTSTART;TZID=America/Chicago:20250222T000000
DTEND;TZID=America/Chicago:20250223T000000
DTSTAMP:20260421T170552
CREATED:20250614T192234Z
LAST-MODIFIED:20250614T192234Z
UID:10011405-1740182400-1740268800@essft.com
SUMMARY:Southern California Sporting Spaniel Club
DESCRIPTION:Entries Close: Tuesday\, February 11\, 2025 11:59:59 PM Eastern Time(ET) on Hunt Secretary. \nJudges: Steve Bender and Robert Griffin\n\n		\n			\n			\n		\n\n		\n 
URL:https://essft.com/event/southern-california-sporting-spaniel-club-12/
CATEGORIES:Field Trials - West
END:VEVENT
BEGIN:VEVENT
DTSTART;TZID=America/Chicago:20250222T000000
DTEND;TZID=America/Chicago:20250223T000000
DTSTAMP:20260421T170552
CREATED:20250614T192234Z
LAST-MODIFIED:20250614T192234Z
UID:10011406-1740182400-1740268800@essft.com
SUMMARY:English Cocker Spaniel Club of America - Tennessee Cocker Trial
DESCRIPTION:Entries Close: Tuesday\, February 11\, 2025 11:59:59 PM Eastern Time(ET) on Hunt Secretary. \nJudges: Ken Hanson and John Smith
URL:https://essft.com/event/english-cocker-spaniel-club-of-america-tennessee-cocker-trial-2/
CATEGORIES:Field Trials - Rocky Mountain
END:VEVENT
BEGIN:VEVENT
DTSTART;TZID=America/Chicago:20250217T000000
DTEND;TZID=America/Chicago:20250217T000000
DTSTAMP:20260421T170552
CREATED:20250614T192219Z
LAST-MODIFIED:20250614T192219Z
UID:10011403-1739750400-1739750400@essft.com
SUMMARY:SanFernando Valley Springer Spaniel Club
DESCRIPTION:Waiting for more information.
URL:https://essft.com/event/sanfernando-valley-springer-spaniel-club/
CATEGORIES:Field Trials - West
END:VEVENT
BEGIN:VEVENT
DTSTART;TZID=America/Chicago:20250217T000000
DTEND;TZID=America/Chicago:20250217T000000
DTSTAMP:20260421T170552
CREATED:20250614T192219Z
LAST-MODIFIED:20250614T192219Z
UID:10011404-1739750400-1739750400@essft.com
SUMMARY:Presidents' Day
DESCRIPTION:
URL:https://essft.com/event/presidents-day-6/
CATEGORIES:Holidays
END:VEVENT
BEGIN:VEVENT
DTSTART;TZID=America/Chicago:20250215T000000
DTEND;TZID=America/Chicago:20250216T000000
DTSTAMP:20260421T170553
CREATED:20250614T192219Z
LAST-MODIFIED:20250614T192219Z
UID:10011401-1739577600-1739664000@essft.com
SUMMARY:Arrowhead ESS Club
DESCRIPTION:Entries close at 5:00 PM (PST) February 3\, 2025 on Hunt Secretary. \nJudges: Dan Murray and Paul Johannes\n\n		\n			\n			\n		\n\n		\n 
URL:https://essft.com/event/arrowhead-ess-club-14/
CATEGORIES:Field Trials - West
END:VEVENT
BEGIN:VEVENT
DTSTART;TZID=America/Chicago:20250215T000000
DTEND;TZID=America/Chicago:20250216T000000
DTSTAMP:20260421T170553
CREATED:20250614T192219Z
LAST-MODIFIED:20250614T192219Z
UID:10011402-1739577600-1739664000@essft.com
SUMMARY:Chattahoochee English Springer Spaniel Club of Greater Atlanta
DESCRIPTION:Entries Close: Tuesday\, February 4\, 2025 11:59:59 PM Eastern Time(ET) on Hunt Secretary. \nJudges: Jeanne S Grim and Frank Martinez
URL:https://essft.com/event/chattahoochee-english-springer-spaniel-club-of-greater-atlanta-3/
CATEGORIES:Field Trials - East
END:VEVENT
BEGIN:VEVENT
DTSTART;TZID=America/Chicago:20250214T000000
DTEND;TZID=America/Chicago:20250214T000000
DTSTAMP:20260421T170553
CREATED:20250614T192219Z
LAST-MODIFIED:20250614T192219Z
UID:10011400-1739491200-1739491200@essft.com
SUMMARY:Valentine's Day
DESCRIPTION:
URL:https://essft.com/event/valentines-day/
CATEGORIES:Holidays
END:VEVENT
BEGIN:VEVENT
DTSTART;TZID=America/Chicago:20250209T000000
DTEND;TZID=America/Chicago:20250209T000000
DTSTAMP:20260421T170553
CREATED:20250614T192204Z
LAST-MODIFIED:20250614T192204Z
UID:10011399-1739059200-1739059200@essft.com
SUMMARY:Super Bowl Game
DESCRIPTION:
URL:https://essft.com/event/super-bowl-game/
CATEGORIES:Holidays
END:VEVENT
BEGIN:VEVENT
DTSTART;TZID=America/Chicago:20250207T000000
DTEND;TZID=America/Chicago:20250208T000000
DTSTAMP:20260421T170553
CREATED:20250614T192204Z
LAST-MODIFIED:20250614T192204Z
UID:10011398-1738886400-1738972800@essft.com
SUMMARY:Hall of Fame Trial 2 (Volunteer Club)
DESCRIPTION:Entries Close: Monday\, January 27\, 2025 11:59:59 PM Eastern Time(ET) on Hunt Secretary. \nJudges: Clay Earl and Bob Iverson\nHotel Link.
URL:https://essft.com/event/hall-of-fame-trial-2-volunteer-club/
CATEGORIES:Field Trials - Rocky Mountain
END:VEVENT
BEGIN:VEVENT
DTSTART;TZID=America/Chicago:20250205T000000
DTEND;TZID=America/Chicago:20250206T000000
DTSTAMP:20260421T170553
CREATED:20250614T192204Z
LAST-MODIFIED:20250614T192204Z
UID:10011397-1738713600-1738800000@essft.com
SUMMARY:Hall of Fame Trial 1 (Volunteer Club)
DESCRIPTION:Entries Close: Monday\, January 27\, 2025 11:59:59 PM Eastern Time(ET) on Hunt Secretary. \nJudges: Paul Haering and David Sanford\nHotel Link.
URL:https://essft.com/event/hall-of-fame-trial-1-volunteer-club/
CATEGORIES:Field Trials - Rocky Mountain
END:VEVENT
BEGIN:VEVENT
DTSTART;TZID=America/Chicago:20250131T000000
DTEND;TZID=America/Chicago:20250202T000000
DTSTAMP:20260421T170553
CREATED:20250614T192204Z
LAST-MODIFIED:20250614T192204Z
UID:10011396-1738281600-1738454400@essft.com
SUMMARY:Rogue Valley Sporting Spaniel Club COCKER Field Trial
DESCRIPTION:Entries Close: Monday\, January 20\, 2025 11:59:59 PM Eastern Time(ET) on Hunt Secretary. \nJudges: Gary Fluckiger and Alan Baugh\n\n		\n			\n			\n		\n\n		\n 
URL:https://essft.com/event/rogue-valley-sporting-spaniel-club-cocker-field-trial/
CATEGORIES:Cocker Trial
END:VEVENT
BEGIN:VEVENT
DTSTART;TZID=America/Chicago:20250131T000000
DTEND;TZID=America/Chicago:20250201T000000
DTSTAMP:20260421T170553
CREATED:20250614T192204Z
LAST-MODIFIED:20250614T192204Z
UID:10011395-1738281600-1738368000@essft.com
SUMMARY:Rogue Valley Sporting Spaniel Club SPRINGER Field Trial
DESCRIPTION:Entries Close: Monday\, January 20\, 2025 11:59:59 PM Eastern Time(ET) on Hunt Secretary. \nJudges: Gary Fluckiger and Alan Baugh
URL:https://essft.com/event/rogue-valley-sporting-spaniel-club-springer-field-trial/
CATEGORIES:Field Trials - West
END:VEVENT
BEGIN:VEVENT
DTSTART;TZID=America/Chicago:20250127T000000
DTEND;TZID=America/Chicago:20250128T000000
DTSTAMP:20260421T170553
CREATED:20250614T192149Z
LAST-MODIFIED:20250614T192149Z
UID:10011394-1737936000-1738022400@essft.com
SUMMARY:Platte River ESSC COCKER Double Open Field Trial
DESCRIPTION:Entries Close: Tuesday\, January 14\, 2025 11:59:59 PM Eastern Time(ET) on Hunt Secretary. \nJudges: Jim O’Keefe and Michael Pollack
URL:https://essft.com/event/platte-river-essc-cocker-double-open-field-trial/
CATEGORIES:Cocker Trial
END:VEVENT
BEGIN:VEVENT
DTSTART;TZID=America/Chicago:20250125T000000
DTEND;TZID=America/Chicago:20250127T000000
DTSTAMP:20260421T170553
CREATED:20250614T192149Z
LAST-MODIFIED:20250614T192149Z
UID:10011393-1737763200-1737936000@essft.com
SUMMARY:Platte River English Springer Spaniel Club
DESCRIPTION:Entries Close: Tuesday\, January 14\, 2025 11:59:59 PM Eastern Time(ET) on Hunt Secretary. \nJudges: Randy Bartsch and Ken Hanson with Apprentice Joe Eischen\n\n		\n			\n			\n		\n\n		\n 
URL:https://essft.com/event/platte-river-english-springer-spaniel-club-6-2/
CATEGORIES:Field Trials - Rocky Mountain
END:VEVENT
BEGIN:VEVENT
DTSTART;TZID=America/Chicago:20250125T000000
DTEND;TZID=America/Chicago:20250126T000000
DTSTAMP:20260421T170553
CREATED:20250614T192149Z
LAST-MODIFIED:20250614T192149Z
UID:10011391-1737763200-1737849600@essft.com
SUMMARY:English Springer Spaniel Club of Southern California
DESCRIPTION:Entries Close: Tuesday\, January 14\, 2025 11:59:59 PM Eastern Time(ET) on Hunt Secretary. \nJudges: Brent Blundell Cindy Williams
URL:https://essft.com/event/english-springer-spaniel-club-of-southern-california-6/
CATEGORIES:Field Trials - West
END:VEVENT
BEGIN:VEVENT
DTSTART;TZID=America/Chicago:20250125T000000
DTEND;TZID=America/Chicago:20250125T000000
DTSTAMP:20260421T170553
CREATED:20250614T192149Z
LAST-MODIFIED:20250614T192149Z
UID:10011392-1737763200-1737763200@essft.com
SUMMARY:Wateree Spaniel Club COCKER Field Trial
DESCRIPTION:Entries Close: Monday\, January 13\, 2025 11:59:59 PM Eastern Time(ET) on Hunt Secretary. \nJudges: Mark Haglin and Ryan Lamberg\n\n		\n			\n			\n		\n\n		\n 
URL:https://essft.com/event/wateree-spaniel-club-cocker-field-trial/
CATEGORIES:Cocker Trial
END:VEVENT
BEGIN:VEVENT
DTSTART;TZID=America/Chicago:20250124T000000
DTEND;TZID=America/Chicago:20250124T000000
DTSTAMP:20260421T170553
CREATED:20250614T192149Z
LAST-MODIFIED:20250614T192149Z
UID:10011390-1737676800-1737676800@essft.com
SUMMARY:Wateree Spaniel Club SPRINGER Spaniel Field Trial
DESCRIPTION:Entries Close: Monday\, January 13\, 2025 11:59:59 PM Eastern Time(ET) on Hunt Secretary. \nJudges: Mark Haglin and Ryan Lamberg
URL:https://essft.com/event/wateree-spaniel-club-springer-spaniel-field-trial-2/
CATEGORIES:Field Trials - East
END:VEVENT
END:VCALENDAR