BEGIN:VCALENDAR
VERSION:2.0
PRODID:-//English Springer Spaniel Field Trials - ECPv6.15.20//NONSGML v1.0//EN
CALSCALE:GREGORIAN
METHOD:PUBLISH
X-WR-CALNAME:English Springer Spaniel Field Trials
X-ORIGINAL-URL:https://essft.com
X-WR-CALDESC:Events for English Springer Spaniel Field Trials
REFRESH-INTERVAL;VALUE=DURATION:PT1H
X-Robots-Tag:noindex
X-PUBLISHED-TTL:PT1H
BEGIN:VTIMEZONE
TZID:America/Chicago
BEGIN:DAYLIGHT
TZOFFSETFROM:-0600
TZOFFSETTO:-0500
TZNAME:CDT
DTSTART:20220313T080000
END:DAYLIGHT
BEGIN:STANDARD
TZOFFSETFROM:-0500
TZOFFSETTO:-0600
TZNAME:CST
DTSTART:20221106T070000
END:STANDARD
BEGIN:DAYLIGHT
TZOFFSETFROM:-0600
TZOFFSETTO:-0500
TZNAME:CDT
DTSTART:20230312T080000
END:DAYLIGHT
BEGIN:STANDARD
TZOFFSETFROM:-0500
TZOFFSETTO:-0600
TZNAME:CST
DTSTART:20231105T070000
END:STANDARD
BEGIN:DAYLIGHT
TZOFFSETFROM:-0600
TZOFFSETTO:-0500
TZNAME:CDT
DTSTART:20240310T080000
END:DAYLIGHT
BEGIN:STANDARD
TZOFFSETFROM:-0500
TZOFFSETTO:-0600
TZNAME:CST
DTSTART:20241103T070000
END:STANDARD
BEGIN:DAYLIGHT
TZOFFSETFROM:-0600
TZOFFSETTO:-0500
TZNAME:CDT
DTSTART:20250309T080000
END:DAYLIGHT
BEGIN:STANDARD
TZOFFSETFROM:-0500
TZOFFSETTO:-0600
TZNAME:CST
DTSTART:20251102T070000
END:STANDARD
END:VTIMEZONE
BEGIN:VEVENT
DTSTART;TZID=America/Chicago:20240113T000000
DTEND;TZID=America/Chicago:20240114T000000
DTSTAMP:20260422T065938
CREATED:20250614T163922Z
LAST-MODIFIED:20250614T163922Z
UID:10011110-1705104000-1705190400@essft.com
SUMMARY:Ravenna / MidEast Memorial
DESCRIPTION:Entries Close: Tuesday\, January 2\, 2024 11:59:59 PM Eastern Time(ET) on Hunt Secretary \nJudges:  Shane Cresswell and Jim O’Shea\n\n		\n			\n			\n		\n\n		\n 
URL:https://essft.com/event/ravenna-mideast-memorial/
LOCATION:Beelman Farm\, 2192 Co Rd 21\, De Graff\, OH 43318\, USA\, De Graff\, Ohio\, 43318\, United States
CATEGORIES:Field Trials - Mid East
GEO:40.36598;-83.944001
X-APPLE-STRUCTURED-LOCATION;VALUE=URI;X-ADDRESS=Beelman Farm 2192 Co Rd 21 De Graff OH 43318 USA De Graff Ohio 43318 United States;X-APPLE-RADIUS=500;X-TITLE=2192 Co Rd 21\, De Graff\, OH 43318\, USA:geo:-83.944001,40.36598
END:VEVENT
BEGIN:VEVENT
DTSTART;TZID=America/Chicago:20240113T000000
DTEND;TZID=America/Chicago:20240114T000000
DTSTAMP:20260422T065938
CREATED:20250614T163919Z
LAST-MODIFIED:20250614T163919Z
UID:10011109-1705104000-1705190400@essft.com
SUMMARY:English Cocker Spaniel Club of America - Georgia Cocker Trial
DESCRIPTION:Entries Close: Tuesday\, January 2\, 2024 11:59:59 PM Eastern Time(ET) on Hunt Secretary \nJudges: Ray Takmajian and Pete Zuleger\n\n		\n			\n			\n		\n\n		\n 
URL:https://essft.com/event/english-cocker-spaniel-club-of-america-georgia-cocker-trial/
CATEGORIES:Cocker Trial
END:VEVENT
BEGIN:VEVENT
DTSTART;TZID=America/Chicago:20240111T000000
DTEND;TZID=America/Chicago:20240114T000000
DTSTAMP:20260422T065938
CREATED:20250614T163919Z
LAST-MODIFIED:20250614T163919Z
UID:10011108-1704931200-1705190400@essft.com
SUMMARY:Oklahoma Sporting Spaniel Club - Double Open/Am
DESCRIPTION:Double Springer Trial \nEntries Close: Tuesday\, January 2\, 2024 11:59:59 PM Eastern Time(ET) on Hunt Secretary \nJudges Trial 1 (Thursday/Friday):  Pete Anderson and Bob Iverson\nJudges Trial 2 (Saturday/Sunday): Todd Stelzer and Mike McGinty
URL:https://essft.com/event/oklahoma-sporting-spaniel-club-double-open-am/
CATEGORIES:Field Trials - Rocky Mountain
END:VEVENT
BEGIN:VEVENT
DTSTART;TZID=America/Chicago:20240108T000000
DTEND;TZID=America/Chicago:20240109T000000
DTSTAMP:20260422T065938
CREATED:20250614T163919Z
LAST-MODIFIED:20250614T163919Z
UID:10011107-1704672000-1704758400@essft.com
SUMMARY:COCKER: Platte River ESSC 2 Opens
DESCRIPTION:Entries Close: Tuesday\, December 26\, 2023 11:59:59 PM Eastern Time(ET) on Hunt Secretary \nJudges: Chad Betts and John Dunn\n***Location Change***\nMcNew Rd and NE 60 St\nPretty Prairie\, KS
URL:https://essft.com/event/cocker-platte-river-essc-2-opens/
CATEGORIES:Cocker Trial
END:VEVENT
BEGIN:VEVENT
DTSTART;TZID=America/Chicago:20240106T000000
DTEND;TZID=America/Chicago:20240107T000000
DTSTAMP:20260422T065938
CREATED:20250614T163919Z
LAST-MODIFIED:20250614T163919Z
UID:10011106-1704499200-1704585600@essft.com
SUMMARY:Platte River ESSC
DESCRIPTION:Entries Close: Tuesday\, December 26\, 2023 11:59:59 PM Eastern Time(ET) on Hunt Secretary \nJudges: Will Pick and Jeff Cubitt\n  \n***Location Change***\nMcNew Rd and NE 60th St\nPretty Prairie\, KS \n\n		\n			\n			\n		\n\n		\n 
URL:https://essft.com/event/platte-river-essc-6/
CATEGORIES:Field Trials - Rocky Mountain
END:VEVENT
BEGIN:VEVENT
DTSTART;TZID=America/Chicago:20240101T000000
DTEND;TZID=America/Chicago:20240101T000000
DTSTAMP:20260422T065938
CREATED:20250614T163918Z
LAST-MODIFIED:20250614T163918Z
UID:10011105-1704067200-1704067200@essft.com
SUMMARY:New Year's Day
DESCRIPTION:
URL:https://essft.com/event/new-years-day-6/
CATEGORIES:Holidays
END:VEVENT
BEGIN:VEVENT
DTSTART;TZID=America/Chicago:20231206T000000
DTEND;TZID=America/Chicago:20231210T000000
DTSTAMP:20260422T065938
CREATED:20250614T163732Z
LAST-MODIFIED:20250628T014059Z
UID:10011104-1701820800-1702166400@essft.com
SUMMARY:2023 National Open Cocker Championship
DESCRIPTION:https://www.huntsecretary.com/eventinfo_A.asp?mhuntid=1006195
URL:https://essft.com/event/2023-national-open-cocker-championship/
CATEGORIES:NATIONAL FIELD TRIALS
END:VEVENT
BEGIN:VEVENT
DTSTART;TZID=America/Chicago:20231202T000000
DTEND;TZID=America/Chicago:20231203T000000
DTSTAMP:20260422T065938
CREATED:20250614T163732Z
LAST-MODIFIED:20250614T163732Z
UID:10011102-1701475200-1701561600@essft.com
SUMMARY:Southern California Sporting Spaniel Club
DESCRIPTION:Entries Close: Monday\, November 20\, 2023 11:59:59 PM Eastern Time(ET) on Hunt Secretary
URL:https://essft.com/event/southern-california-sporting-spaniel-club-10/
CATEGORIES:Hunt Tests
END:VEVENT
BEGIN:VEVENT
DTSTART;TZID=America/Chicago:20231202T000000
DTEND;TZID=America/Chicago:20231203T000000
DTSTAMP:20260422T065938
CREATED:20250614T163732Z
LAST-MODIFIED:20250614T163732Z
UID:10011103-1701475200-1701561600@essft.com
SUMMARY:Cocker Spaniel Specialty Club of Georgia Winter 2023 Hunt Test
DESCRIPTION:https://www.huntsecretary.com/eventinfo_A.asp?mhuntid=1006181
URL:https://essft.com/event/cocker-spaniel-specialty-club-of-georgia-winter-2023-hunt-test/
CATEGORIES:Hunt Tests
END:VEVENT
BEGIN:VEVENT
DTSTART;TZID=America/Chicago:20231126T000000
DTEND;TZID=America/Chicago:20231202T000000
DTSTAMP:20260422T065938
CREATED:20250614T163732Z
LAST-MODIFIED:20250628T014105Z
UID:10011101-1700956800-1701475200@essft.com
SUMMARY:2023 ESSFTA National Amateur Championship
DESCRIPTION:https://essft.com/2023-national-amateur-championship-nac-columbus-nebraska/
URL:https://essft.com/event/2023-essfta-national-amateur-championship/
CATEGORIES:NATIONAL FIELD TRIALS
END:VEVENT
BEGIN:VEVENT
DTSTART;TZID=America/Chicago:20231123T000000
DTEND;TZID=America/Chicago:20231123T000000
DTSTAMP:20260422T065938
CREATED:20250614T163732Z
LAST-MODIFIED:20250614T163732Z
UID:10011100-1700697600-1700697600@essft.com
SUMMARY:Thanksgiving
DESCRIPTION:
URL:https://essft.com/event/thanksgiving-3/
CATEGORIES:Holidays
END:VEVENT
BEGIN:VEVENT
DTSTART;TZID=America/Chicago:20231118T000000
DTEND;TZID=America/Chicago:20231119T000000
DTSTAMP:20260422T065938
CREATED:20250614T163717Z
LAST-MODIFIED:20250614T163717Z
UID:10011098-1700265600-1700352000@essft.com
SUMMARY:English Cocker Spaniel Club of America Spaniel Hunt Test
DESCRIPTION:https://www.huntsecretary.com/eventinfo_A.asp?mhuntid=1006093
URL:https://essft.com/event/english-cocker-spaniel-club-of-america-spaniel-hunt-test-3/
CATEGORIES:Hunt Tests
END:VEVENT
BEGIN:VEVENT
DTSTART;TZID=America/Chicago:20231118T000000
DTEND;TZID=America/Chicago:20231119T000000
DTSTAMP:20260422T065938
CREATED:20250614T163717Z
LAST-MODIFIED:20250614T163717Z
UID:10011099-1700265600-1700352000@essft.com
SUMMARY:English Springer Spaniel Club of Southern California Hunt Test
DESCRIPTION:https://www.huntsecretary.com/eventinfo_A.asp?mhuntid=1006102
URL:https://essft.com/event/english-springer-spaniel-club-of-southern-california-hunt-test-3/
CATEGORIES:Hunt Tests
END:VEVENT
BEGIN:VEVENT
DTSTART;TZID=America/Chicago:20231115T000000
DTEND;TZID=America/Chicago:20231120T000000
DTSTAMP:20260422T065938
CREATED:20250614T163717Z
LAST-MODIFIED:20250628T014114Z
UID:10011097-1700006400-1700438400@essft.com
SUMMARY:2023 National Open Championship
DESCRIPTION:https://essft.com/2023-national-open-championship-noc-chillcothe-ohio/
URL:https://essft.com/event/2023-national-open-championship/
CATEGORIES:NATIONAL FIELD TRIALS
END:VEVENT
BEGIN:VEVENT
DTSTART;TZID=America/Chicago:20231111T000000
DTEND;TZID=America/Chicago:20231112T000000
DTSTAMP:20260422T065938
CREATED:20250614T163717Z
LAST-MODIFIED:20250614T163717Z
UID:10011096-1699660800-1699747200@essft.com
SUMMARY:Houston English Springer Spaniel Club
DESCRIPTION:No trial this fall.
URL:https://essft.com/event/houston-english-springer-spaniel-club-7-5/
CATEGORIES:Field Trials - Rocky Mountain
END:VEVENT
BEGIN:VEVENT
DTSTART;TZID=America/Chicago:20231111T000000
DTEND;TZID=America/Chicago:20231111T000000
DTSTAMP:20260422T065938
CREATED:20250614T163717Z
LAST-MODIFIED:20250614T163717Z
UID:10011095-1699660800-1699660800@essft.com
SUMMARY:Veteran's Day
DESCRIPTION:
URL:https://essft.com/event/veterans-day-5/
CATEGORIES:Holidays
END:VEVENT
BEGIN:VEVENT
DTSTART;TZID=America/Chicago:20231110T000000
DTEND;TZID=America/Chicago:20231112T000000
DTSTAMP:20260422T065938
CREATED:20250614T163702Z
LAST-MODIFIED:20250614T163702Z
UID:10011094-1699574400-1699747200@essft.com
SUMMARY:COCKER: Iowa Sporting Spaniel Club
DESCRIPTION:Canceled – no trial in 2023
URL:https://essft.com/event/cocker-iowa-sporting-spaniel-club-2/
CATEGORIES:Cocker Trial
END:VEVENT
BEGIN:VEVENT
DTSTART;TZID=America/Chicago:20231108T000000
DTEND;TZID=America/Chicago:20231109T000000
DTSTAMP:20260422T065938
CREATED:20250614T163702Z
LAST-MODIFIED:20250614T163702Z
UID:10011093-1699401600-1699488000@essft.com
SUMMARY:Iowa Sporting Spaniel Club
DESCRIPTION:Canceled.
URL:https://essft.com/event/iowa-sporting-spaniel-club-4/
CATEGORIES:Field Trials - Mid West
END:VEVENT
BEGIN:VEVENT
DTSTART;TZID=America/Chicago:20231105T000000
DTEND;TZID=America/Chicago:20231105T000000
DTSTAMP:20260422T065938
CREATED:20250614T163702Z
LAST-MODIFIED:20250614T163702Z
UID:10011092-1699142400-1699142400@essft.com
SUMMARY:Daylight Savings Time Ends (Fall Back)
DESCRIPTION:
URL:https://essft.com/event/daylight-savings-time-ends-fall-back/
CATEGORIES:Holidays
END:VEVENT
BEGIN:VEVENT
DTSTART;TZID=America/Chicago:20231104T000000
DTEND;TZID=America/Chicago:20231105T000000
DTSTAMP:20260422T065938
CREATED:20250614T163702Z
LAST-MODIFIED:20250614T163702Z
UID:10011090-1699056000-1699142400@essft.com
SUMMARY:English Springer Spaniel Field Trial Club of Illinois
DESCRIPTION:Entries Close: Tuesday\, October 24\, 2023 11:59:59 PM Eastern Time(ET) on Hunt Secretary \nJudges: Bill McCaffrey and  Pete Zuleger
URL:https://essft.com/event/english-springer-spaniel-field-trial-club-of-illinois-4/
CATEGORIES:Field Trials - Mid West
END:VEVENT
BEGIN:VEVENT
DTSTART;TZID=America/Chicago:20231104T000000
DTEND;TZID=America/Chicago:20231105T000000
DTSTAMP:20260422T065938
CREATED:20250614T163702Z
LAST-MODIFIED:20250614T163702Z
UID:10011091-1699056000-1699142400@essft.com
SUMMARY:Cocker: Arrowhead Cocker Trial
DESCRIPTION:Entries Close: Tuesday\, October 24\, 2023 11:59:59 PM Eastern Time(ET) on Hunt Secretary \nJudges: Trent Bosse and Rick Paquin
URL:https://essft.com/event/cocker-arrowhead-cocker-trial/
LOCATION:Lahontan Valley Bird Dog Club\, Fallon\, NV 89406\, USA\, Fallon\, Nevada\, 89406\, United States
CATEGORIES:Cocker Trial
GEO:39.474869;-118.777041
X-APPLE-STRUCTURED-LOCATION;VALUE=URI;X-ADDRESS=Lahontan Valley Bird Dog Club Fallon NV 89406 USA Fallon Nevada 89406 United States;X-APPLE-RADIUS=500;X-TITLE=Fallon\, NV 89406\, USA:geo:-118.777041,39.474869
END:VEVENT
BEGIN:VEVENT
DTSTART;TZID=America/Chicago:20231104T000000
DTEND;TZID=America/Chicago:20231105T000000
DTSTAMP:20260422T065938
CREATED:20250614T163529Z
LAST-MODIFIED:20250614T163529Z
UID:10011086-1699056000-1699142400@essft.com
SUMMARY:Arrowhead ESS Club
DESCRIPTION:Entries Close: Tuesday\, October 24\, 2023 11:59:59 PM Eastern Time(ET) on Hunt Secretary \nJudges:  Trent Bosse and Rick Paquin\n\n		\n			\n			\n		\n\n		\n  \n  \n4/25/2023: Per Bob Beauchamp – Arrowhead at Fallon has moved it’s trial (for just this year) from Oct. 7and 8 to Nov. 4 and 5. \n 
URL:https://essft.com/event/arrowhead-ess-club-11/
LOCATION:Lahontan Valley Bird Dog Club\, Fallon\, NV 89406\, USA\, Fallon\, Nevada\, 89406\, United States
CATEGORIES:Field Trials - West
GEO:39.474869;-118.777041
X-APPLE-STRUCTURED-LOCATION;VALUE=URI;X-ADDRESS=Lahontan Valley Bird Dog Club Fallon NV 89406 USA Fallon Nevada 89406 United States;X-APPLE-RADIUS=500;X-TITLE=Fallon\, NV 89406\, USA:geo:-118.777041,39.474869
END:VEVENT
BEGIN:VEVENT
DTSTART;TZID=America/Chicago:20231104T000000
DTEND;TZID=America/Chicago:20231105T000000
DTSTAMP:20260422T065938
CREATED:20250614T163529Z
LAST-MODIFIED:20250614T163529Z
UID:10011087-1699056000-1699142400@essft.com
SUMMARY:Snake River Valley SSC
DESCRIPTION:Stand by for more information
URL:https://essft.com/event/snake-river-valley-ssc/
CATEGORIES:Field Trials - West
END:VEVENT
BEGIN:VEVENT
DTSTART;TZID=America/Chicago:20231104T000000
DTEND;TZID=America/Chicago:20231105T000000
DTSTAMP:20260422T065938
CREATED:20250614T163529Z
LAST-MODIFIED:20250614T163529Z
UID:10011088-1699056000-1699142400@essft.com
SUMMARY:Stillwater Valley ESS Club
DESCRIPTION:Entries Close: Tuesday\, October 24\, 2023 11:59:59 PM Eastern Time(ET) on Hunt Secretary \nJudges: Rick Shively and Mike Nolan
URL:https://essft.com/event/stillwater-valley-ess-club-13/
LOCATION:Beelman Farm\, 2192 Co Rd 21\, De Graff\, OH 43318\, USA\, De Graff\, Ohio\, 43318\, United States
CATEGORIES:Field Trials - Mid East
GEO:40.36598;-83.944001
X-APPLE-STRUCTURED-LOCATION;VALUE=URI;X-ADDRESS=Beelman Farm 2192 Co Rd 21 De Graff OH 43318 USA De Graff Ohio 43318 United States;X-APPLE-RADIUS=500;X-TITLE=2192 Co Rd 21\, De Graff\, OH 43318\, USA:geo:-83.944001,40.36598
END:VEVENT
BEGIN:VEVENT
DTSTART;TZID=America/Chicago:20231104T000000
DTEND;TZID=America/Chicago:20231105T000000
DTSTAMP:20260422T065938
CREATED:20250614T163529Z
LAST-MODIFIED:20250614T163529Z
UID:10011089-1699056000-1699142400@essft.com
SUMMARY:Central Virginia ESS Field Trial Club
DESCRIPTION: Cancelled.
URL:https://essft.com/event/central-virginia-ess-field-trial-club-10/
CATEGORIES:Field Trials - East
END:VEVENT
BEGIN:VEVENT
DTSTART;TZID=America/Chicago:20231103T000000
DTEND;TZID=America/Chicago:20231105T000000
DTSTAMP:20260422T065938
CREATED:20250614T163528Z
LAST-MODIFIED:20250614T163528Z
UID:10011085-1698969600-1699142400@essft.com
SUMMARY:Southeast Texas
DESCRIPTION:2023 Trials are cancelled.
URL:https://essft.com/event/southeast-texas-2/
CATEGORIES:Field Trials - Rocky Mountain
END:VEVENT
BEGIN:VEVENT
DTSTART;TZID=America/Chicago:20231102T000000
DTEND;TZID=America/Chicago:20231103T000000
DTSTAMP:20260422T065938
CREATED:20250614T163506Z
LAST-MODIFIED:20250614T163506Z
UID:10011084-1698883200-1698969600@essft.com
SUMMARY:Keystone English Springer Spaniel Club
DESCRIPTION:Stand by for more information…
URL:https://essft.com/event/keystone-english-springer-spaniel-club-10/
CATEGORIES:Field Trials - East
END:VEVENT
BEGIN:VEVENT
DTSTART;TZID=America/Chicago:20231028T000000
DTEND;TZID=America/Chicago:20231029T000000
DTSTAMP:20260422T065938
CREATED:20250614T163506Z
LAST-MODIFIED:20250614T163506Z
UID:10011083-1698451200-1698537600@essft.com
SUMMARY:Welsh Springer Spaniel Club of America Hunt Test
DESCRIPTION:Entries Close: Monday\, October 16\, 2023 11:59:59 PM Eastern Time(ET) on Hunt Secretary \n 
URL:https://essft.com/event/welsh-springer-spaniel-club-of-america-hunt-test/
CATEGORIES:Hunt Tests
END:VEVENT
BEGIN:VEVENT
DTSTART;TZID=America/Chicago:20231028T000000
DTEND;TZID=America/Chicago:20231029T000000
DTSTAMP:20260422T065938
CREATED:20250614T163505Z
LAST-MODIFIED:20250614T163505Z
UID:10011080-1698451200-1698537600@essft.com
SUMMARY:Ohio Valley ESS Club
DESCRIPTION:Entries Close: TBA on Hunt Secretary \nJudges: TBA \nStand by for more information…
URL:https://essft.com/event/ohio-valley-ess-club-10/
CATEGORIES:Field Trials - Mid East
END:VEVENT
BEGIN:VEVENT
DTSTART;TZID=America/Chicago:20231028T000000
DTEND;TZID=America/Chicago:20231029T000000
DTSTAMP:20260422T065938
CREATED:20250614T163505Z
LAST-MODIFIED:20250614T163505Z
UID:10011081-1698451200-1698537600@essft.com
SUMMARY:Springer Spaniel Club of Central Kansas
DESCRIPTION:Entries Close: Tuesday\, October 17\, 2023 11:59:59 PM Eastern Time(ET) on Hunt Secretary  \nJudges: John Knowles and David Anderson
URL:https://essft.com/event/springer-spaniel-club-of-central-kansas-6-5/
CATEGORIES:Field Trials - Rocky Mountain
END:VEVENT
END:VCALENDAR