BEGIN:VCALENDAR
VERSION:2.0
PRODID:-//English Springer Spaniel Field Trials - ECPv6.15.20//NONSGML v1.0//EN
CALSCALE:GREGORIAN
METHOD:PUBLISH
X-ORIGINAL-URL:https://essft.com
X-WR-CALDESC:Events for English Springer Spaniel Field Trials
REFRESH-INTERVAL;VALUE=DURATION:PT1H
X-Robots-Tag:noindex
X-PUBLISHED-TTL:PT1H
BEGIN:VTIMEZONE
TZID:America/Chicago
BEGIN:DAYLIGHT
TZOFFSETFROM:-0600
TZOFFSETTO:-0500
TZNAME:CDT
DTSTART:20160313T080000
END:DAYLIGHT
BEGIN:STANDARD
TZOFFSETFROM:-0500
TZOFFSETTO:-0600
TZNAME:CST
DTSTART:20161106T070000
END:STANDARD
BEGIN:DAYLIGHT
TZOFFSETFROM:-0600
TZOFFSETTO:-0500
TZNAME:CDT
DTSTART:20170312T080000
END:DAYLIGHT
BEGIN:STANDARD
TZOFFSETFROM:-0500
TZOFFSETTO:-0600
TZNAME:CST
DTSTART:20171105T070000
END:STANDARD
BEGIN:DAYLIGHT
TZOFFSETFROM:-0600
TZOFFSETTO:-0500
TZNAME:CDT
DTSTART:20180311T080000
END:DAYLIGHT
BEGIN:STANDARD
TZOFFSETFROM:-0500
TZOFFSETTO:-0600
TZNAME:CST
DTSTART:20181104T070000
END:STANDARD
BEGIN:DAYLIGHT
TZOFFSETFROM:-0600
TZOFFSETTO:-0500
TZNAME:CDT
DTSTART:20190310T080000
END:DAYLIGHT
BEGIN:STANDARD
TZOFFSETFROM:-0500
TZOFFSETTO:-0600
TZNAME:CST
DTSTART:20191103T070000
END:STANDARD
BEGIN:DAYLIGHT
TZOFFSETFROM:-0600
TZOFFSETTO:-0500
TZNAME:CDT
DTSTART:20200308T080000
END:DAYLIGHT
BEGIN:STANDARD
TZOFFSETFROM:-0500
TZOFFSETTO:-0600
TZNAME:CST
DTSTART:20201101T070000
END:STANDARD
BEGIN:DAYLIGHT
TZOFFSETFROM:-0600
TZOFFSETTO:-0500
TZNAME:CDT
DTSTART:20210314T080000
END:DAYLIGHT
BEGIN:STANDARD
TZOFFSETFROM:-0500
TZOFFSETTO:-0600
TZNAME:CST
DTSTART:20211107T070000
END:STANDARD
END:VTIMEZONE
BEGIN:VEVENT
DTSTART;TZID=America/Chicago:20200926T000000
DTEND;TZID=America/Chicago:20200927T000000
DTSTAMP:20260424T022229
CREATED:20250612T042245Z
LAST-MODIFIED:20250612T042245Z
UID:10010283-1601078400-1601164800@essft.com
SUMMARY:Northeast Wisconsin Spaniel Club
DESCRIPTION:Entries Close: Tuesday\, September 15\, 2020 11:59:59 PM Eastern Time(ET) on Hunt Secretary \nJudges: Paul Haering and Ryan Lamberg
URL:https://essft.com/event/northeast-wisconsin-spaniel-club-3/
LOCATION:Besadny Fish and Wildlife Area\, Kewaunee\, WI 54216\, USA\, Kewaunee\, Wisconsin\, 54216\, United States
CATEGORIES:Field Trials - Mid West
ORGANIZER;CN="Mark Moore":MAILTO:mark@mooreagphotos.com
GEO:44.458332;-87.50314
X-APPLE-STRUCTURED-LOCATION;VALUE=URI;X-ADDRESS=Besadny Fish and Wildlife Area Kewaunee WI 54216 USA Kewaunee Wisconsin 54216 United States;X-APPLE-RADIUS=500;X-TITLE=Kewaunee\, WI 54216\, USA:geo:-87.50314,44.458332
END:VEVENT
BEGIN:VEVENT
DTSTART;TZID=America/Chicago:20200926T000000
DTEND;TZID=America/Chicago:20200926T000000
DTSTAMP:20260424T022229
CREATED:20250612T042446Z
LAST-MODIFIED:20250612T042446Z
UID:10010287-1601078400-1601078400@essft.com
SUMMARY:Cocker: Northeast Wisconsin Spaniel Club Field Trial
DESCRIPTION:Entries Close: Tuesday\, September 15\, 2020 11:59:59 PM Eastern Time(ET) on Hunt Secretary \nJudges: Paul Hearing and Ryan Lamberg
URL:https://essft.com/event/cocker-northeast-wisconsin-spaniel-club-field-trial/
LOCATION:Besadny Fish and Wildlife Area\, Kewaunee\, WI 54216\, USA\, Kewaunee\, Wisconsin\, 54216\, United States
CATEGORIES:Cocker Trial
ORGANIZER;CN="Mark Moore":MAILTO:mark@mooreagphotos.com
GEO:44.458332;-87.50314
X-APPLE-STRUCTURED-LOCATION;VALUE=URI;X-ADDRESS=Besadny Fish and Wildlife Area Kewaunee WI 54216 USA Kewaunee Wisconsin 54216 United States;X-APPLE-RADIUS=500;X-TITLE=Kewaunee\, WI 54216\, USA:geo:-87.50314,44.458332
END:VEVENT
BEGIN:VEVENT
DTSTART;TZID=America/Chicago:20190928T000000
DTEND;TZID=America/Chicago:20190929T000000
DTSTAMP:20260424T022229
CREATED:20250612T023006Z
LAST-MODIFIED:20250612T023006Z
UID:10010058-1569628800-1569715200@essft.com
SUMMARY:Northeast Wisconsin Spaniel Club
DESCRIPTION:Entries Close: Monday\, September 16\, 2019 11:59:59 PM Eastern Time(ET) on Hunt Secretary \nJudges:  Dan Tuttle and Bob Fink\n  \nWe will have a $5 bag lunch available \n6 inch Subway club sandwich. \nChips \nCookies \nWater \nPlease RSVP to mark@mooreagphotos.com by Thursday. \n 
URL:https://essft.com/event/northeast-wisconsin-spaniel-club-2/
LOCATION:Besadny Fish and Wildlife Area\, Kewaunee\, WI 54216\, USA\, Kewaunee\, Wisconsin\, 54216\, United States
CATEGORIES:Field Trials - Mid West
ORGANIZER;CN="Mark Moore":MAILTO:mark@mooreagphotos.com
GEO:44.458332;-87.50314
X-APPLE-STRUCTURED-LOCATION;VALUE=URI;X-ADDRESS=Besadny Fish and Wildlife Area Kewaunee WI 54216 USA Kewaunee Wisconsin 54216 United States;X-APPLE-RADIUS=500;X-TITLE=Kewaunee\, WI 54216\, USA:geo:-87.50314,44.458332
END:VEVENT
BEGIN:VEVENT
DTSTART;TZID=America/Chicago:20180929T000000
DTEND;TZID=America/Chicago:20180930T000000
DTSTAMP:20260424T022229
CREATED:20250611T200103Z
LAST-MODIFIED:20250611T200103Z
UID:10009766-1538179200-1538265600@essft.com
SUMMARY:Northeast Wisconsin
DESCRIPTION:Entries Close: Monday\, September 17\, 2018 11:59:59 PM Eastern Time(ET) at Hunt Secretary \nJudges:  Pete Anderson and Greg Royer\n  \n\n		\n			\n			\n		\n\n		\n  \n  \n\n		\n			\n			\n		\n\n		\n  \n[wunderground location=”Kewaunee\, WI” numdays=”5″ showdata=”alert\,daynames\,pop\,icon\,highlow\,conditions\,date” layout=”table-horizontal”] \n 
URL:https://essft.com/event/northeast-wisconsin/
LOCATION:Besadny Fish and Wildlife Area\, Kewaunee\, WI 54216\, USA\, Kewaunee\, Wisconsin\, 54216\, United States
CATEGORIES:Field Trials - Mid West
ORGANIZER;CN="Lynn Christen":MAILTO:puptrnr@ticon.net
GEO:44.458332;-87.50314
X-APPLE-STRUCTURED-LOCATION;VALUE=URI;X-ADDRESS=Besadny Fish and Wildlife Area Kewaunee WI 54216 USA Kewaunee Wisconsin 54216 United States;X-APPLE-RADIUS=500;X-TITLE=Kewaunee\, WI 54216\, USA:geo:-87.50314,44.458332
END:VEVENT
BEGIN:VEVENT
DTSTART;TZID=America/Chicago:20170930T000000
DTEND;TZID=America/Chicago:20171001T000000
DTSTAMP:20260424T022229
CREATED:20250611T174630Z
LAST-MODIFIED:20250611T174630Z
UID:10009542-1506729600-1506816000@essft.com
SUMMARY:Northeast Wisconsin Spaniel Club
DESCRIPTION:Entries close: Tuesday\, September 19th via mail. \nJudges: Dan Murray and Terry Quinlan \n2017 NE Wisconsin Fall FT Letter \n2017 NE Wisconsin Fall 2017 Entry Form \nRunning Order & Map\n2017 Northeast Wisconsin Fall FT Running Order \n2017 Northeast Wisconsin Fall FT MAP \n[wunderground location=”Kewaunee\, WI” numdays=”5″ showdata=”alert\,daynames\,pop\,icon\,highlow\,conditions\,date” layout=”table-horizontal”]  \n 
URL:https://essft.com/event/northeast-wisconsin-spaniel-club/
LOCATION:Besadny Fish and Wildlife Area\, Kewaunee\, WI 54216\, USA\, Kewaunee\, Wisconsin\, 54216\, United States
CATEGORIES:Field Trials - Mid West
ORGANIZER;CN="Lynn Christen":MAILTO:puptrnr@ticon.net
GEO:44.458332;-87.50314
X-APPLE-STRUCTURED-LOCATION;VALUE=URI;X-ADDRESS=Besadny Fish and Wildlife Area Kewaunee WI 54216 USA Kewaunee Wisconsin 54216 United States;X-APPLE-RADIUS=500;X-TITLE=Kewaunee\, WI 54216\, USA:geo:-87.50314,44.458332
END:VEVENT
END:VCALENDAR