BEGIN:VCALENDAR
VERSION:2.0
PRODID:-//English Springer Spaniel Field Trials - ECPv6.15.20//NONSGML v1.0//EN
CALSCALE:GREGORIAN
METHOD:PUBLISH
X-ORIGINAL-URL:https://essft.com
X-WR-CALDESC:Events for English Springer Spaniel Field Trials
REFRESH-INTERVAL;VALUE=DURATION:PT1H
X-Robots-Tag:noindex
X-PUBLISHED-TTL:PT1H
BEGIN:VTIMEZONE
TZID:America/Chicago
BEGIN:DAYLIGHT
TZOFFSETFROM:-0600
TZOFFSETTO:-0500
TZNAME:CDT
DTSTART:20160313T080000
END:DAYLIGHT
BEGIN:STANDARD
TZOFFSETFROM:-0500
TZOFFSETTO:-0600
TZNAME:CST
DTSTART:20161106T070000
END:STANDARD
BEGIN:DAYLIGHT
TZOFFSETFROM:-0600
TZOFFSETTO:-0500
TZNAME:CDT
DTSTART:20170312T080000
END:DAYLIGHT
BEGIN:STANDARD
TZOFFSETFROM:-0500
TZOFFSETTO:-0600
TZNAME:CST
DTSTART:20171105T070000
END:STANDARD
BEGIN:DAYLIGHT
TZOFFSETFROM:-0600
TZOFFSETTO:-0500
TZNAME:CDT
DTSTART:20180311T080000
END:DAYLIGHT
BEGIN:STANDARD
TZOFFSETFROM:-0500
TZOFFSETTO:-0600
TZNAME:CST
DTSTART:20181104T070000
END:STANDARD
BEGIN:DAYLIGHT
TZOFFSETFROM:-0600
TZOFFSETTO:-0500
TZNAME:CDT
DTSTART:20190310T080000
END:DAYLIGHT
BEGIN:STANDARD
TZOFFSETFROM:-0500
TZOFFSETTO:-0600
TZNAME:CST
DTSTART:20191103T070000
END:STANDARD
BEGIN:DAYLIGHT
TZOFFSETFROM:-0600
TZOFFSETTO:-0500
TZNAME:CDT
DTSTART:20200308T080000
END:DAYLIGHT
BEGIN:STANDARD
TZOFFSETFROM:-0500
TZOFFSETTO:-0600
TZNAME:CST
DTSTART:20201101T070000
END:STANDARD
BEGIN:DAYLIGHT
TZOFFSETFROM:-0600
TZOFFSETTO:-0500
TZNAME:CDT
DTSTART:20210314T080000
END:DAYLIGHT
BEGIN:STANDARD
TZOFFSETFROM:-0500
TZOFFSETTO:-0600
TZNAME:CST
DTSTART:20211107T070000
END:STANDARD
BEGIN:DAYLIGHT
TZOFFSETFROM:-0600
TZOFFSETTO:-0500
TZNAME:CDT
DTSTART:20220313T080000
END:DAYLIGHT
BEGIN:STANDARD
TZOFFSETFROM:-0500
TZOFFSETTO:-0600
TZNAME:CST
DTSTART:20221106T070000
END:STANDARD
END:VTIMEZONE
BEGIN:VEVENT
DTSTART;TZID=America/Chicago:20210327T000000
DTEND;TZID=America/Chicago:20210328T000000
DTSTAMP:20260423T020337
CREATED:20250613T030118Z
LAST-MODIFIED:20250613T030118Z
UID:10010408-1616803200-1616889600@essft.com
SUMMARY:English Springer Spaniel Club of Eastern Nebraska
DESCRIPTION:Entries Close: Tuesday\, March 16\, 2021 11:59:59 PM Eastern Time(ET) on Hunt Secretary \nJudges: Will Pick and Bob Murdock\n\n		\n			\n			\n		\n\n		\n 
URL:https://essft.com/event/english-springer-spaniel-club-of-eastern-nebraska-4-3/
LOCATION:Claybaugh Farm\, Liberty\, NE 68381\, USA\, Liberty\, Nebraska\, 68381\, United States
CATEGORIES:Field Trials - Rocky Mountain
GEO:40.084723;-96.482796
X-APPLE-STRUCTURED-LOCATION;VALUE=URI;X-ADDRESS=Claybaugh Farm Liberty NE 68381 USA Liberty Nebraska 68381 United States;X-APPLE-RADIUS=500;X-TITLE=Liberty\, NE 68381\, USA:geo:-96.482796,40.084723
END:VEVENT
BEGIN:VEVENT
DTSTART;TZID=America/Chicago:20201017T000000
DTEND;TZID=America/Chicago:20201018T000000
DTSTAMP:20260423T020337
CREATED:20250613T023842Z
LAST-MODIFIED:20250613T023842Z
UID:10010318-1602892800-1602979200@essft.com
SUMMARY:English Springer Spaniel Club of Eastern Nebraska
DESCRIPTION:Entries Close: Tuesday\, October 6\, 2020 11:59:59 PM Eastern Time(ET) on Hunt Secretary \nJudges: Mark Hairfield and Ryan Lamberg\n\n		\n			\n			\n		\n\n		\n 
URL:https://essft.com/event/english-springer-spaniel-club-of-eastern-nebraska-4-2/
LOCATION:Claybaugh Farm\, Liberty\, NE 68381\, USA\, Liberty\, Nebraska\, 68381\, United States
CATEGORIES:Field Trials - Rocky Mountain
GEO:40.084723;-96.482796
X-APPLE-STRUCTURED-LOCATION;VALUE=URI;X-ADDRESS=Claybaugh Farm Liberty NE 68381 USA Liberty Nebraska 68381 United States;X-APPLE-RADIUS=500;X-TITLE=Liberty\, NE 68381\, USA:geo:-96.482796,40.084723
END:VEVENT
BEGIN:VEVENT
DTSTART;TZID=America/Chicago:20200516T000000
DTEND;TZID=America/Chicago:20200517T000000
DTSTAMP:20260423T020337
CREATED:20250612T033001Z
LAST-MODIFIED:20250612T033001Z
UID:10010228-1589587200-1589673600@essft.com
SUMMARY:ESS Club of Eastern Nebraska
DESCRIPTION:4/10/2020: Cancelled\n3/16/2020:  Rescheduled to May 16/17\, 2020\n  \n  \nEntries Close: Tuesday\, March 17\, 2020 11:59:59 PM Eastern Time(ET) on Hunt Secretary \nJudges: David Sandford    Steve Beyer and Mark Hairfield\n  \n\n		\n			\n			\n		\n\n		\n 
URL:https://essft.com/event/ess-club-of-eastern-nebraska-4/
LOCATION:Claybaugh Farm\, Liberty\, NE 68381\, USA\, Liberty\, Nebraska\, 68381\, United States
CATEGORIES:Field Trials - Rocky Mountain
GEO:40.084723;-96.482796
X-APPLE-STRUCTURED-LOCATION;VALUE=URI;X-ADDRESS=Claybaugh Farm Liberty NE 68381 USA Liberty Nebraska 68381 United States;X-APPLE-RADIUS=500;X-TITLE=Liberty\, NE 68381\, USA:geo:-96.482796,40.084723
END:VEVENT
BEGIN:VEVENT
DTSTART;TZID=America/Chicago:20191017T000000
DTEND;TZID=America/Chicago:20191018T000000
DTSTAMP:20260423T020337
CREATED:20250612T024412Z
LAST-MODIFIED:20250612T024412Z
UID:10010091-1571270400-1571356800@essft.com
SUMMARY:ESSC of Eastern Nebraska
DESCRIPTION:Entries Close:  Monday\, October 7\, 2019 11:59:59 PM Eastern Time(ET) on Hunt Secretary \nJudges:  Trent Bosse and Rick Shively\n  \nThe English Springer Spaniel Club of Eastern Nebraska engaged the services of the extension agency in the Gage County area of Nebraska for our trial grounds. We were fortunate enough to have the individual who retired from the position\, the individual in office who will be retiring in a year\, and the individual who is being trained for the future. We had them walk with our club representatives to identify Grasses On the fields we use and perimeter areas. The group identified two small areas of Canada Wildrye (Elymus canadensis L.) that we are able to hand pull and dispose of before the trial. We are proud to say that our trial fields are clear and we have a very low exposure to any risks with grass awns and mean seeds. \nOur Club continues to be advocates to minimize the risk to our dogs and maintaining good stewardship of the land. We are working with Landowners to understand the issues and plant appropriate foliage in the future. We look forward to our fellow Dog Trialer’s attending and enjoying the beautiful grasslands of Nebraska. \nThe Fall 2019 trial marks our 50 year milestone. See you in October!
URL:https://essft.com/event/essc-of-eastern-nebraska-4/
LOCATION:Claybaugh Farm\, Liberty\, NE 68381\, USA\, Liberty\, Nebraska\, 68381\, United States
CATEGORIES:Field Trials - Rocky Mountain
GEO:40.084723;-96.482796
X-APPLE-STRUCTURED-LOCATION;VALUE=URI;X-ADDRESS=Claybaugh Farm Liberty NE 68381 USA Liberty Nebraska 68381 United States;X-APPLE-RADIUS=500;X-TITLE=Liberty\, NE 68381\, USA:geo:-96.482796,40.084723
END:VEVENT
BEGIN:VEVENT
DTSTART;TZID=America/Chicago:20190323T000000
DTEND;TZID=America/Chicago:20190324T000000
DTSTAMP:20260423T020337
CREATED:20250611T203014Z
LAST-MODIFIED:20250611T203014Z
UID:10009905-1553299200-1553385600@essft.com
SUMMARY:ESS Club of Eastern Nebraska
DESCRIPTION:Entries Close: Tuesday\, March 12\, 2019 11:59:59 PM Eastern Time(ET) on Hunt Secretary \nJudges: Ken Willis and Joe Stallman\n  \n\n		\n			\n			\n		\n\n		\n  \n[wunderground location=”Beatrice\, NE” numdays=”5″ showdata=”alert\,daynames\,pop\,icon\,highlow\,conditions\,date” layout=”table-horizontal”] \n 
URL:https://essft.com/event/ess-club-of-eastern-nebraska-3/
LOCATION:Claybaugh Farm\, Liberty\, NE 68381\, USA\, Liberty\, Nebraska\, 68381\, United States
CATEGORIES:Field Trials - Rocky Mountain
GEO:40.084723;-96.482796
X-APPLE-STRUCTURED-LOCATION;VALUE=URI;X-ADDRESS=Claybaugh Farm Liberty NE 68381 USA Liberty Nebraska 68381 United States;X-APPLE-RADIUS=500;X-TITLE=Liberty\, NE 68381\, USA:geo:-96.482796,40.084723
END:VEVENT
BEGIN:VEVENT
DTSTART;TZID=America/Chicago:20181013T000000
DTEND;TZID=America/Chicago:20181014T000000
DTSTAMP:20260423T020337
CREATED:20250611T200339Z
LAST-MODIFIED:20250611T200339Z
UID:10009794-1539388800-1539475200@essft.com
SUMMARY:English Springer Spaniel Club of Eastern Nebraska
DESCRIPTION:Entries Close: Tuesday\, October 2\, 2018 at 11:59 P.M. Eastern Time(ET) Hunt Secretary \nJudges:  Jim OShea and John Staley\n  \n \n\n		\n			\n			\n		\n\n		\n  \n\n		\n			\n			\n		\n\n		\n  \n[wunderground location=”Beatrice\, NE” numdays=”5″ showdata=”alert\,daynames\,pop\,icon\,highlow\,conditions\,date” layout=”table-horizontal”]
URL:https://essft.com/event/english-springer-spaniel-club-of-eastern-nebraska-2/
LOCATION:Claybaugh Farm\, Liberty\, NE 68381\, USA\, Liberty\, Nebraska\, 68381\, United States
CATEGORIES:Field Trials - Rocky Mountain
GEO:40.084723;-96.482796
X-APPLE-STRUCTURED-LOCATION;VALUE=URI;X-ADDRESS=Claybaugh Farm Liberty NE 68381 USA Liberty Nebraska 68381 United States;X-APPLE-RADIUS=500;X-TITLE=Liberty\, NE 68381\, USA:geo:-96.482796,40.084723
END:VEVENT
BEGIN:VEVENT
DTSTART;TZID=America/Chicago:20180324T000000
DTEND;TZID=America/Chicago:20180325T000000
DTSTAMP:20260423T020337
CREATED:20250611T181329Z
LAST-MODIFIED:20250611T181329Z
UID:10009642-1521849600-1521936000@essft.com
SUMMARY:English Springer Spaniel Club of Eastern Nebraska
DESCRIPTION:Entries Close: Monday\, March 12\, 2018 on Entry Express \nJudges: Elaine VanderSlice and Robert Krause\n  \nFYI There will be a Cocker Field Trial on the Monday and Tuesday\, March 26-27\,2018\, following this event. Go to www.fieldcockers.com for more information. \n\n		\n			\n			\n		\n\n		\n[wunderground location=”Liberty\, NE” numdays=”5″ showdata=”alert\,daynames\,pop\,icon\,highlow\,conditions\,date” layout=”table-horizontal”]
URL:https://essft.com/event/english-springer-spaniel-club-of-eastern-nebraska/
LOCATION:Claybaugh Farm\, Liberty\, NE 68381\, USA\, Liberty\, Nebraska\, 68381\, United States
CATEGORIES:Field Trials - Rocky Mountain
ORGANIZER;CN="Sue Jack":MAILTO:sue.jack45@gmail.com
GEO:40.084723;-96.482796
X-APPLE-STRUCTURED-LOCATION;VALUE=URI;X-ADDRESS=Claybaugh Farm Liberty NE 68381 USA Liberty Nebraska 68381 United States;X-APPLE-RADIUS=500;X-TITLE=Liberty\, NE 68381\, USA:geo:-96.482796,40.084723
END:VEVENT
BEGIN:VEVENT
DTSTART;TZID=America/Chicago:20171028T000000
DTEND;TZID=America/Chicago:20171029T000000
DTSTAMP:20260423T020337
CREATED:20250611T175837Z
LAST-MODIFIED:20250611T175837Z
UID:10009576-1509148800-1509235200@essft.com
SUMMARY:ESS Club of Eastern Nebraska
DESCRIPTION:Entries Close: Monday\,  October 16th on Entry Express \nJudges: Don Mock and Bob Fink   \n  \n2017 ESSC of Eastern Nebraska Fall FT Premium \n  \n\n		\n			\n			\n		\n\n		\n  \n[wunderground location=”Liberty\, NE” numdays=”5″ showdata=”alert\,daynames\,pop\,icon\,highlow\,conditions\,date” layout=”table-horizontal”]
URL:https://essft.com/event/ess-club-of-eastern-nebraska-2/
LOCATION:Claybaugh Farm\, Liberty\, NE 68381\, USA\, Liberty\, Nebraska\, 68381\, United States
CATEGORIES:Field Trials - Rocky Mountain
ORGANIZER;CN="Sue Jack":MAILTO:sue.jack45@gmail.com
GEO:40.084723;-96.482796
X-APPLE-STRUCTURED-LOCATION;VALUE=URI;X-ADDRESS=Claybaugh Farm Liberty NE 68381 USA Liberty Nebraska 68381 United States;X-APPLE-RADIUS=500;X-TITLE=Liberty\, NE 68381\, USA:geo:-96.482796,40.084723
END:VEVENT
BEGIN:VEVENT
DTSTART;TZID=America/Chicago:20171026T000000
DTEND;TZID=America/Chicago:20171027T000000
DTSTAMP:20260423T020337
CREATED:20250611T175636Z
LAST-MODIFIED:20250611T175636Z
UID:10009571-1508976000-1509062400@essft.com
SUMMARY:Platte River ESSC
DESCRIPTION:Entries Close: Monday\, October 16\, 2017 on Entry Express \nJudges: Kathy Nestor and  Dan Murray \n2017 Platte River Fall FT Premium  \nNote:  Open on 10/26 and the Amateur on 10/27! \n  \n\n		\n			\n			\n		\n\n		\n  \n[wunderground location=”Liberty\, NE” numdays=”5″ showdata=”alert\,daynames\,pop\,icon\,highlow\,conditions\,date” layout=”table-horizontal”]
URL:https://essft.com/event/platte-river-essc-3/
LOCATION:Claybaugh Farm\, Liberty\, NE 68381\, USA\, Liberty\, Nebraska\, 68381\, United States
CATEGORIES:Field Trials - Rocky Mountain
GEO:40.084723;-96.482796
X-APPLE-STRUCTURED-LOCATION;VALUE=URI;X-ADDRESS=Claybaugh Farm Liberty NE 68381 USA Liberty Nebraska 68381 United States;X-APPLE-RADIUS=500;X-TITLE=Liberty\, NE 68381\, USA:geo:-96.482796,40.084723
END:VEVENT
END:VCALENDAR