BEGIN:VCALENDAR
VERSION:2.0
PRODID:-//English Springer Spaniel Field Trials - ECPv6.15.20//NONSGML v1.0//EN
CALSCALE:GREGORIAN
METHOD:PUBLISH
X-ORIGINAL-URL:https://essft.com
X-WR-CALDESC:Events for English Springer Spaniel Field Trials
REFRESH-INTERVAL;VALUE=DURATION:PT1H
X-Robots-Tag:noindex
X-PUBLISHED-TTL:PT1H
BEGIN:VTIMEZONE
TZID:America/Chicago
BEGIN:DAYLIGHT
TZOFFSETFROM:-0600
TZOFFSETTO:-0500
TZNAME:CDT
DTSTART:20180311T080000
END:DAYLIGHT
BEGIN:STANDARD
TZOFFSETFROM:-0500
TZOFFSETTO:-0600
TZNAME:CST
DTSTART:20181104T070000
END:STANDARD
BEGIN:DAYLIGHT
TZOFFSETFROM:-0600
TZOFFSETTO:-0500
TZNAME:CDT
DTSTART:20190310T080000
END:DAYLIGHT
BEGIN:STANDARD
TZOFFSETFROM:-0500
TZOFFSETTO:-0600
TZNAME:CST
DTSTART:20191103T070000
END:STANDARD
BEGIN:DAYLIGHT
TZOFFSETFROM:-0600
TZOFFSETTO:-0500
TZNAME:CDT
DTSTART:20200308T080000
END:DAYLIGHT
BEGIN:STANDARD
TZOFFSETFROM:-0500
TZOFFSETTO:-0600
TZNAME:CST
DTSTART:20201101T070000
END:STANDARD
BEGIN:DAYLIGHT
TZOFFSETFROM:-0600
TZOFFSETTO:-0500
TZNAME:CDT
DTSTART:20210314T080000
END:DAYLIGHT
BEGIN:STANDARD
TZOFFSETFROM:-0500
TZOFFSETTO:-0600
TZNAME:CST
DTSTART:20211107T070000
END:STANDARD
BEGIN:DAYLIGHT
TZOFFSETFROM:-0600
TZOFFSETTO:-0500
TZNAME:CDT
DTSTART:20220313T080000
END:DAYLIGHT
BEGIN:STANDARD
TZOFFSETFROM:-0500
TZOFFSETTO:-0600
TZNAME:CST
DTSTART:20221106T070000
END:STANDARD
BEGIN:DAYLIGHT
TZOFFSETFROM:-0600
TZOFFSETTO:-0500
TZNAME:CDT
DTSTART:20230312T080000
END:DAYLIGHT
BEGIN:STANDARD
TZOFFSETFROM:-0500
TZOFFSETTO:-0600
TZNAME:CST
DTSTART:20231105T070000
END:STANDARD
BEGIN:DAYLIGHT
TZOFFSETFROM:-0600
TZOFFSETTO:-0500
TZNAME:CDT
DTSTART:20240310T080000
END:DAYLIGHT
BEGIN:STANDARD
TZOFFSETFROM:-0500
TZOFFSETTO:-0600
TZNAME:CST
DTSTART:20241103T070000
END:STANDARD
BEGIN:DAYLIGHT
TZOFFSETFROM:-0600
TZOFFSETTO:-0500
TZNAME:CDT
DTSTART:20250309T080000
END:DAYLIGHT
BEGIN:STANDARD
TZOFFSETFROM:-0500
TZOFFSETTO:-0600
TZNAME:CST
DTSTART:20251102T070000
END:STANDARD
END:VTIMEZONE
BEGIN:VEVENT
DTSTART;TZID=America/Chicago:20240209T000000
DTEND;TZID=America/Chicago:20240211T000000
DTSTAMP:20260422T175030
CREATED:20250614T164033Z
LAST-MODIFIED:20250614T164033Z
UID:10011123-1707436800-1707609600@essft.com
SUMMARY:Stockton ESS Training Club
DESCRIPTION:Entries Close: Monday\, January 29\, 2024 11:59:59 PM Eastern Time(ET) on Hunt Secretary \nJudges: Jerry Livingston and Robert Griffin
URL:https://essft.com/event/stockton-ess-training-club-7/
LOCATION:Clear Creek Ranch
CATEGORIES:Field Trials - West
END:VEVENT
BEGIN:VEVENT
DTSTART;TZID=America/Chicago:20240209T000000
DTEND;TZID=America/Chicago:20240210T000000
DTSTAMP:20260422T175030
CREATED:20250614T164034Z
LAST-MODIFIED:20250614T164034Z
UID:10011124-1707436800-1707523200@essft.com
SUMMARY:COCKER: Stockton
DESCRIPTION:Entries Close: Monday\, January 29\, 2024 11:59:59 PM Eastern Time(ET) on Hunt Secretary \nJudges: Jerry Livingston and Robert Griffin
URL:https://essft.com/event/cocker-stockton/
LOCATION:Clear Creek Ranch
CATEGORIES:Cocker Trial
END:VEVENT
BEGIN:VEVENT
DTSTART;TZID=America/Chicago:20230210T000000
DTEND;TZID=America/Chicago:20230212T000000
DTSTAMP:20260422T175030
CREATED:20250613T164257Z
LAST-MODIFIED:20250613T164257Z
UID:10010878-1675987200-1676160000@essft.com
SUMMARY:Stockton ESS Training Club
DESCRIPTION:Entries Close: Monday\, January 30\, 2023 11:59:59 PM Eastern Time(ET) on Hunt Secretary \nJudges: Katie Gorecki and Chad Betts
URL:https://essft.com/event/stockton-ess-training-club-6/
LOCATION:Clear Creek Ranch
CATEGORIES:Field Trials - West
END:VEVENT
BEGIN:VEVENT
DTSTART;TZID=America/Chicago:20230210T000000
DTEND;TZID=America/Chicago:20230211T000000
DTSTAMP:20260422T175030
CREATED:20250613T164258Z
LAST-MODIFIED:20250613T164258Z
UID:10010879-1675987200-1676073600@essft.com
SUMMARY:COCKER: Stockton ESSTC
DESCRIPTION:Entries Close: Monday\, January 30\, 2023 11:59:59 PM Eastern Time(ET) on Hunt Secretary \nJudges:  Katie Gorecki and Chad Betts
URL:https://essft.com/event/cocker-stockton-esstc-3/
LOCATION:Clear Creek Ranch
CATEGORIES:Cocker Trial
END:VEVENT
BEGIN:VEVENT
DTSTART;TZID=America/Chicago:20220211T000000
DTEND;TZID=America/Chicago:20220213T000000
DTSTAMP:20260422T175030
CREATED:20250613T043246Z
LAST-MODIFIED:20250613T043246Z
UID:10010610-1644537600-1644710400@essft.com
SUMMARY:Stockton ESS Training Club
DESCRIPTION:Entries Close: Monday\, January 31\, 2022 11:59:59 PM Eastern Time(ET) on Hunt Secretary \nJudges: Rick Shively and Brent Blundel
URL:https://essft.com/event/stockton-ess-training-club-5/
LOCATION:Clear Creek Ranch
CATEGORIES:Field Trials - West
END:VEVENT
BEGIN:VEVENT
DTSTART;TZID=America/Chicago:20220211T000000
DTEND;TZID=America/Chicago:20220213T000000
DTSTAMP:20260422T175030
CREATED:20250613T043246Z
LAST-MODIFIED:20250613T043246Z
UID:10010612-1644537600-1644710400@essft.com
SUMMARY:COCKER:  Stockton ESSTC
DESCRIPTION:Entries Close: Monday\, January 31\, 2022 11:59:59 PM Eastern Time(ET) on Hunt Secretary \nJudges:  Rick Shively and Brent Blundel
URL:https://essft.com/event/cocker-stockton-esstc-2/
LOCATION:Clear Creek Ranch
CATEGORIES:Cocker Trial
END:VEVENT
BEGIN:VEVENT
DTSTART;TZID=America/Chicago:20210206T000000
DTEND;TZID=America/Chicago:20210207T000000
DTSTAMP:20260422T175030
CREATED:20250613T025312Z
LAST-MODIFIED:20250613T025312Z
UID:10010371-1612569600-1612656000@essft.com
SUMMARY:Stockton ESSTC English Springer Spaniel 2021 Field Trial
DESCRIPTION:Entries Close: Tuesday\, January 26\, 2021 11:59:59 PM Eastern Time(ET) on Hunt Secretary \nJudges as of 2/1:  Mhari Peschel and Lynn Miller
URL:https://essft.com/event/stockton-esstc-english-springer-spaniel-2021-field-trial/
LOCATION:Clear Creek Ranch
CATEGORIES:Field Trials - West
END:VEVENT
BEGIN:VEVENT
DTSTART;TZID=America/Chicago:20210206T000000
DTEND;TZID=America/Chicago:20210207T000000
DTSTAMP:20260422T175030
CREATED:20250613T025312Z
LAST-MODIFIED:20250613T025312Z
UID:10010372-1612569600-1612656000@essft.com
SUMMARY:COCKER: Stockton ESSTC Cocker Spaniel 2021 Field Trial
DESCRIPTION:Entries Close: Tuesday\, January 26\, 2021 11:59:59 PM Eastern Time(ET) on Hunt Secretary \nJudges as of 2/1:  Mhari Peschel and Lynn Miller
URL:https://essft.com/event/cocker-stockton-esstc-cocker-spaniel-2021-field-trial/
LOCATION:Clear Creek Ranch
CATEGORIES:Cocker Trial
END:VEVENT
BEGIN:VEVENT
DTSTART;TZID=America/Chicago:20200208T000000
DTEND;TZID=America/Chicago:20200209T000000
DTSTAMP:20260422T175030
CREATED:20250612T030928Z
LAST-MODIFIED:20250612T030928Z
UID:10010155-1581120000-1581206400@essft.com
SUMMARY:Stockton ESS Training Club
DESCRIPTION:Entries Close: Tuesday\, January 28\, 2020 11:59:59 PM Eastern Time(ET) on Hunt Secretary \nJudges:  David Anderson and Dominique Savoie
URL:https://essft.com/event/stockton-ess-training-club-4/
LOCATION:Clear Creek Ranch
CATEGORIES:Field Trials - West
END:VEVENT
BEGIN:VEVENT
DTSTART;TZID=America/Chicago:20191214T000000
DTEND;TZID=America/Chicago:20191215T000000
DTSTAMP:20260422T175030
CREATED:20250612T025901Z
LAST-MODIFIED:20250612T025901Z
UID:10010140-1576281600-1576368000@essft.com
SUMMARY:Stockton ESS Training Club Spaniel Hunt Test
DESCRIPTION:Entries Close: Tuesday\, December 3\, 2019 11:59:59 PM Eastern Time(ET) on Hunt Secretary \n  \n\n		\n			\n			\n		\n\n		 \n  \n 
URL:https://essft.com/event/stockton-ess-training-club-spaniel-hunt-test/
LOCATION:Clear Creek Ranch
CATEGORIES:Hunt Tests
END:VEVENT
END:VCALENDAR