BEGIN:VCALENDAR
VERSION:2.0
PRODID:-//English Springer Spaniel Field Trials - ECPv6.15.20//NONSGML v1.0//EN
CALSCALE:GREGORIAN
METHOD:PUBLISH
X-WR-CALNAME:English Springer Spaniel Field Trials
X-ORIGINAL-URL:https://essft.com
X-WR-CALDESC:Events for English Springer Spaniel Field Trials
REFRESH-INTERVAL;VALUE=DURATION:PT1H
X-Robots-Tag:noindex
X-PUBLISHED-TTL:PT1H
BEGIN:VTIMEZONE
TZID:America/Chicago
BEGIN:DAYLIGHT
TZOFFSETFROM:-0600
TZOFFSETTO:-0500
TZNAME:CDT
DTSTART:20160313T080000
END:DAYLIGHT
BEGIN:STANDARD
TZOFFSETFROM:-0500
TZOFFSETTO:-0600
TZNAME:CST
DTSTART:20161106T070000
END:STANDARD
BEGIN:DAYLIGHT
TZOFFSETFROM:-0600
TZOFFSETTO:-0500
TZNAME:CDT
DTSTART:20170312T080000
END:DAYLIGHT
BEGIN:STANDARD
TZOFFSETFROM:-0500
TZOFFSETTO:-0600
TZNAME:CST
DTSTART:20171105T070000
END:STANDARD
BEGIN:DAYLIGHT
TZOFFSETFROM:-0600
TZOFFSETTO:-0500
TZNAME:CDT
DTSTART:20180311T080000
END:DAYLIGHT
BEGIN:STANDARD
TZOFFSETFROM:-0500
TZOFFSETTO:-0600
TZNAME:CST
DTSTART:20181104T070000
END:STANDARD
BEGIN:DAYLIGHT
TZOFFSETFROM:-0600
TZOFFSETTO:-0500
TZNAME:CDT
DTSTART:20190310T080000
END:DAYLIGHT
BEGIN:STANDARD
TZOFFSETFROM:-0500
TZOFFSETTO:-0600
TZNAME:CST
DTSTART:20191103T070000
END:STANDARD
BEGIN:DAYLIGHT
TZOFFSETFROM:-0600
TZOFFSETTO:-0500
TZNAME:CDT
DTSTART:20200308T080000
END:DAYLIGHT
BEGIN:STANDARD
TZOFFSETFROM:-0500
TZOFFSETTO:-0600
TZNAME:CST
DTSTART:20201101T070000
END:STANDARD
BEGIN:DAYLIGHT
TZOFFSETFROM:-0600
TZOFFSETTO:-0500
TZNAME:CDT
DTSTART:20210314T080000
END:DAYLIGHT
BEGIN:STANDARD
TZOFFSETFROM:-0500
TZOFFSETTO:-0600
TZNAME:CST
DTSTART:20211107T070000
END:STANDARD
BEGIN:DAYLIGHT
TZOFFSETFROM:-0600
TZOFFSETTO:-0500
TZNAME:CDT
DTSTART:20220313T080000
END:DAYLIGHT
BEGIN:STANDARD
TZOFFSETFROM:-0500
TZOFFSETTO:-0600
TZNAME:CST
DTSTART:20221106T070000
END:STANDARD
BEGIN:DAYLIGHT
TZOFFSETFROM:-0600
TZOFFSETTO:-0500
TZNAME:CDT
DTSTART:20230312T080000
END:DAYLIGHT
BEGIN:STANDARD
TZOFFSETFROM:-0500
TZOFFSETTO:-0600
TZNAME:CST
DTSTART:20231105T070000
END:STANDARD
BEGIN:DAYLIGHT
TZOFFSETFROM:-0600
TZOFFSETTO:-0500
TZNAME:CDT
DTSTART:20240310T080000
END:DAYLIGHT
BEGIN:STANDARD
TZOFFSETFROM:-0500
TZOFFSETTO:-0600
TZNAME:CST
DTSTART:20241103T070000
END:STANDARD
END:VTIMEZONE
BEGIN:VEVENT
DTSTART;TZID=America/Chicago:20230401T000000
DTEND;TZID=America/Chicago:20230402T000000
DTSTAMP:20260422T060202
CREATED:20250613T165357Z
LAST-MODIFIED:20250613T165357Z
UID:10010922-1680307200-1680393600@essft.com
SUMMARY:Ohio Valley ESS Club
DESCRIPTION:Entries Close: Monday\, March 27\, 2023 11:59:59 PM Eastern Time(ET) on Hunt Secretary \nJudges:  Pat Berry and Don Maue \n\n		\n			\n			\n		\n\n		\n 
URL:https://essft.com/event/ohio-valley-ess-club-9/
LOCATION:Elk Ridge Game Farm\, 5146 OH-96\, Bucyrus\, OH 44820\, USA\, Bucyrus\, Ohio\, 44820\, United States
CATEGORIES:Field Trials - Mid East
END:VEVENT
BEGIN:VEVENT
DTSTART;TZID=America/Chicago:20220827T000000
DTEND;TZID=America/Chicago:20220828T000000
DTSTAMP:20260422T060202
CREATED:20250613T043902Z
LAST-MODIFIED:20250613T043902Z
UID:10010739-1661558400-1661644800@essft.com
SUMMARY:Ohio Valley English Springer Spaniel Club
DESCRIPTION:Entries Close: Monday\, August 22\, 2022 11:59:59 PM Eastern Time(ET) on Hunt Secretary \n\n		\n			\n			\n		\n\n		\n 
URL:https://essft.com/event/ohio-valley-english-springer-spaniel-club-3/
LOCATION:Elk Ridge Game Farm\, 5146 OH-96\, Bucyrus\, OH 44820\, USA\, Bucyrus\, Ohio\, 44820\, United States
CATEGORIES:Hunt Tests
END:VEVENT
BEGIN:VEVENT
DTSTART;TZID=America/Chicago:20220423T000000
DTEND;TZID=America/Chicago:20220424T000000
DTSTAMP:20260422T060202
CREATED:20250613T043601Z
LAST-MODIFIED:20250613T043601Z
UID:10010679-1650672000-1650758400@essft.com
SUMMARY:AWSC INC. April Spring Spaniel Hunt Test
DESCRIPTION:Entries Close: Tuesday\, April 12\, 2022 11:59:59 PM Eastern Time(ET) on Hunt Secretary
URL:https://essft.com/event/awsc-inc-april-spring-spaniel-hunt-test/
LOCATION:Elk Ridge Game Farm\, 5146 OH-96\, Bucyrus\, OH 44820\, USA\, Bucyrus\, Ohio\, 44820\, United States
CATEGORIES:Hunt Tests
END:VEVENT
BEGIN:VEVENT
DTSTART;TZID=America/Chicago:20220402T000000
DTEND;TZID=America/Chicago:20220403T000000
DTSTAMP:20260422T060202
CREATED:20250613T043501Z
LAST-MODIFIED:20250613T043501Z
UID:10010659-1648857600-1648944000@essft.com
SUMMARY:Ohio Valley ESS
DESCRIPTION:Entries Close: Monday\, March 28\, 2022 11:59:59 PM Eastern Time(ET) on Hunt Secretary \nJudges: Trent Bosse and Brent LeMaster
URL:https://essft.com/event/ohio-valley-ess/
LOCATION:Elk Ridge Game Farm\, 5146 OH-96\, Bucyrus\, OH 44820\, USA\, Bucyrus\, Ohio\, 44820\, United States
CATEGORIES:Field Trials - Mid East
END:VEVENT
BEGIN:VEVENT
DTSTART;TZID=America/Chicago:20210828T000000
DTEND;TZID=America/Chicago:20210829T000000
DTSTAMP:20260422T060202
CREATED:20250613T034248Z
LAST-MODIFIED:20250613T034248Z
UID:10010477-1630108800-1630195200@essft.com
SUMMARY:Ohio Valley Hunt Test
DESCRIPTION:Entries Close: Tuesday\, August 17\, 2021 11:59:59 PM Eastern Time(ET) on Hunt Secretary \n\n		\n			\n			\n		\n\n		\n 
URL:https://essft.com/event/ohio-valley-hunt-test/
LOCATION:Elk Ridge Game Farm\, 5146 OH-96\, Bucyrus\, OH 44820\, USA\, Bucyrus\, Ohio\, 44820\, United States
CATEGORIES:Hunt Tests
END:VEVENT
BEGIN:VEVENT
DTSTART;TZID=America/Chicago:20210417T000000
DTEND;TZID=America/Chicago:20210418T000000
DTSTAMP:20260422T060202
CREATED:20250613T030918Z
LAST-MODIFIED:20250613T030918Z
UID:10010426-1618617600-1618704000@essft.com
SUMMARY:Ohio Valley ESS Club
DESCRIPTION:  \nEntries Close: April 13\, 2021 at 6:00 PM with the Field Trial Secretary \nEntries made in advance may be sent with checks made payable to OVESS Club to:\nMark Gebert; Field Trial Secretary\n1104 W Liberty Ann Arbor\, MI 48103\nEntries close with the FT Secretary at: 6:00p.m. April 13\, 2021 \nJudges:  Mike Ludwig and Dan Tuttle\n\n		\n			\n			\n		\n\n		\n 
URL:https://essft.com/event/ohio-valley-ess-club-6/
LOCATION:Elk Ridge Game Farm\, 5146 OH-96\, Bucyrus\, OH 44820\, USA\, Bucyrus\, Ohio\, 44820\, United States
CATEGORIES:Field Trials - Mid East
END:VEVENT
BEGIN:VEVENT
DTSTART;TZID=America/Chicago:20200404T000000
DTEND;TZID=America/Chicago:20200405T000000
DTSTAMP:20260422T060202
CREATED:20250612T032558Z
LAST-MODIFIED:20250612T032558Z
UID:10010202-1585958400-1586044800@essft.com
SUMMARY:Ohio Valley English Springer Spaniel Club
DESCRIPTION:3/14:  Cancelled!\n  \nEntries Close:  Monday\, March 30\, 2020 at 6:00 PM with the Field Trial Secretary \nMark Gebert FTS \n1104 W Liberty \nAnn Arbor\, MI 48103 \nJudges: Kevin Martineau and Brian Young\n\n		\n			\n			\n		\n\n		\n\n		\n			\n			\n		\n\n		\n 
URL:https://essft.com/event/ohio-valley-english-springer-spaniel-club-2/
LOCATION:Elk Ridge Game Farm\, 5146 OH-96\, Bucyrus\, OH 44820\, USA\, Bucyrus\, Ohio\, 44820\, United States
CATEGORIES:Field Trials - Mid East
END:VEVENT
BEGIN:VEVENT
DTSTART;TZID=America/Chicago:20191026T000000
DTEND;TZID=America/Chicago:20191027T000000
DTSTAMP:20260422T060202
CREATED:20250612T025017Z
LAST-MODIFIED:20250612T025017Z
UID:10010109-1572048000-1572134400@essft.com
SUMMARY:Ohio Valley ESS Club
DESCRIPTION:Per FTS:  Plan on a one day trial.\n\n		\n			\n			\n		\n\n		\n  \nEntries Close: October 19th 2019 @ 5:00 pm  \nEntries made in advance are to be sent to:\nMark A Gebert\nOVESS Secretary\n1104 W Liberty Ann Arbor\, MI 48103 \nJudges:  Skip Smith and Kathy Sleavin\n\n		\n			\n			\n		\n\n		\n  \n\n		\n			\n			\n		\n\n		\n 
URL:https://essft.com/event/ohio-valley-ess-club-4/
LOCATION:Elk Ridge Game Farm\, 5146 OH-96\, Bucyrus\, OH 44820\, USA\, Bucyrus\, Ohio\, 44820\, United States
CATEGORIES:Field Trials - Mid East
END:VEVENT
BEGIN:VEVENT
DTSTART;TZID=America/Chicago:20180407T000000
DTEND;TZID=America/Chicago:20180408T000000
DTSTAMP:20260422T060202
CREATED:20250611T181729Z
LAST-MODIFIED:20250611T181729Z
UID:10009653-1523059200-1523145600@essft.com
SUMMARY:Ohio Valley English Springer Spaniel
DESCRIPTION:Entries Close:  Monday\, April 2\, 2018 with the FTS \nJudges:  Ryan Lamberg and Mike Pollack\n  \nRunning Order\nNOTE: THIS TRIAL WILL BE A ONE DAY TRIAL. \n\n		\n			\n			\n		\n\n		\n  \n 
URL:https://essft.com/event/ohio-valley-english-springer-spaniel/
LOCATION:Elk Ridge Game Farm\, 5146 OH-96\, Bucyrus\, OH 44820\, USA\, Bucyrus\, Ohio\, 44820\, United States
CATEGORIES:Field Trials - Mid East
END:VEVENT
BEGIN:VEVENT
DTSTART;TZID=America/Chicago:20171209T000000
DTEND;TZID=America/Chicago:20171210T000000
DTSTAMP:20260422T060202
CREATED:20250611T180037Z
LAST-MODIFIED:20250611T180037Z
UID:10009595-1512777600-1512864000@essft.com
SUMMARY:Euclid Field Trial Association
DESCRIPTION:Entries Close:  11:59 on Monday\, November 27\, 2017 on Entry Express \nJudges:  John Leininger and Roland Snyder \n 
URL:https://essft.com/event/euclid-field-trial-association/
LOCATION:Elk Ridge Game Farm\, 5146 OH-96\, Bucyrus\, OH 44820\, USA\, Bucyrus\, Ohio\, 44820\, United States
CATEGORIES:Field Trials - Mid East
END:VEVENT
BEGIN:VEVENT
DTSTART;TZID=America/Chicago:20170408T000000
DTEND;TZID=America/Chicago:20170409T000000
DTSTAMP:20260422T060202
CREATED:20250611T060614Z
LAST-MODIFIED:20250611T060614Z
UID:10009468-1491609600-1491696000@essft.com
SUMMARY:Ohio Valley ESS Club
DESCRIPTION:Judges: Scott Hoover and Greg Kuhlman \nApprentice: Rumi Schroeder
URL:https://essft.com/event/ohio-valley-ess-club/
LOCATION:Elk Ridge Game Farm\, 5146 OH-96\, Bucyrus\, OH 44820\, USA\, Bucyrus\, Ohio\, 44820\, United States
CATEGORIES:Field Trials - Mid East
END:VEVENT
END:VCALENDAR