BEGIN:VCALENDAR
VERSION:2.0
PRODID:-//English Springer Spaniel Field Trials - ECPv6.15.20//NONSGML v1.0//EN
CALSCALE:GREGORIAN
METHOD:PUBLISH
X-WR-CALNAME:English Springer Spaniel Field Trials
X-ORIGINAL-URL:https://essft.com
X-WR-CALDESC:Events for English Springer Spaniel Field Trials
REFRESH-INTERVAL;VALUE=DURATION:PT1H
X-Robots-Tag:noindex
X-PUBLISHED-TTL:PT1H
BEGIN:VTIMEZONE
TZID:America/Denver
BEGIN:DAYLIGHT
TZOFFSETFROM:-0700
TZOFFSETTO:-0600
TZNAME:MDT
DTSTART:20160313T090000
END:DAYLIGHT
BEGIN:STANDARD
TZOFFSETFROM:-0600
TZOFFSETTO:-0700
TZNAME:MST
DTSTART:20161106T080000
END:STANDARD
BEGIN:DAYLIGHT
TZOFFSETFROM:-0700
TZOFFSETTO:-0600
TZNAME:MDT
DTSTART:20170312T090000
END:DAYLIGHT
BEGIN:STANDARD
TZOFFSETFROM:-0600
TZOFFSETTO:-0700
TZNAME:MST
DTSTART:20171105T080000
END:STANDARD
BEGIN:DAYLIGHT
TZOFFSETFROM:-0700
TZOFFSETTO:-0600
TZNAME:MDT
DTSTART:20180311T090000
END:DAYLIGHT
BEGIN:STANDARD
TZOFFSETFROM:-0600
TZOFFSETTO:-0700
TZNAME:MST
DTSTART:20181104T080000
END:STANDARD
END:VTIMEZONE
BEGIN:VEVENT
DTSTART;TZID=America/Denver:20171007T000000
DTEND;TZID=America/Denver:20171008T000000
DTSTAMP:20260424T020246
CREATED:20250611T175032Z
LAST-MODIFIED:20250611T175032Z
UID:10009552-1507334400-1507420800@essft.com
SUMMARY:Northern Colorado Springer Spaniel Club
DESCRIPTION:Entries Close: Monday\, September 25  via regular mail \nJudges:  Mike Elsasser and Cosimo Cristo \n2017 Northern Colorado SSC Fall FT Premium \nRunning Orders\n2017 Northern Colorado Fall OPEN RO \n2017 Northern Colorado Fall AMATEUR RO \n[wunderground location=”Fort Lupton\, CO” numdays=”5″ showdata=”alert\,daynames\,pop\,icon\,highlow\,conditions\,date” layout=”table-horizontal”] 
URL:https://essft.com/event/northern-colorado-springer-spaniel-club-2/
LOCATION:Fort Lupton\, Co Rd 37\, Fort Lupton\, CO 80621\, USA\, Fort Lupton\, Colorado\, 80621\, United States
CATEGORIES:Field Trials - Rocky Mountain
GEO:40.107238;-104.801094
X-APPLE-STRUCTURED-LOCATION;VALUE=URI;X-ADDRESS=Fort Lupton Co Rd 37 Fort Lupton CO 80621 USA Fort Lupton Colorado 80621 United States;X-APPLE-RADIUS=500;X-TITLE=Co Rd 37\, Fort Lupton\, CO 80621\, USA:geo:-104.801094,40.107238
END:VEVENT
END:VCALENDAR