BEGIN:VCALENDAR
VERSION:2.0
PRODID:-//English Springer Spaniel Field Trials - ECPv6.15.20//NONSGML v1.0//EN
CALSCALE:GREGORIAN
METHOD:PUBLISH
X-ORIGINAL-URL:https://essft.com
X-WR-CALDESC:Events for English Springer Spaniel Field Trials
REFRESH-INTERVAL;VALUE=DURATION:PT1H
X-Robots-Tag:noindex
X-PUBLISHED-TTL:PT1H
BEGIN:VTIMEZONE
TZID:America/Chicago
BEGIN:DAYLIGHT
TZOFFSETFROM:-0600
TZOFFSETTO:-0500
TZNAME:CDT
DTSTART:20240310T080000
END:DAYLIGHT
BEGIN:STANDARD
TZOFFSETFROM:-0500
TZOFFSETTO:-0600
TZNAME:CST
DTSTART:20241103T070000
END:STANDARD
BEGIN:DAYLIGHT
TZOFFSETFROM:-0600
TZOFFSETTO:-0500
TZNAME:CDT
DTSTART:20250309T080000
END:DAYLIGHT
BEGIN:STANDARD
TZOFFSETFROM:-0500
TZOFFSETTO:-0600
TZNAME:CST
DTSTART:20251102T070000
END:STANDARD
BEGIN:DAYLIGHT
TZOFFSETFROM:-0600
TZOFFSETTO:-0500
TZNAME:CDT
DTSTART:20260308T080000
END:DAYLIGHT
BEGIN:STANDARD
TZOFFSETFROM:-0500
TZOFFSETTO:-0600
TZNAME:CST
DTSTART:20261101T070000
END:STANDARD
END:VTIMEZONE
BEGIN:VEVENT
DTSTART;VALUE=DATE:20251025
DTEND;VALUE=DATE:20251027
DTSTAMP:20260421T132136
CREATED:20250614T194239Z
LAST-MODIFIED:20250913T202407Z
UID:10011559-1761350400-1761523199@essft.com
SUMMARY:English Springer Spaniel Club of the Central States
DESCRIPTION:Entries Close: Tuesday\, October 14\, 2025 11:59:59 PM Eastern Time(ET) on Hunt Secretary \n 
URL:https://essft.com/event/english-springer-spaniel-club-of-the-central-states-3-3/
LOCATION:Fox Ridge Farm Elizabeth\, 5004 S. Tower Road\, Elizabeth\, IL\, 61028\, United States
CATEGORIES:Field Trials - Mid West
ORGANIZER;CN="Lisa Schmeling":MAILTO:lmschmeling@gmail.com
GEO:42.309263;-90.181064
X-APPLE-STRUCTURED-LOCATION;VALUE=URI;X-ADDRESS=Fox Ridge Farm Elizabeth 5004 S. Tower Road Elizabeth IL 61028 United States;X-APPLE-RADIUS=500;X-TITLE=5004 S. Tower Road:geo:-90.181064,42.309263
END:VEVENT
END:VCALENDAR