BEGIN:VCALENDAR
VERSION:2.0
PRODID:-//English Springer Spaniel Field Trials - ECPv6.15.20//NONSGML v1.0//EN
CALSCALE:GREGORIAN
METHOD:PUBLISH
X-ORIGINAL-URL:https://essft.com
X-WR-CALDESC:Events for English Springer Spaniel Field Trials
REFRESH-INTERVAL;VALUE=DURATION:PT1H
X-Robots-Tag:noindex
X-PUBLISHED-TTL:PT1H
BEGIN:VTIMEZONE
TZID:America/Chicago
BEGIN:DAYLIGHT
TZOFFSETFROM:-0600
TZOFFSETTO:-0500
TZNAME:CDT
DTSTART:20200308T080000
END:DAYLIGHT
BEGIN:STANDARD
TZOFFSETFROM:-0500
TZOFFSETTO:-0600
TZNAME:CST
DTSTART:20201101T070000
END:STANDARD
BEGIN:DAYLIGHT
TZOFFSETFROM:-0600
TZOFFSETTO:-0500
TZNAME:CDT
DTSTART:20210314T080000
END:DAYLIGHT
BEGIN:STANDARD
TZOFFSETFROM:-0500
TZOFFSETTO:-0600
TZNAME:CST
DTSTART:20211107T070000
END:STANDARD
BEGIN:DAYLIGHT
TZOFFSETFROM:-0600
TZOFFSETTO:-0500
TZNAME:CDT
DTSTART:20220313T080000
END:DAYLIGHT
BEGIN:STANDARD
TZOFFSETFROM:-0500
TZOFFSETTO:-0600
TZNAME:CST
DTSTART:20221106T070000
END:STANDARD
BEGIN:DAYLIGHT
TZOFFSETFROM:-0600
TZOFFSETTO:-0500
TZNAME:CDT
DTSTART:20230312T080000
END:DAYLIGHT
BEGIN:STANDARD
TZOFFSETFROM:-0500
TZOFFSETTO:-0600
TZNAME:CST
DTSTART:20231105T070000
END:STANDARD
BEGIN:DAYLIGHT
TZOFFSETFROM:-0600
TZOFFSETTO:-0500
TZNAME:CDT
DTSTART:20240310T080000
END:DAYLIGHT
BEGIN:STANDARD
TZOFFSETFROM:-0500
TZOFFSETTO:-0600
TZNAME:CST
DTSTART:20241103T070000
END:STANDARD
END:VTIMEZONE
BEGIN:VEVENT
DTSTART;TZID=America/Chicago:20230902T000000
DTEND;TZID=America/Chicago:20230903T000000
DTSTAMP:20260425T104020
CREATED:20250613T173814Z
LAST-MODIFIED:20250613T173814Z
UID:10011010-1693612800-1693699200@essft.com
SUMMARY:Minnesota Hunting Spaniel Association Fall Hunt Test
DESCRIPTION:Entries Close: Tuesday\, August 22\, 2023 11:59:59 PM Eastern Time(ET) \n\n		\n			\n			\n		\n\n		\n 
URL:https://essft.com/event/minnesota-hunting-spaniel-association-fall-hunt-test/
LOCATION:Good Go Ing Kennels\, Baldwin\, WI\, 54002\, United States
CATEGORIES:Hunt Tests
END:VEVENT
BEGIN:VEVENT
DTSTART;TZID=America/Chicago:20230820T000000
DTEND;TZID=America/Chicago:20230820T000000
DTSTAMP:20260425T104020
CREATED:20250613T173414Z
LAST-MODIFIED:20250613T173414Z
UID:10011002-1692489600-1692489600@essft.com
SUMMARY:WATER TEST: Springer & Cocker Minnesota Hunting Spaniel Association
DESCRIPTION:Entries Close: Saturday\, August 12\, 2023 11:59:59 PM Eastern Time(ET) on Hunt Secretary \nJudges: Brad Schindler and Randy Manore\nCLICK HERE for COCKER Water Test \nCLICK HERE for SPRINGER Water Test \n 
URL:https://essft.com/event/water-test-springer-cocker-minnesota-hunting-spaniel-association/
LOCATION:Good Go Ing Kennels\, Baldwin\, WI\, 54002\, United States
CATEGORIES:Water Test
END:VEVENT
BEGIN:VEVENT
DTSTART;TZID=America/Chicago:20230618T000000
DTEND;TZID=America/Chicago:20230618T000000
DTSTAMP:20260425T104020
CREATED:20250613T172959Z
LAST-MODIFIED:20250613T172959Z
UID:10010984-1687046400-1687046400@essft.com
SUMMARY:Minnesota Hunting Spaniel Association Working Dog Test And Training Day
DESCRIPTION:Working Dog TestAnd Training Day\nJune 18\, 2023\n8 am – Training Day\n11 am – Working Dog Test \nPigeons & Chukars available for training\nTest will be run on chukars or pigeons \nTraining day chukars $15\nPigeons $8\nWorking Dog Test $25\n$5 ground use fee for training \nJudges: Curt Poquette and Heidi Reinhardt \nEligible Breeds \nEnglish Springer Spaniel English Cocker Spaniel Cocker Spaniel\nBoykin Spaniel* Clumber Spaniel Field Spaniel\nSussex Spaniel Airedale Terrier\nTraining day birds MUST be ordered by June 3rd \n\n		\n			\n			\n		\n\n		\n 
URL:https://essft.com/event/minnesota-hunting-spaniel-association-working-dog-test-and-training-day/
LOCATION:Good Go Ing Kennels\, Baldwin\, WI\, 54002\, United States
CATEGORIES:Fun Trials
END:VEVENT
BEGIN:VEVENT
DTSTART;TZID=America/Chicago:20220903T000000
DTEND;TZID=America/Chicago:20220904T000000
DTSTAMP:20260425T104020
CREATED:20250613T043916Z
LAST-MODIFIED:20250613T043916Z
UID:10010742-1662163200-1662249600@essft.com
SUMMARY:Minnesota Hunting Spaniel Association (MHSA) Hunt Test
DESCRIPTION:Entries Close: Tuesday\, August 23\, 2022 11:59:59 PM Eastern Time(ET) on Hunt Secretary \n\n		\n			\n			\n		\n\n		\n  \n 
URL:https://essft.com/event/minnesota-hunting-spaniel-association-mhsa-hunt-test/
LOCATION:Good Go Ing Kennels\, Baldwin\, WI\, 54002\, United States
CATEGORIES:Hunt Tests
END:VEVENT
BEGIN:VEVENT
DTSTART;TZID=America/Chicago:20220507T000000
DTEND;TZID=America/Chicago:20220508T000000
DTSTAMP:20260425T104020
CREATED:20250613T043631Z
LAST-MODIFIED:20250613T043631Z
UID:10010689-1651881600-1651968000@essft.com
SUMMARY:Minnesota Hunting Spaniel Association Cocker Field Trial
DESCRIPTION:Entries Close: Tuesday\, April 26\, 2022 11:59:59 PM Eastern Time(ET) on Hunt Secretary \nJudges:  Kathy Nestor and Randy Manore
URL:https://essft.com/event/minnesota-hunting-spaniel-association-cocker-field-trial/
LOCATION:Good Go Ing Kennels\, Baldwin\, WI\, 54002\, United States
CATEGORIES:Cocker Trial
END:VEVENT
BEGIN:VEVENT
DTSTART;TZID=America/Chicago:20220409T000000
DTEND;TZID=America/Chicago:20220410T000000
DTSTAMP:20260425T104020
CREATED:20250613T043531Z
LAST-MODIFIED:20250613T043531Z
UID:10010665-1649462400-1649548800@essft.com
SUMMARY:St. Croix Valley Spaniel Club
DESCRIPTION:Entries Close: Tuesday\, March 29\, 2022 11:59:59 PM Eastern Time(ET) on Hunt Secretary \nJudges: Jeff Cubitt and Clay Earl
URL:https://essft.com/event/st-croix-valley-spaniel-club-12/
LOCATION:Good Go Ing Kennels\, Baldwin\, WI\, 54002\, United States
CATEGORIES:Field Trials - Mid West
END:VEVENT
BEGIN:VEVENT
DTSTART;TZID=America/Chicago:20210605T000000
DTEND;TZID=America/Chicago:20210605T000000
DTSTAMP:20260425T104020
CREATED:20250613T034148Z
LAST-MODIFIED:20250613T034148Z
UID:10010455-1622851200-1622851200@essft.com
SUMMARY:Minnesota Hunting Spaniel Assoc.  - Working Dog Test
DESCRIPTION:Date: June 5th\nTime: 12pm\nLocation: Good Go Ing kennels\nJudges: Jim Ramacier and/or Bethann Wiley\nGame: Chuckars\n\n\nThe cost is $30\nPaper entry that day.\n\n\nApproved for:\nEnglish Springer Springers\nCocker Spaniels\nEnglish Cocker Spaniels\nField Spaniels\nClumber Spaniels\nWelsh Springer Spaniels\nBoykin Spaniel\nAiredale Terriers (flushing dog)\nSussex Spaniels
URL:https://essft.com/event/minnesota-hunting-spaniel-assoc-working-dog-test/
LOCATION:Good Go Ing Kennels\, Baldwin\, WI\, 54002\, United States
CATEGORIES:Hunt Tests
END:VEVENT
END:VCALENDAR