BEGIN:VCALENDAR
VERSION:2.0
PRODID:-//English Springer Spaniel Field Trials - ECPv6.15.20//NONSGML v1.0//EN
CALSCALE:GREGORIAN
METHOD:PUBLISH
X-ORIGINAL-URL:https://essft.com
X-WR-CALDESC:Events for English Springer Spaniel Field Trials
REFRESH-INTERVAL;VALUE=DURATION:PT1H
X-Robots-Tag:noindex
X-PUBLISHED-TTL:PT1H
BEGIN:VTIMEZONE
TZID:America/Chicago
BEGIN:DAYLIGHT
TZOFFSETFROM:-0600
TZOFFSETTO:-0500
TZNAME:CDT
DTSTART:20170312T080000
END:DAYLIGHT
BEGIN:STANDARD
TZOFFSETFROM:-0500
TZOFFSETTO:-0600
TZNAME:CST
DTSTART:20171105T070000
END:STANDARD
BEGIN:DAYLIGHT
TZOFFSETFROM:-0600
TZOFFSETTO:-0500
TZNAME:CDT
DTSTART:20180311T080000
END:DAYLIGHT
BEGIN:STANDARD
TZOFFSETFROM:-0500
TZOFFSETTO:-0600
TZNAME:CST
DTSTART:20181104T070000
END:STANDARD
BEGIN:DAYLIGHT
TZOFFSETFROM:-0600
TZOFFSETTO:-0500
TZNAME:CDT
DTSTART:20190310T080000
END:DAYLIGHT
BEGIN:STANDARD
TZOFFSETFROM:-0500
TZOFFSETTO:-0600
TZNAME:CST
DTSTART:20191103T070000
END:STANDARD
END:VTIMEZONE
BEGIN:VEVENT
DTSTART;TZID=America/Chicago:20181027T000000
DTEND;TZID=America/Chicago:20181028T000000
DTSTAMP:20260423T155616
CREATED:20250611T200625Z
LAST-MODIFIED:20250611T200625Z
UID:10009814-1540598400-1540684800@essft.com
SUMMARY:English Springer Spaniel Field Trial Association (The Parent Club)
DESCRIPTION:Entries Close: Thursday\, October 18\, 2018 with the FTS \nJudges:  Alex Bradley and Bill Gates\nTime – 7:30 AM Saturday October 27 and 7:30 AM Sunday October 28 \n  \nESSFTA 2018 Premium \n  \n\n		\n			\n			\n		\n\n		\n  \n[wunderground location=”Millerton\, NY” numdays=”5″ showdata=”alert\,daynames\,pop\,icon\,highlow\,conditions\,date” layout=”table-horizontal”] \n 
URL:https://essft.com/event/english-springer-spaniel-field-trial-association-the-parent-club/
LOCATION:Heath Coat Farm\, 148 Morse Hill Rd\, Millerton\, NY 12546\, USA\, Millerton\, New York\, 12546\, United States
CATEGORIES:Field Trials - East
ORGANIZER;CN="Deborah Olszewski":MAILTO:dmoski@aol.com
GEO:41.895338;-73.569812
X-APPLE-STRUCTURED-LOCATION;VALUE=URI;X-ADDRESS=Heath Coat Farm 148 Morse Hill Rd Millerton NY 12546 USA Millerton New York 12546 United States;X-APPLE-RADIUS=500;X-TITLE=148 Morse Hill Rd\, Millerton\, NY 12546\, USA:geo:-73.569812,41.895338
END:VEVENT
END:VCALENDAR