BEGIN:VCALENDAR
VERSION:2.0
PRODID:-//English Springer Spaniel Field Trials - ECPv6.15.20//NONSGML v1.0//EN
CALSCALE:GREGORIAN
METHOD:PUBLISH
X-ORIGINAL-URL:https://essft.com
X-WR-CALDESC:Events for English Springer Spaniel Field Trials
REFRESH-INTERVAL;VALUE=DURATION:PT1H
X-Robots-Tag:noindex
X-PUBLISHED-TTL:PT1H
BEGIN:VTIMEZONE
TZID:America/Los_Angeles
BEGIN:DAYLIGHT
TZOFFSETFROM:-0800
TZOFFSETTO:-0700
TZNAME:PDT
DTSTART:20160313T100000
END:DAYLIGHT
BEGIN:STANDARD
TZOFFSETFROM:-0700
TZOFFSETTO:-0800
TZNAME:PST
DTSTART:20161106T090000
END:STANDARD
BEGIN:DAYLIGHT
TZOFFSETFROM:-0800
TZOFFSETTO:-0700
TZNAME:PDT
DTSTART:20170312T100000
END:DAYLIGHT
BEGIN:STANDARD
TZOFFSETFROM:-0700
TZOFFSETTO:-0800
TZNAME:PST
DTSTART:20171105T090000
END:STANDARD
BEGIN:DAYLIGHT
TZOFFSETFROM:-0800
TZOFFSETTO:-0700
TZNAME:PDT
DTSTART:20180311T100000
END:DAYLIGHT
BEGIN:STANDARD
TZOFFSETFROM:-0700
TZOFFSETTO:-0800
TZNAME:PST
DTSTART:20181104T090000
END:STANDARD
END:VTIMEZONE
BEGIN:VEVENT
DTSTART;TZID=America/Los_Angeles:20170930T000000
DTEND;TZID=America/Los_Angeles:20171001T000000
DTSTAMP:20260424T004258
CREATED:20250611T174430Z
LAST-MODIFIED:20250611T174430Z
UID:10009541-1506729600-1506816000@essft.com
SUMMARY:Northwest ESS Club FT
DESCRIPTION:Entries close: Wednesday\, September 20\, 2017 via mail \nJudges:  Jim O’Shea and Greg Johnson \n2017 Northwest ESS Fall FT Premiuim \n2017 NWESSC Fall FT Running Order \n[wunderground location=”Albany\, OR” numdays=”5″ showdata=”alert\,daynames\,pop\,icon\,highlow\,conditions\,date” layout=”table-horizontal”] 
URL:https://essft.com/event/northwest-ess-club-ft/
LOCATION:King Ranch\, Albany\, OR\, USA\, Albany\, Oregon\, United States
CATEGORIES:Field Trials - West
ORGANIZER;CN="Paula Mazurek":MAILTO:mtmyst@cablespeed.com
GEO:44.636511;-123.105928
X-APPLE-STRUCTURED-LOCATION;VALUE=URI;X-ADDRESS=King Ranch Albany OR USA Albany Oregon United States;X-APPLE-RADIUS=500;X-TITLE=Albany\, OR\, USA:geo:-123.105928,44.636511
END:VEVENT
END:VCALENDAR