BEGIN:VCALENDAR
VERSION:2.0
PRODID:-//English Springer Spaniel Field Trials - ECPv6.15.20//NONSGML v1.0//EN
CALSCALE:GREGORIAN
METHOD:PUBLISH
X-WR-CALNAME:English Springer Spaniel Field Trials
X-ORIGINAL-URL:https://essft.com
X-WR-CALDESC:Events for English Springer Spaniel Field Trials
REFRESH-INTERVAL;VALUE=DURATION:PT1H
X-Robots-Tag:noindex
X-PUBLISHED-TTL:PT1H
BEGIN:VTIMEZONE
TZID:America/Chicago
BEGIN:DAYLIGHT
TZOFFSETFROM:-0600
TZOFFSETTO:-0500
TZNAME:CDT
DTSTART:20180311T080000
END:DAYLIGHT
BEGIN:STANDARD
TZOFFSETFROM:-0500
TZOFFSETTO:-0600
TZNAME:CST
DTSTART:20181104T070000
END:STANDARD
BEGIN:DAYLIGHT
TZOFFSETFROM:-0600
TZOFFSETTO:-0500
TZNAME:CDT
DTSTART:20190310T080000
END:DAYLIGHT
BEGIN:STANDARD
TZOFFSETFROM:-0500
TZOFFSETTO:-0600
TZNAME:CST
DTSTART:20191103T070000
END:STANDARD
BEGIN:DAYLIGHT
TZOFFSETFROM:-0600
TZOFFSETTO:-0500
TZNAME:CDT
DTSTART:20200308T080000
END:DAYLIGHT
BEGIN:STANDARD
TZOFFSETFROM:-0500
TZOFFSETTO:-0600
TZNAME:CST
DTSTART:20201101T070000
END:STANDARD
BEGIN:DAYLIGHT
TZOFFSETFROM:-0600
TZOFFSETTO:-0500
TZNAME:CDT
DTSTART:20210314T080000
END:DAYLIGHT
BEGIN:STANDARD
TZOFFSETFROM:-0500
TZOFFSETTO:-0600
TZNAME:CST
DTSTART:20211107T070000
END:STANDARD
BEGIN:DAYLIGHT
TZOFFSETFROM:-0600
TZOFFSETTO:-0500
TZNAME:CDT
DTSTART:20220313T080000
END:DAYLIGHT
BEGIN:STANDARD
TZOFFSETFROM:-0500
TZOFFSETTO:-0600
TZNAME:CST
DTSTART:20221106T070000
END:STANDARD
BEGIN:DAYLIGHT
TZOFFSETFROM:-0600
TZOFFSETTO:-0500
TZNAME:CDT
DTSTART:20230312T080000
END:DAYLIGHT
BEGIN:STANDARD
TZOFFSETFROM:-0500
TZOFFSETTO:-0600
TZNAME:CST
DTSTART:20231105T070000
END:STANDARD
BEGIN:DAYLIGHT
TZOFFSETFROM:-0600
TZOFFSETTO:-0500
TZNAME:CDT
DTSTART:20240310T080000
END:DAYLIGHT
BEGIN:STANDARD
TZOFFSETFROM:-0500
TZOFFSETTO:-0600
TZNAME:CST
DTSTART:20241103T070000
END:STANDARD
END:VTIMEZONE
BEGIN:VTIMEZONE
TZID:America/New_York
BEGIN:DAYLIGHT
TZOFFSETFROM:-0500
TZOFFSETTO:-0400
TZNAME:EDT
DTSTART:20160313T070000
END:DAYLIGHT
BEGIN:STANDARD
TZOFFSETFROM:-0400
TZOFFSETTO:-0500
TZNAME:EST
DTSTART:20161106T060000
END:STANDARD
BEGIN:DAYLIGHT
TZOFFSETFROM:-0500
TZOFFSETTO:-0400
TZNAME:EDT
DTSTART:20170312T070000
END:DAYLIGHT
BEGIN:STANDARD
TZOFFSETFROM:-0400
TZOFFSETTO:-0500
TZNAME:EST
DTSTART:20171105T060000
END:STANDARD
BEGIN:DAYLIGHT
TZOFFSETFROM:-0500
TZOFFSETTO:-0400
TZNAME:EDT
DTSTART:20180311T070000
END:DAYLIGHT
BEGIN:STANDARD
TZOFFSETFROM:-0400
TZOFFSETTO:-0500
TZNAME:EST
DTSTART:20181104T060000
END:STANDARD
END:VTIMEZONE
BEGIN:VEVENT
DTSTART;TZID=America/Chicago:20230325T000000
DTEND;TZID=America/Chicago:20230326T000000
DTSTAMP:20260422T072628
CREATED:20250613T165156Z
LAST-MODIFIED:20250613T165156Z
UID:10010916-1679702400-1679788800@essft.com
SUMMARY:Susquehanna Valley ESSC Spring Field Trial 2023
DESCRIPTION:Entries Close: Tuesday\, March 14\, 2023 11:59:59 PM Eastern Time(ET) on Hunt Secretary \nJudges:  John Bruggeman and Mark Matthiesen \n 
URL:https://essft.com/event/susquehanna-valley-essc-spring-field-trial-2023/
LOCATION:Sinking Valley\, Tyrone\, PA 16686\, USA\, Tyrone\, Pennsylvania\, 16686\, United States
CATEGORIES:Field Trials - Mid East
GEO:40.670618;-78.238624
X-APPLE-STRUCTURED-LOCATION;VALUE=URI;X-ADDRESS=Sinking Valley Tyrone PA 16686 USA Tyrone Pennsylvania 16686 United States;X-APPLE-RADIUS=500;X-TITLE=Tyrone\, PA 16686\, USA:geo:-78.238624,40.670618
END:VEVENT
BEGIN:VEVENT
DTSTART;TZID=America/Chicago:20221212T000000
DTEND;TZID=America/Chicago:20221212T000000
DTSTAMP:20260422T072628
CREATED:20250613T044501Z
LAST-MODIFIED:20250613T044501Z
UID:10010855-1670803200-1670803200@essft.com
SUMMARY:Keystone English Springer Spaniel Club
DESCRIPTION:Entries Close: Thursday\, December 1\, 2022 11:59:59 PM Eastern Time(ET) on Hunt Secretary \nJudges: Todd Agnew and Mike Nolan\n\n		\n			\n			\n		\n\n		\n  \n 
URL:https://essft.com/event/keystone-english-springer-spaniel-club-9/
LOCATION:Sinking Valley\, Tyrone\, PA 16686\, USA\, Tyrone\, Pennsylvania\, 16686\, United States
CATEGORIES:Field Trials - East
ORGANIZER;CN="Barbara Granatir":MAILTO:sandyhilless@comcast.net
GEO:40.670618;-78.238624
X-APPLE-STRUCTURED-LOCATION;VALUE=URI;X-ADDRESS=Sinking Valley Tyrone PA 16686 USA Tyrone Pennsylvania 16686 United States;X-APPLE-RADIUS=500;X-TITLE=Tyrone\, PA 16686\, USA:geo:-78.238624,40.670618
END:VEVENT
BEGIN:VEVENT
DTSTART;TZID=America/Chicago:20221210T000000
DTEND;TZID=America/Chicago:20221211T000000
DTSTAMP:20260422T072628
CREATED:20250613T044446Z
LAST-MODIFIED:20250613T044446Z
UID:10010854-1670630400-1670716800@essft.com
SUMMARY:Mid-Penn ESSC Fall Field Trial
DESCRIPTION:Entries Close: Tuesday\, November 29\, 2022 11:59:59 PM Eastern Time(ET) on Hunt Secretary \nJudges: Michael Keogh and John Meyer
URL:https://essft.com/event/mid-penn-essc-fall-field-trial/
LOCATION:Sinking Valley\, Tyrone\, PA 16686\, USA\, Tyrone\, Pennsylvania\, 16686\, United States
CATEGORIES:Field Trials - East
GEO:40.670618;-78.238624
X-APPLE-STRUCTURED-LOCATION;VALUE=URI;X-ADDRESS=Sinking Valley Tyrone PA 16686 USA Tyrone Pennsylvania 16686 United States;X-APPLE-RADIUS=500;X-TITLE=Tyrone\, PA 16686\, USA:geo:-78.238624,40.670618
END:VEVENT
BEGIN:VEVENT
DTSTART;TZID=America/Chicago:20221020T000000
DTEND;TZID=America/Chicago:20221021T000000
DTSTAMP:20260422T072628
CREATED:20250613T044316Z
LAST-MODIFIED:20250613T044316Z
UID:10010820-1666224000-1666310400@essft.com
SUMMARY:Mid-Penn ESS Club
DESCRIPTION:Entries Close: Tuesday\, November 29\, 2022 11:59:59 PM Eastern Time(ET) on Hunt Secretary  \nJudges: George Kittle and John Meyer
URL:https://essft.com/event/mid-penn-ess-club-5/
LOCATION:Sinking Valley\, Tyrone\, PA 16686\, USA\, Tyrone\, Pennsylvania\, 16686\, United States
CATEGORIES:Field Trials - Mid East
GEO:40.670618;-78.238624
X-APPLE-STRUCTURED-LOCATION;VALUE=URI;X-ADDRESS=Sinking Valley Tyrone PA 16686 USA Tyrone Pennsylvania 16686 United States;X-APPLE-RADIUS=500;X-TITLE=Tyrone\, PA 16686\, USA:geo:-78.238624,40.670618
END:VEVENT
BEGIN:VEVENT
DTSTART;TZID=America/Chicago:20220917T000000
DTEND;TZID=America/Chicago:20220918T000000
DTSTAMP:20260422T072628
CREATED:20250613T044031Z
LAST-MODIFIED:20250613T044031Z
UID:10010768-1663372800-1663459200@essft.com
SUMMARY:Susquehanna Valley ESS Club
DESCRIPTION:Entries Close: Tuesday\, September 6\, 2022 11:59:59 PM Eastern Time(ET) on Hunt Secretary \nJudges: Paul Johannes  and Roland Snyder
URL:https://essft.com/event/susquehanna-valley-ess-club-5/
LOCATION:Sinking Valley\, Tyrone\, PA 16686\, USA\, Tyrone\, Pennsylvania\, 16686\, United States
CATEGORIES:Field Trials - Mid East
GEO:40.670618;-78.238624
X-APPLE-STRUCTURED-LOCATION;VALUE=URI;X-ADDRESS=Sinking Valley Tyrone PA 16686 USA Tyrone Pennsylvania 16686 United States;X-APPLE-RADIUS=500;X-TITLE=Tyrone\, PA 16686\, USA:geo:-78.238624,40.670618
END:VEVENT
BEGIN:VEVENT
DTSTART;TZID=America/Chicago:20220402T000000
DTEND;TZID=America/Chicago:20220403T000000
DTSTAMP:20260422T072628
CREATED:20250613T043501Z
LAST-MODIFIED:20250613T043501Z
UID:10010658-1648857600-1648944000@essft.com
SUMMARY:Mid-Atlantic Hunting Spaniel Club
DESCRIPTION:Entries Close: Tuesday\, March 22\, 2022 11:59:59 PM Eastern Time(ET) on Hunt Secretary \nJudges: Alex Cacchio and Justin Smith
URL:https://essft.com/event/mid-atlantic-hunting-spaniel-club-7/
LOCATION:Sinking Valley\, Tyrone\, PA 16686\, USA\, Tyrone\, Pennsylvania\, 16686\, United States
CATEGORIES:Field Trials - East
GEO:40.670618;-78.238624
X-APPLE-STRUCTURED-LOCATION;VALUE=URI;X-ADDRESS=Sinking Valley Tyrone PA 16686 USA Tyrone Pennsylvania 16686 United States;X-APPLE-RADIUS=500;X-TITLE=Tyrone\, PA 16686\, USA:geo:-78.238624,40.670618
END:VEVENT
BEGIN:VEVENT
DTSTART;TZID=America/Chicago:20220312T000000
DTEND;TZID=America/Chicago:20220313T000000
DTSTAMP:20260422T072628
CREATED:20250613T043402Z
LAST-MODIFIED:20250613T043402Z
UID:10010639-1647043200-1647129600@essft.com
SUMMARY:Mid-Penn ESS
DESCRIPTION:Entries Close: Tuesday\, March 1\, 2022 11:59:59 PM Eastern Time(ET) on Hunt Secretary \nJudges: Jeff Cubitt and Paul Hanscom
URL:https://essft.com/event/mid-penn-ess/
LOCATION:Sinking Valley\, Tyrone\, PA 16686\, USA\, Tyrone\, Pennsylvania\, 16686\, United States
CATEGORIES:Field Trials - Mid East
GEO:40.670618;-78.238624
X-APPLE-STRUCTURED-LOCATION;VALUE=URI;X-ADDRESS=Sinking Valley Tyrone PA 16686 USA Tyrone Pennsylvania 16686 United States;X-APPLE-RADIUS=500;X-TITLE=Tyrone\, PA 16686\, USA:geo:-78.238624,40.670618
END:VEVENT
BEGIN:VEVENT
DTSTART;TZID=America/Chicago:20220305T000000
DTEND;TZID=America/Chicago:20220306T000000
DTSTAMP:20260422T072628
CREATED:20250613T043331Z
LAST-MODIFIED:20250613T043331Z
UID:10010628-1646438400-1646524800@essft.com
SUMMARY:Keystone English Springer Spaniel Club
DESCRIPTION:Entries Close: Tuesday\, February 22\, 2022 11:59:59 PM Eastern Time(ET) on Hunt Secretary \nJudges: Kathy Nestor and Don Wagner
URL:https://essft.com/event/keystone-english-springer-spaniel-club-8/
LOCATION:Sinking Valley\, Tyrone\, PA 16686\, USA\, Tyrone\, Pennsylvania\, 16686\, United States
CATEGORIES:Field Trials - East
ORGANIZER;CN="Barbara Granatir":MAILTO:sandyhilless@comcast.net
GEO:40.670618;-78.238624
X-APPLE-STRUCTURED-LOCATION;VALUE=URI;X-ADDRESS=Sinking Valley Tyrone PA 16686 USA Tyrone Pennsylvania 16686 United States;X-APPLE-RADIUS=500;X-TITLE=Tyrone\, PA 16686\, USA:geo:-78.238624,40.670618
END:VEVENT
BEGIN:VEVENT
DTSTART;TZID=America/Chicago:20211104T000000
DTEND;TZID=America/Chicago:20211105T000000
DTSTAMP:20260422T072628
CREATED:20250613T042902Z
LAST-MODIFIED:20250613T042902Z
UID:10010571-1635984000-1636070400@essft.com
SUMMARY:Keystone English Springer Spaniel Club
DESCRIPTION:Entries Close: Monday\, October 25\, 2021 11:59:59 PM Eastern Time(ET) on Hunt Secretary \nJudges: Deborah Olszewski and Mike Nolan
URL:https://essft.com/event/keystone-english-springer-spaniel-club-7/
LOCATION:Sinking Valley\, Tyrone\, PA 16686\, USA\, Tyrone\, Pennsylvania\, 16686\, United States
CATEGORIES:Field Trials - East
GEO:40.670618;-78.238624
X-APPLE-STRUCTURED-LOCATION;VALUE=URI;X-ADDRESS=Sinking Valley Tyrone PA 16686 USA Tyrone Pennsylvania 16686 United States;X-APPLE-RADIUS=500;X-TITLE=Tyrone\, PA 16686\, USA:geo:-78.238624,40.670618
END:VEVENT
BEGIN:VEVENT
DTSTART;TZID=America/Chicago:20210918T000000
DTEND;TZID=America/Chicago:20210919T000000
DTSTAMP:20260422T072628
CREATED:20250613T034418Z
LAST-MODIFIED:20250613T034418Z
UID:10010506-1631923200-1632009600@essft.com
SUMMARY:Susquehanna Valley ESS Club
DESCRIPTION:Entries Close: Tuesday\, September 13\, 2021 11:59:59 PM Eastern Time(ET) on Hunt Secretary \nJudges:  John Leininger and Charles Squillante\n 
URL:https://essft.com/event/susquehanna-valley-ess-club-4/
LOCATION:Sinking Valley\, Tyrone\, PA 16686\, USA\, Tyrone\, Pennsylvania\, 16686\, United States
CATEGORIES:Field Trials - Mid East
GEO:40.670618;-78.238624
X-APPLE-STRUCTURED-LOCATION;VALUE=URI;X-ADDRESS=Sinking Valley Tyrone PA 16686 USA Tyrone Pennsylvania 16686 United States;X-APPLE-RADIUS=500;X-TITLE=Tyrone\, PA 16686\, USA:geo:-78.238624,40.670618
END:VEVENT
BEGIN:VEVENT
DTSTART;TZID=America/Chicago:20210313T000000
DTEND;TZID=America/Chicago:20210314T000000
DTSTAMP:20260422T072628
CREATED:20250613T030050Z
LAST-MODIFIED:20250613T030050Z
UID:10010397-1615593600-1615680000@essft.com
SUMMARY:Mid-Penn ESSC
DESCRIPTION:Entries Close: Tuesday\, March 2\, 2021 11:59:59 PM Eastern Time(ET) on Hunt Secretary \nJudges: Kathy Nestor and Bill Pierson
URL:https://essft.com/event/mid-penn-essc-3/
LOCATION:Sinking Valley\, Tyrone\, PA 16686\, USA\, Tyrone\, Pennsylvania\, 16686\, United States
CATEGORIES:Field Trials - Mid East
GEO:40.670618;-78.238624
X-APPLE-STRUCTURED-LOCATION;VALUE=URI;X-ADDRESS=Sinking Valley Tyrone PA 16686 USA Tyrone Pennsylvania 16686 United States;X-APPLE-RADIUS=500;X-TITLE=Tyrone\, PA 16686\, USA:geo:-78.238624,40.670618
END:VEVENT
BEGIN:VEVENT
DTSTART;TZID=America/Chicago:20210306T000000
DTEND;TZID=America/Chicago:20210307T000000
DTSTAMP:20260422T072628
CREATED:20250613T025911Z
LAST-MODIFIED:20250613T025911Z
UID:10010387-1614988800-1615075200@essft.com
SUMMARY:Keystone English Springer Spaniel Club
DESCRIPTION:Entries Close: Tuesday\, February 23\, 2021 11:59:59 PM Eastern Time(ET)  on Hunt Secretary \nJudges:  George Akkouris  and Alex Cacchio
URL:https://essft.com/event/keystone-english-springer-spaniel-club-6/
LOCATION:Sinking Valley\, Tyrone\, PA 16686\, USA\, Tyrone\, Pennsylvania\, 16686\, United States
CATEGORIES:Field Trials - East
ORGANIZER;CN="Barbara Granatir":MAILTO:sandyhilless@comcast.net
GEO:40.670618;-78.238624
X-APPLE-STRUCTURED-LOCATION;VALUE=URI;X-ADDRESS=Sinking Valley Tyrone PA 16686 USA Tyrone Pennsylvania 16686 United States;X-APPLE-RADIUS=500;X-TITLE=Tyrone\, PA 16686\, USA:geo:-78.238624,40.670618
END:VEVENT
BEGIN:VEVENT
DTSTART;TZID=America/Chicago:20201029T000000
DTEND;TZID=America/Chicago:20201030T000000
DTSTAMP:20260422T072628
CREATED:20250613T024442Z
LAST-MODIFIED:20250613T024442Z
UID:10010332-1603929600-1604016000@essft.com
SUMMARY:Keystone English Springer Spaniel Club
DESCRIPTION:Entries Close: Monday\, October 19\, 2020 11:59:59 PM CT on Entry Express \nJudges: Kevin Battistoni and Katie Gorecki\n  \n\n		\n			\n			\n		\n\n		\n  \n 
URL:https://essft.com/event/keystone-english-springer-spaniel-club-5/
LOCATION:Sinking Valley\, Tyrone\, PA 16686\, USA\, Tyrone\, Pennsylvania\, 16686\, United States
CATEGORIES:Field Trials - East
ORGANIZER;CN="Barbara Granatir":MAILTO:sandyhilless@comcast.net
GEO:40.670618;-78.238624
X-APPLE-STRUCTURED-LOCATION;VALUE=URI;X-ADDRESS=Sinking Valley Tyrone PA 16686 USA Tyrone Pennsylvania 16686 United States;X-APPLE-RADIUS=500;X-TITLE=Tyrone\, PA 16686\, USA:geo:-78.238624,40.670618
END:VEVENT
BEGIN:VEVENT
DTSTART;TZID=America/Chicago:20200321T000000
DTEND;TZID=America/Chicago:20200322T000000
DTSTAMP:20260422T072628
CREATED:20250612T032328Z
LAST-MODIFIED:20250612T032328Z
UID:10010190-1584748800-1584835200@essft.com
SUMMARY:Susquehanna Valley English Springer Spaniel Club
DESCRIPTION:Entries will close at 11:59 PM Central Time on 03/09/2020 on Entry Express. \nJudges: Kevin Battistoni & George Kittle
URL:https://essft.com/event/susquehanna-valley-english-springer-spaniel-club-3/
LOCATION:Sinking Valley\, Tyrone\, PA 16686\, USA\, Tyrone\, Pennsylvania\, 16686\, United States
CATEGORIES:Field Trials - Mid East
GEO:40.670618;-78.238624
X-APPLE-STRUCTURED-LOCATION;VALUE=URI;X-ADDRESS=Sinking Valley Tyrone PA 16686 USA Tyrone Pennsylvania 16686 United States;X-APPLE-RADIUS=500;X-TITLE=Tyrone\, PA 16686\, USA:geo:-78.238624,40.670618
END:VEVENT
BEGIN:VEVENT
DTSTART;TZID=America/Chicago:20191031T000000
DTEND;TZID=America/Chicago:20191101T000000
DTSTAMP:20260422T072628
CREATED:20250612T025216Z
LAST-MODIFIED:20250612T025216Z
UID:10010111-1572480000-1572566400@essft.com
SUMMARY:Keystone English Springer Spaniel Club
DESCRIPTION:Entries Close: Monday\, October 21\, 2019 at 11:59 PM  on Entry Express \nJudges:  Cindy Goode-Wilson and Debbie Olszewski\n  \n\n		\n			\n			\n		\n\n		\n  \n  \n 
URL:https://essft.com/event/keystone-english-springer-spaniel-club-3/
LOCATION:Sinking Valley\, Tyrone\, PA 16686\, USA\, Tyrone\, Pennsylvania\, 16686\, United States
CATEGORIES:Field Trials - East
ORGANIZER;CN="Barbara Granatir":MAILTO:sandyhilless@comcast.net
GEO:40.670618;-78.238624
X-APPLE-STRUCTURED-LOCATION;VALUE=URI;X-ADDRESS=Sinking Valley Tyrone PA 16686 USA Tyrone Pennsylvania 16686 United States;X-APPLE-RADIUS=500;X-TITLE=Tyrone\, PA 16686\, USA:geo:-78.238624,40.670618
END:VEVENT
BEGIN:VEVENT
DTSTART;TZID=America/Chicago:20191017T000000
DTEND;TZID=America/Chicago:20191018T000000
DTSTAMP:20260422T072628
CREATED:20250612T024212Z
LAST-MODIFIED:20250612T024212Z
UID:10010089-1571270400-1571356800@essft.com
SUMMARY:Mid-Penn
DESCRIPTION:Entries Close: Monday\, October 7\, 2019 at 11:59 PM on Entry Express \nJudges:  Brent Blundell and Aaron Wendel
URL:https://essft.com/event/mid-penn-3/
LOCATION:Sinking Valley\, Tyrone\, PA 16686\, USA\, Tyrone\, Pennsylvania\, 16686\, United States
CATEGORIES:Field Trials - Mid East
GEO:40.670618;-78.238624
X-APPLE-STRUCTURED-LOCATION;VALUE=URI;X-ADDRESS=Sinking Valley Tyrone PA 16686 USA Tyrone Pennsylvania 16686 United States;X-APPLE-RADIUS=500;X-TITLE=Tyrone\, PA 16686\, USA:geo:-78.238624,40.670618
END:VEVENT
BEGIN:VEVENT
DTSTART;TZID=America/Chicago:20190302T000000
DTEND;TZID=America/Chicago:20190303T000000
DTSTAMP:20260422T072628
CREATED:20250611T202210Z
LAST-MODIFIED:20250611T202210Z
UID:10009883-1551484800-1551571200@essft.com
SUMMARY:Keystone English Springer Spaniel Club 2019 Spring Field Trial
DESCRIPTION:Entries Close: Monday\, February 18\, 2019 11:59:59 PM CT on Entry Express \nJudges: Ralph Botti and Kathy Nestor\n  \n\n		\n			\n			\n		\n\n		\n 
URL:https://essft.com/event/keystone-english-springer-spaniel-club-2019-spring-field-trial/
LOCATION:Sinking Valley\, Tyrone\, PA 16686\, USA\, Tyrone\, Pennsylvania\, 16686\, United States
CATEGORIES:Field Trials - East
ORGANIZER;CN="Barbara Granatir":MAILTO:sandyhilless@comcast.net
GEO:40.670618;-78.238624
X-APPLE-STRUCTURED-LOCATION;VALUE=URI;X-ADDRESS=Sinking Valley Tyrone PA 16686 USA Tyrone Pennsylvania 16686 United States;X-APPLE-RADIUS=500;X-TITLE=Tyrone\, PA 16686\, USA:geo:-78.238624,40.670618
END:VEVENT
BEGIN:VEVENT
DTSTART;TZID=America/New_York:20171104T000000
DTEND;TZID=America/New_York:20171105T000000
DTSTAMP:20260422T072628
CREATED:20250611T175914Z
LAST-MODIFIED:20250611T175914Z
UID:10009586-1509753600-1509840000@essft.com
SUMMARY:Valley Forge Field Trial Assoc.
DESCRIPTION:Entries Close:  Monday\, October 23\, 2017 on Entry Express \nJudges: Dan Lussen and Peter Renwick \n2017 Valley Forge Fall FT Premium \n  \n[wunderground location=”Tyrone\, PA” numdays=”5″ showdata=”alert\,daynames\,pop\,icon\,highlow\,conditions\,date” layout=”table-horizontal”]
URL:https://essft.com/event/valley-forge-field-trial-assoc/
LOCATION:Sinking Valley\, Tyrone\, PA 16686\, USA\, Tyrone\, Pennsylvania\, 16686\, United States
CATEGORIES:Field Trials - East
ORGANIZER;CN="Bill Pierson":MAILTO:bill@Pierson.com
GEO:40.670618;-78.238624
X-APPLE-STRUCTURED-LOCATION;VALUE=URI;X-ADDRESS=Sinking Valley Tyrone PA 16686 USA Tyrone Pennsylvania 16686 United States;X-APPLE-RADIUS=500;X-TITLE=Tyrone\, PA 16686\, USA:geo:-78.238624,40.670618
END:VEVENT
BEGIN:VEVENT
DTSTART;TZID=America/New_York:20171102T000000
DTEND;TZID=America/New_York:20171103T000000
DTSTAMP:20260422T072628
CREATED:20250611T175914Z
LAST-MODIFIED:20250611T175914Z
UID:10009582-1509580800-1509667200@essft.com
SUMMARY:Keystone ESS Club
DESCRIPTION:Entries Close: Sunday\, October 23\, 2017 on Entry Express \nJudges: George Kittle and Bill Pierson \n2017 Keystone Fall FT Premium \n  \n[wunderground location=”Tyrone\, PA” numdays=”5″ showdata=”alert\,daynames\,pop\,icon\,highlow\,conditions\,date” layout=”table-horizontal”]
URL:https://essft.com/event/keystone-ess-club-3/
LOCATION:Sinking Valley\, Tyrone\, PA 16686\, USA\, Tyrone\, Pennsylvania\, 16686\, United States
CATEGORIES:Field Trials - East
ORGANIZER;CN="Barbara Granatir":MAILTO:sandyhilless@comcast.net
GEO:40.670618;-78.238624
X-APPLE-STRUCTURED-LOCATION;VALUE=URI;X-ADDRESS=Sinking Valley Tyrone PA 16686 USA Tyrone Pennsylvania 16686 United States;X-APPLE-RADIUS=500;X-TITLE=Tyrone\, PA 16686\, USA:geo:-78.238624,40.670618
END:VEVENT
BEGIN:VEVENT
DTSTART;TZID=America/New_York:20171020T000000
DTEND;TZID=America/New_York:20171021T000000
DTSTAMP:20260422T072628
CREATED:20250611T175435Z
LAST-MODIFIED:20250611T175435Z
UID:10009566-1508457600-1508544000@essft.com
SUMMARY:New Jersey Spaniel FT Club
DESCRIPTION:Entries Close: Sunday\, October 9\, 2017 on Entry Express \nJudges: Vern Knapp and Chuck Urland \n2017 New Jersey Fall FT Premium \n[wunderground location=”Tyrone\, PA” numdays=”5″ showdata=”alert\,daynames\,pop\,icon\,highlow\,conditions\,date” layout=”table-horizontal”] 
URL:https://essft.com/event/new-jersey-spaniel-ft-club/
LOCATION:Sinking Valley\, Tyrone\, PA 16686\, USA\, Tyrone\, Pennsylvania\, 16686\, United States
CATEGORIES:Field Trials - East
ORGANIZER;CN="Connie Soper":MAILTO:constancesoper@hotmail.com
GEO:40.670618;-78.238624
X-APPLE-STRUCTURED-LOCATION;VALUE=URI;X-ADDRESS=Sinking Valley Tyrone PA 16686 USA Tyrone Pennsylvania 16686 United States;X-APPLE-RADIUS=500;X-TITLE=Tyrone\, PA 16686\, USA:geo:-78.238624,40.670618
END:VEVENT
END:VCALENDAR