BEGIN:VCALENDAR
VERSION:2.0
PRODID:-//English Springer Spaniel Field Trials - ECPv6.15.20//NONSGML v1.0//EN
CALSCALE:GREGORIAN
METHOD:PUBLISH
X-WR-CALNAME:English Springer Spaniel Field Trials
X-ORIGINAL-URL:https://essft.com
X-WR-CALDESC:Events for English Springer Spaniel Field Trials
REFRESH-INTERVAL;VALUE=DURATION:PT1H
X-Robots-Tag:noindex
X-PUBLISHED-TTL:PT1H
BEGIN:VTIMEZONE
TZID:America/Chicago
BEGIN:DAYLIGHT
TZOFFSETFROM:-0600
TZOFFSETTO:-0500
TZNAME:CDT
DTSTART:20170312T080000
END:DAYLIGHT
BEGIN:STANDARD
TZOFFSETFROM:-0500
TZOFFSETTO:-0600
TZNAME:CST
DTSTART:20171105T070000
END:STANDARD
BEGIN:DAYLIGHT
TZOFFSETFROM:-0600
TZOFFSETTO:-0500
TZNAME:CDT
DTSTART:20180311T080000
END:DAYLIGHT
BEGIN:STANDARD
TZOFFSETFROM:-0500
TZOFFSETTO:-0600
TZNAME:CST
DTSTART:20181104T070000
END:STANDARD
BEGIN:DAYLIGHT
TZOFFSETFROM:-0600
TZOFFSETTO:-0500
TZNAME:CDT
DTSTART:20190310T080000
END:DAYLIGHT
BEGIN:STANDARD
TZOFFSETFROM:-0500
TZOFFSETTO:-0600
TZNAME:CST
DTSTART:20191103T070000
END:STANDARD
END:VTIMEZONE
BEGIN:VEVENT
DTSTART;TZID=America/Chicago:20180223T000000
DTEND;TZID=America/Chicago:20180224T000000
DTSTAMP:20260424T065600
CREATED:20250611T180601Z
LAST-MODIFIED:20250611T180601Z
UID:10009619-1519344000-1519430400@essft.com
SUMMARY:Central Virginia ESS Field Trial Club
DESCRIPTION:Entries Close: Monday\, February 12\, 2018 on Entry Express. \nJudges: Mike Elasser and Josh Davis\n  \n\n		\n			\n			\n		\n\n		\n  \n[wunderground location=”Berkeley Springs\, WV” numdays=”5″ showdata=”alert\,daynames\,pop\,icon\,highlow\,conditions\,date” layout=”table-horizontal”]
URL:https://essft.com/event/central-virginia-ess-field-trial-club/
LOCATION:Steve Glascock Property\, 5285 Highland Ridge Rd\, Berkeley Springs\, WV 25411\, USA\, Berkeley Springs\, West Virginia\, 25411\, United States
CATEGORIES:Field Trials - East
GEO:39.523928;-78.19377
X-APPLE-STRUCTURED-LOCATION;VALUE=URI;X-ADDRESS=Steve Glascock Property 5285 Highland Ridge Rd Berkeley Springs WV 25411 USA Berkeley Springs West Virginia 25411 United States;X-APPLE-RADIUS=500;X-TITLE=5285 Highland Ridge Rd\, Berkeley Springs\, WV 25411\, USA:geo:-78.19377,39.523928
END:VEVENT
END:VCALENDAR