BEGIN:VCALENDAR
VERSION:2.0
PRODID:-//English Springer Spaniel Field Trials - ECPv6.15.20//NONSGML v1.0//EN
CALSCALE:GREGORIAN
METHOD:PUBLISH
X-WR-CALNAME:English Springer Spaniel Field Trials
X-ORIGINAL-URL:https://essft.com
X-WR-CALDESC:Events for English Springer Spaniel Field Trials
REFRESH-INTERVAL;VALUE=DURATION:PT1H
X-Robots-Tag:noindex
X-PUBLISHED-TTL:PT1H
BEGIN:VTIMEZONE
TZID:America/Chicago
BEGIN:DAYLIGHT
TZOFFSETFROM:-0600
TZOFFSETTO:-0500
TZNAME:CDT
DTSTART:20180311T080000
END:DAYLIGHT
BEGIN:STANDARD
TZOFFSETFROM:-0500
TZOFFSETTO:-0600
TZNAME:CST
DTSTART:20181104T070000
END:STANDARD
BEGIN:DAYLIGHT
TZOFFSETFROM:-0600
TZOFFSETTO:-0500
TZNAME:CDT
DTSTART:20190310T080000
END:DAYLIGHT
BEGIN:STANDARD
TZOFFSETFROM:-0500
TZOFFSETTO:-0600
TZNAME:CST
DTSTART:20191103T070000
END:STANDARD
BEGIN:DAYLIGHT
TZOFFSETFROM:-0600
TZOFFSETTO:-0500
TZNAME:CDT
DTSTART:20200308T080000
END:DAYLIGHT
BEGIN:STANDARD
TZOFFSETFROM:-0500
TZOFFSETTO:-0600
TZNAME:CST
DTSTART:20201101T070000
END:STANDARD
END:VTIMEZONE
BEGIN:VEVENT
DTSTART;TZID=America/Chicago:20190420T000000
DTEND;TZID=America/Chicago:20190421T000000
DTSTAMP:20260423T113610
CREATED:20250611T204331Z
LAST-MODIFIED:20250611T204331Z
UID:10009928-1555718400-1555804800@essft.com
SUMMARY:ESSFTA Gunning Seminar Hosted by the Maine Spaniel Field Trial Club
DESCRIPTION:  \nTo print this PDF you must click the Download PDF button  in the gray bar above (the button to the right of Zoom 100%).  Save the document to your computer and then select print from your saved copy.
URL:https://essft.com/event/essfta-gunning-seminar-hosted-by-the-maine-spaniel-field-trial-club/
LOCATION:Trail Blazers Family Club\, 102 Bills Ln\, Wells\, ME 04090\, USA\, Wells\, Maine\, 4090\, United States
CATEGORIES:Gunning Seminars
GEO:43.332647;-70.667877
X-APPLE-STRUCTURED-LOCATION;VALUE=URI;X-ADDRESS=Trail Blazers Family Club 102 Bills Ln Wells ME 04090 USA Wells Maine 4090 United States;X-APPLE-RADIUS=500;X-TITLE=102 Bills Ln\, Wells\, ME 04090\, USA:geo:-70.667877,43.332647
END:VEVENT
END:VCALENDAR