BEGIN:VCALENDAR
VERSION:2.0
PRODID:-//English Springer Spaniel Field Trials - ECPv6.15.20//NONSGML v1.0//EN
CALSCALE:GREGORIAN
METHOD:PUBLISH
X-WR-CALNAME:English Springer Spaniel Field Trials
X-ORIGINAL-URL:https://essft.com
X-WR-CALDESC:Events for English Springer Spaniel Field Trials
REFRESH-INTERVAL;VALUE=DURATION:PT1H
X-Robots-Tag:noindex
X-PUBLISHED-TTL:PT1H
BEGIN:VTIMEZONE
TZID:America/Denver
BEGIN:DAYLIGHT
TZOFFSETFROM:-0700
TZOFFSETTO:-0600
TZNAME:MDT
DTSTART:20160313T090000
END:DAYLIGHT
BEGIN:STANDARD
TZOFFSETFROM:-0600
TZOFFSETTO:-0700
TZNAME:MST
DTSTART:20161106T080000
END:STANDARD
BEGIN:DAYLIGHT
TZOFFSETFROM:-0700
TZOFFSETTO:-0600
TZNAME:MDT
DTSTART:20170312T090000
END:DAYLIGHT
BEGIN:STANDARD
TZOFFSETFROM:-0600
TZOFFSETTO:-0700
TZNAME:MST
DTSTART:20171105T080000
END:STANDARD
BEGIN:DAYLIGHT
TZOFFSETFROM:-0700
TZOFFSETTO:-0600
TZNAME:MDT
DTSTART:20180311T090000
END:DAYLIGHT
BEGIN:STANDARD
TZOFFSETFROM:-0600
TZOFFSETTO:-0700
TZNAME:MST
DTSTART:20181104T080000
END:STANDARD
END:VTIMEZONE
BEGIN:VEVENT
DTSTART;TZID=America/Denver:20171007T000000
DTEND;TZID=America/Denver:20171009T000000
DTSTAMP:20260424T002246
CREATED:20250611T175032Z
LAST-MODIFIED:20250611T175032Z
UID:10009555-1507334400-1507507200@essft.com
SUMMARY:51st Canadian National Open Field Trial Championship
DESCRIPTION:ENTRIES CLOSE: Wednesday\, September 6\, 2017 \nJUDGES\nDr. Jeffrey Cubitt\, 2320 Hallman Rd.\, New Dundee\, ON N0B 2E0\nMr. Thomas Meyer\, N14205 Kings Ct.\, Minong\, WI 54859 USA \nLOCATIONS\nPossible Locations for Land Series:\nNamaka Lake Conservation Area\, Strathmore\, Alberta 50.947944 -113.210084\nShell Buffalo Hills Conservation Ranch\, Queenstown\, Alberta 50.630605 -113.089847\nPossible Locations for Water Series:\nLangdon Reservoir\, Langdon\, Alberta 50.907498 -113.638463\nMcGregor Lake\, Milo\, Alberta 50.548831 -112.909134 \nSCHEDULE OF EVENTS\nFriday\, October 6\, 2017 10am-2pm Training Session – pheasants available at $16.00 per\npheasant. Please pre-order pheasants.\n4pm-6pm CNSFTA Meeting\nBEST WESTERN PLUS Okotoks Inn & Suites\n5pm-9pm Cocktails and Reception\nBEST WESTERN PLUS Okotoks Inn & Suites\nSaturday\, October 7\, 2017 7am-9am Breakfast\n12pm-2pm Lunch \n8am Trial Commences\n5pm Cocktails\, Reception & Silent Auction\nBEST WESTERN PLUS Okotoks Inn & Suites\n6:30pm Dinner & Speeches\nBEST WESTERN PLUS Okotoks Inn & Suites\nSunday\, October 8\, 2017 7am-9am Breakfast\n12pm-2pm Lunch\n8am Trial Continues\nMonday\, October 9\, 2017 7am-9am Breakfast\n12pm-2pm Lunch\n8am Trial Continues\nAwards Presentation will follow completion of trial \n[wunderground location=”Okotoks\, AB” numdays=”5″ showdata=”alert\,daynames\,pop\,icon\,highlow\,conditions\,date” layout=”table-horizontal”]  \n  \n 
URL:https://essft.com/event/51st-canadian-national-open-field-trial-championship/
LOCATION:Trial Headquarters\, Okotoks\, AB\, Canada\, Okotoks\, Alberta\, Canada
CATEGORIES:Canadian FT
GEO:50.725494;-113.974947
X-APPLE-STRUCTURED-LOCATION;VALUE=URI;X-ADDRESS=Trial Headquarters Okotoks AB Canada Okotoks Alberta Canada;X-APPLE-RADIUS=500;X-TITLE=Okotoks\, AB\, Canada:geo:-113.974947,50.725494
END:VEVENT
END:VCALENDAR